Workbook
Name _100: #REF!
Name _100: #REF!
Name _100: #REF!
Name _100: #REF!
Name _100: #REF!
Name _100: #REF!
Name _100: #REF!
Name _100: #REF!
Name _100: #REF!
Name ano_anterior: #REF!
Name ano_anterior: #REF!
Name ano_anterior: #REF!
Name ano_anterior: #REF!
Name ano_anterior: #REF!
Name ano_anterior: #REF!
Name ano_anterior: #REF!
Name ano_anterior: #REF!
Name ano_anterior: #REF!
Name ano_anterior: #REF!
Name ano_anterior: #REF!
Name ano_anterior: #REF!
Name language: [1]Hints!$F$1
Name language: [1]Hints!$F$1
Name language: [1]Hints!$F$1
Name language: [1]Hints!$F$1
Name language: [1]Hints!$F$1
Name language: [1]Hints!$F$1
Name language: [1]Hints!$F$1
Name language: [1]Hints!$F$1
Name language: [1]Hints!$F$1
Name language: [1]Hints!$F$1
Name language: [1]Hints!$F$1
Name language: [1]Hints!$F$1
Name Language: [2]Capa!$Q$2
Name NOI: #REF!
Name NOI: #REF!
Name NOI: #REF!
Name NOI: #REF!
Name NOI: #REF!
Name NOI: #REF!
Name NOI: #REF!
Name NOI: #REF!
Name NOI: #REF!
Name NOI: #REF!
Name NOI: #REF!
Name NOI: #REF!
Name NOIFin: #REF!
Name NOIFin: #REF!
Name NOIFin: #REF!
Name NOIFin: #REF!
Name NOIFin: #REF!
Name NOIFin: #REF!
Name NOIFin: #REF!
Name NOIFin: #REF!
Name NOIFin: #REF!
Name NOIFin: #REF!
Name NOIFin: #REF!
Name NOIFin: #REF!
Name Savassi1T07: #REF!
Name Savassi1T07: #REF!

Sheet IESC>>

Sheet Indicators - Quaterly
A1: Main Indicators Quarterly | B1: 1Q10 | C1: 2Q10 | D1: 3Q10 | E1: 4Q10 | F1: 1Q11 | G1: 2Q11 | H1: 3Q11 | I1: 4Q11 | J1: 1Q12 | K1: 2Q12 | L1: 3Q12 | M1: 4Q12 | N1: 1Q13 | O1: 2Q13 | P1: 3Q13 | Q1: 4Q13 | R1: 1Q14 | S1: 2Q14 | T1: 3Q14 | U1: 4Q14 | V1: 1Q15 | W1: 2Q15 | X1: 3Q15 | Y1: 4Q15 | Z1: 1Q16 | AA1: 2Q16 | AB1: 3Q16 | AC1: 4Q16 | AD1: 1Q17 | AE1: 2Q17 | AF1: 3Q17 | AG1: 4Q17 | AH1: 1Q18 | AI1: 2Q18 | AJ1: 3Q18 | AK1: 4Q18 | AL1: 1Q19 | AM1: 2Q19 | AN1: 3Q19 | AO1: 4Q19 | AP1: 1Q20 | AQ1: 2Q20 | AR1: 3Q20 | AS1: 4Q20 | AT1: 1Q21 | AU1: 2Q21 | AV1: 3Q21 | AW1: 4Q21
A3: Financial Indicators | B3: 1Q10 | C3: 2Q10 | D3: 3Q10 | E3: 4Q10 | F3: 1Q11 | G3: 2Q11 | H3: 3Q11 | I3: 4Q11 | J3: 1Q12 | K3: 2Q12 | L3: 3Q12 | M3: 4Q12 | N3: 1Q13 | O3: 2Q13 | P3: 3Q13 | Q3: 4Q13 | R3: 1Q14 | S3: 2Q14 | T3: 3Q14 | U3: 4Q14 | V3: 1Q15 | W3: 2Q15 | X3: 3Q15 | Y3: 4Q15 | Z3: 1Q16 | AA3: 2Q16 | AB3: 3Q16 | AC3: 4Q16 | AD3: 1Q17 | AE3: 2Q17 | AF3: 3Q17 | AG3: 4Q17 | AH3: =AH1 -> 1Q18 | AI3: =AI1 -> 2Q18 | AJ3: =AJ1 -> 3Q18 | AK3: =AK1 -> 4Q18 | AL3: =AL1 -> 1Q19 | AM3: =AM1 -> 2Q19 | AN3: =AN1 -> 3Q19 | AO3: =AO1 -> 4Q19 | ... AW3: =AW1 -> 4Q21
A4: Gross Revenues (R$ '000) | B4: 62667 | C4: 74741 | D4: 75554 | E4: 81474 | F4: 76912 | G4: 90095 | H4: 95632 | I4: 106862 | J4: 102506 | K4: 108702 | L4: 119612 | M4: 131813 | N4: 115464 | O4: 122038 | P4: 125957 | Q4: 156248 | R4: 145102 | S4: 159223 | T4: 165590 | U4: 187149 | V4: 165606 | W4: 175716 | X4: 177761 | Y4: 196600 | Z4: 180418 | AA4: 188954 | AB4: 186755 | AC4: 213043 | AD4: 192548 | AE4: 196793 | AF4: 197835 | AG4: 218292 | AH4: 192285 | AI4: 201163 | AJ4: 202173 | AK4: 230522 | AL4: 197009 | AM4: 214042 | AN4: 209459 | AO4: 241018 | AP4: 204843 | AQ4: 159989 | AR4: 179263 | AS4: 228136 | AT4: 196122 | AU4: 228158 | AV4: 255238 | AW4: 323183
A5: Net Revenues (R$ '000) | B5: 56317 | C5: 66700 | D5: 67609 | E5: 72953 | F5: 68887 | G5: 80647 | H5: 84757 | I5: 95231 | J5: 90664 | K5: 97074 | L5: 104306 | M5: 118477 | N5: 102498 | O5: 108116 | P5: 113054 | Q5: 140082 | R5: 131208 | S5: 143838 | T5: 147945 | U5: 166583 | V5: 148822 | W5: 156610 | X5: 159622 | Y5: 172141 | Z5: 160487 | AA5: 162811 | AB5: 161097 | AC5: 183752 | AD5: 167349 | AE5: 169413 | AF5: 169690 | AG5: 185704 | AH5: 168470 | AI5: 175011 | AJ5: 177553 | AK5: 200492 | AL5: 172993 | AM5: 187674 | AN5: 182378 | AO5: 211225 | AP5: 156795 | AQ5: 160914 | AR5: 182131 | AS5: 184403 | AT5: 169390 | AU5: 170302 | AV5: 212194 | AW5: 315478
A6: EBITDA (R$ '000) | B6: 35138 | C6: 49673 | D6: 55310 | E6: 44757 | F6: 41299 | G6: 57731 | H6: 65067 | I6: 70888 | J6: 60929 | K6: 82375 | L6: 165126 | M6: 97332 | N6: 82025 | O6: 71265 | P6: 77678 | Q6: 116821 | R6: 98526 | S6: 100175 | T6: 112450 | U6: 143183.47 | V6: 102673.45 | W6: 122366.46 | X6: 134730.31 | Y6: 144033.78 | Z6: 129024 | AA6: 121587 | AB6: 127925 | AC6: 142760 | AD6: 125764 | AE6: 130472 | AF6: 133842 | AG6: 150480 | AH6: 125779 | AI6: 132514 | AJ6: 141193 | AK6: 159038 | AL6: 129413 | AM6: 137672 | AN6: 168518 | AO6: 200192 | AP6: 102912 | AQ6: 114930 | AR6: 134069 | AS6: 162242 | AT6: 101440 | AU6: 108905 | AV6: 153522 | AW6: 185907
A7: EBITDA Margin | B7: 0.624 | C7: 0.745 | D7: 0.818 | E7: 0.614 | F7: 0.6 | G7: 0.716 | H7: 0.768 | I7: 0.744 | J7: 0.672 | K7: 0.849 | L7: 1.583 | M7: 0.822 | N7: 0.8 | O7: 0.659 | P7: 0.687 | Q7: 0.834 | R7: 0.751 | S7: 0.696 | T7: 0.76 | U7: 0.85953231 | V7: 0.68990772 | W7: 0.78134512 | X7: 0.84405852 | Y7: 0.83671977 | Z7: 0.80395297 | AA7: 0.74679843 | AB7: 0.79408679 | AC7: 0.77691671 | AD7: 0.75150733 | AE7: 0.77014161 | AF7: 0.78874418 | AG7: 0.8103218 | AH7: 0.74659583 | AI7: 0.757 | AJ7: 0.795 | AK7: 0.793 | AL7: 0.748 | AM7: 0.734 | AN7: 0.924 | AO7: 0.9477666 | AP7: 0.65634746 | AQ7: 0.71423245 | AR7: 0.73611302 | AS7: 0.879823 | AT7: 0.59885471 | AU7: 0.63948163 | AV7: 0.72349831 | AW7: 0.58928673
A8: Net Profit | B8: 27205 | C8: 37711 | D8: 42880 | E8: 43751 | F8: 31488 | G8: 42979 | H8: 30717 | I8: 46772 | J8: 32214 | K8: 54048 | L8: 128950 | M8: 53096 | N8: 47338 | O8: 35544 | P8: 44963 | Q8: 56440 | R8: 48135 | S8: 50134 | T8: 67082 | U8: 65358.695 | V8: 45128 | W8: 47899.92 | X8: 58442.484 | Y8: 42185.913 | Z8: 38712 | AA8: 35088 | AB8: 40623 | AC8: 49772 | AD8: 50619 | AE8: 50975 | AF8: 53061 | AG8: 66648 | AH8: 58104 | AI8: 60567 | AJ8: 65578 | AK8: 76077 | AL8: 55453 | AM8: 60112 | AN8: 86915 | AO8: 111821 | AP8: 12453 | AQ8: 46289 | AR8: 61566 | AS8: 82016 | AT8: 39840 | AU8: 279008 | AV8: -57957 | AW8: 82888
A9: Net Margin | B9: =B8/B5 -> 0.48306906 | C9: =C8/C5 -> 0.56538231 | D9: =D8/D5 -> 0.63423509 | E9: =E8/E5 -> 0.59971488 | F9: =F8/F5 -> 0.4570964 | G9: =G8/G5 -> 0.53292745 | H9: =H8/H5 -> 0.36241254 | I9: =I8/I5 -> 0.49114259 | ... Z9: =Z8/Z5 -> 0.2412158 | AA9: 0.21551369 | AB9: 0.25216484 | AC9: 0.27086508 | AD9: 0.30247566 | AE9: 0.3008919 | AF9: 0.31269374 | AG9: 0.34580838 | AH9: 0.34489227 | AI9: 0.346 | AJ9: 0.369 | AK9: 0.379 | AL9: 0.321 | AM9: 0.32 | AN9: 0.477 | AO9: 0.529 | AP9: 0.079422175 | AQ9: 0.28766298 | AR9: 0.33803142 | AS9: 0.444765 | AT9: 0.23519688 | AU9: 1.6383131 | AV9: -0.27313213 | AW9: 0.26273781
A10: FFO (R$ mil) | B10: 31619 | C10: 43248 | D10: 48089 | E10: 49026 | F10: 36544 | G10: 48989 | H10: 37240 | I10: 54914 | J10: 40571 | K10: 63557 | L10: 140158 | M10: 64690 | N10: 59230 | O10: 47601 | P10: 58223 | Q10: 73319 | R10: 66709 | S10: 71958 | T10: 90262 | U10: 89215.47 | V10: 69463.447 | W10: 73084.459 | X10: 84360.309 | Y10: 69492.778 | Z10: 66559 | AA10: 62311 | AB10: 67374 | AC10: 76272 | AD10: 77098 | AE10: 77356 | AF10: 79804 | AG10: 88517 | AH10: 85173 | AI10: 87841 | AJ10: 93046 | AK10: 103907 | AL10: 86557 | AM10: 91636 | AN10: 118863 | AO10: 145267 | AP10: 49458 | AQ10: 83570 | AR10: 98075 | AS10: 120221 | AT10: 76984 | AU10: 317735 | AV10: -18278 | AW10: 122722
A11: FFO Margin | B11: 0.561 | C11: 0.648 | D11: 0.711 | E11: 0.672 | F11: 0.53 | G11: 0.607 | H11: 0.439 | I11: 0.576 | J11: 0.447 | K11: 0.655 | L11: 1.344 | M11: 0.546 | N11: 0.578 | O11: 0.44 | P11: 0.515 | Q11: 0.523 | R11: 0.508 | S11: 0.5 | T11: 0.61 | U11: 0.53556167 | V11: 0.46675523 | W11: 0.46666534 | X11: 0.52850051 | Y11: 0.40369684 | Z11: 0.41473141 | AA11: 0.38271984 | AB11: 0.41822008 | AC11: 0.4150812 | AD11: 0.46070189 | AE11: 0.45661195 | AF11: 0.47029289 | AG11: 0.4766564 | AH11: 0.50556776 | AI11: 0.502 | AJ11: 0.524 | AK11: 0.518 | AL11: 0.5 | AM11: 0.488 | AN11: 0.652 | AO11: 0.688 | AP11: 0.315 | AQ11: 0.519 | AR11: 0.538 | AS11: 0.652 | AT11: 0.454 | AU11: 1.866 | AV11: -0.086 | AW11: 0.389
A14: Performance Indicators | B14: 1Q10 | C14: 2Q10 | D14: 3Q10 | E14: 4Q10 | F14: 1Q11 | G14: 2Q11 | H14: 3Q11 | I14: 4Q11 | J14: 1Q12 | K14: 2Q12 | L14: 3Q12 | M14: 4Q12 | N14: 1Q13 | O14: 2Q13 | P14: 3Q13 | Q14: 4Q13 | R14: 1Q14 | S14: 2Q14 | T14: 3Q14 | U14: 4Q14 | V14: 1Q15 | W14: 2Q15 | X14: 3Q15 | Y14: 4Q15 | Z14: 1Q16 | AA14: 2Q16 | AB14: 3Q16 | AC14: 4Q16 | AD14: 1Q17 | AE14: 2Q17 | AF14: 3Q17 | AG14: 4Q17 | AH14: =AH1 -> 1Q18 | AI14: =AI1 -> 2Q18 | AJ14: =AJ1 -> 3Q18 | AK14: =AK1 -> 4Q18 | AL14: =AL1 -> 1Q19 | AM14: =AM1 -> 2Q19 | AN14: =AN1 -> 3Q19 | AO14: =AO1 -> 4Q19 | ... AW14: =AW1 -> 4Q21
A15: Total GLA (sqm) | B15: 398135 | C15: 431695 | D15: 433175 | E15: 432545 | F15: 431315 | G15: 469218 | H15: 468841 | I15: 473804 | J15: 473804 | K15: 509097 | L15: 490874 | M15: 490874 | N15: 490874 | O15: 491649 | P15: 555836 | Q15: 613.010 | R15: 613577 | S15: 660500 | T15: 660500 | U15: 660500 | V15: 660500 | W15: 679671 | X15: 714959 | Y15: 714959 | Z15: 714959 | AA15: 746027 | AB15: 746027 | AC15: 746027 | AD15: 746027 | AE15: 746027 | AF15: 746027 | AG15: 746027 | AH15: ='[3]Indicadores Op'!$B$2 -> 737465.54 | AI15: 737467.31 | AJ15: 737467.31 | AK15: 757355.22 | AL15: 758335.9 | AM15: 758335.9 | AN15: 728011.9 | AO15: 709989.22 | AP15: 710574.15 | AQ15: 710509.77 | AR15: 710569.09 | AS15: 710894.76 | AT15: 711192.05 | AU15: 708485.57 | AV15: 709108.25 | AW15: 709304.42
A16: Owned GLA (sqm) | B16: 215096 | C16: 237004 | D16: 237678 | E16: 237429 | F16: 238291 | G16: 265644 | H16: 267911 | I16: 277647 | J16: 277647 | K16: 295294 | L16: 280942 | M16: 282040 | N16: 282040 | O16: 283378 | P16: 340393 | Q16: 379805 | R16: 380221 | S16: 425163 | T16: 425163 | U16: 425282 | V16: 425282 | W16: 438702 | X16: 440422.55 | Y16: 443273.31 | Z16: 443418.68 | AA16: 454604.17 | AB16: 454604.17 | AC16: 454604.17 | AD16: 454604.17 | AE16: 454604.17 | AF16: 454619.71 | AG16: 454624.89 | AH16: ='[3]Indicadores Op'!$B$3 -> 447782.81 | AI16: 447807.63 | AJ16: 447812.52 | AK16: 458566.65 | AL16: 459101.03 | AM16: 459101.03 | AN16: 456553.81 | AO16: 452933.86 | AP16: 470703.16 | AQ16: 470663.28 | AR16: 470691.66 | AS16: 470928.48 | AT16: 471002.86 | AU16: 468858.85 | AV16: 469274.91 | AW16: 469357.54
A17: Average Owned GLA (sqm) | B17: - | C17: 207924 | D17: 208598 | E17: 237429 | F17: - | G17: 225694 | H17: 266778 | I17: 272779 | J17: 277647 | K17: 285203 | L17: 288118 | M17: 281491 | N17: 282040 | O17: 282721 | P17: 302383 | Q17: 353530 | R17: 380221 | S17: 423526 | T17: 425163 | U17: 425282 | V17: 425282 | W17: 434228.67 | X17: 435375.7 | Y17: 437276.21 | Z17: 437373.12 | AA17: 452037.4 | AB17: 454603.48 | AC17: 454603.48 | AD17: 454604.17 | AE17: 454604.17 | AF17: 454614.53 | AG17: 454624.89 | AH17: ='[3]Indicadores Op'!$J$4 -> 447782.81 | AI17: 447807.63 | AJ17: 447812.52 | AK17: 451397.23 | AL17: 459101.03 | AM17: 459101.03 | AN17: 457402.89 | AO17: 452933.86 | AP17: 465799.06 | AQ17: 470663.28 | AR17: 470691.66 | AS17: 470928.48 | AT17: 471002.86 | AU17: 468858.85 | AV17: 469274.91 | AW17: 469357.54
A18: Total GLA, malls (sqm) | B18: 369055 | C18: 402615 | D18: 404095 | E18: 403465 | F18: 402235 | G18: 435263 | H18: 435292 | I18: 440255 | J18: 440255 | K18: 465548 | L18: 456919 | M18: 456919 | N18: 456919 | O18: 458100 | P18: 522287 | Q18: 579461 | R18: 580028 | S18: 626951 | T18: 626951 | U18: 626951 | V18: 626951 | W18: 646122 | X18: 681410 | Y18: 681410 | Z18: 681410 | AA18: 701786 | AB18: 701786 | AC18: 701786 | AD18: 701786 | AE18: 701786 | AF18: 701786 | AG18: 701786 | AH18: ='[3]Indicadores Op'!$J$5 -> 698594.58 | AI18: 698596.35 | AJ18: 698596.35 | AK18: 718484.26 | AL18: 719464.94 | AM18: 719464.94 | AN18: 689140.94 | AO18: 671118.26 | AP18: 671703.19 | AQ18: 671638.81 | AR18: 671698.13 | AS18: 671909.27 | AT18: 672211.88 | AU18: 669689.86 | AV18: 670312.54 | AW18: 670294.71
A19: Owned GLA, malls (sqm) | B19: 186016 | C19: 207924 | D19: 208598 | E19: 208349 | F19: 209211 | G19: 234097 | H19: 236569 | I19: 245993 | J19: 245993 | K19: 258639 | L19: 249395 | M19: 249395 | N19: 250379 | O19: 251717 | P19: 308732 | Q19: 348144 | R19: 345862 | S19: 393501 | T19: 393501 | U19: 393501 | V19: 393610 | W19: 407030 | X19: 408744.72 | Y19: 411595.48 | Z19: 411728.34 | AA19: 419064.71 | AB19: 419064.71 | AC19: 419064.71 | AD19: 419064.71 | AE19: 419064.71 | AF19: 419078.9 | AG19: 419083.64 | AH19: ='[3]Indicadores Op'!$J$6 -> 415489.61 | AI19: 415514.42 | AJ19: 415519.31 | AK19: 426273.45 | AL19: 426807.82 | AM19: 426807.82 | AN19: 424260.61 | AO19: 420640.66 | AP19: 437733.68 | AQ19: 437693.79 | AR19: 437722.18 | AS19: 437843.73 | AT19: 437923.43 | AU19: 435857.96 | AV19: 436274.02 | AW19: 436248.31
A20: Number of malls(1) | B20: 11 | C20: 12 | D20: 12 | E20: 12 | F20: 12 | G20: 13 | H20: 13 | I20: 13 | J20: 13 | K20: 14 | L20: 13 | M20: 13 | N20: 13 | O20: 13 | P20: 15 | Q20: 16 | R20: 16 | S20: 16 | T20: 16 | U20: 16 | V20: 16 | W20: 16 | X20: 17 | Y20: 17 | Z20: 17 | AA20: 17 | AB20: 17 | AC20: 17 | AD20: 17 | AE20: 17 | AF20: 17 | AG20: 17 | AH20: 17 | AI20: 17 | AJ20: 17 | AK20: 18 | AL20: 18 | AM20: 18 | AN20: 17 | AO20: 16 | AP20: 16 | AQ20: 16 | AR20: 16 | AS20: 16 | AT20: 16 | AU20: 16 | AV20: 16 | AW20: 16
A21: Total sales (R$ ’000) | B21: 1273080 | C21: 1495135 | D21: 1500665 | E21: 1990692 | F21: 1507656 | G21: 1787864 | H21: 1746690 | I21: 2321075 | J21: 1775184 | K21: 1897797 | L21: 1980254 | M21: 2553032 | N21: 1965689 | O21: 2149038 | P21: 2168132 | Q21: 2932228 | R21: 2254453 | S21: 2520032 | T21: 2468993 | U21: 3299856.9 | V21: 2486165.5 | W21: 2724638.5 | X21: 2846453.1 | Y21: 3793592.9 | Z21: 2835874 | AA21: 3085262.6 | AB21: 2901263.2 | AC21: 3896858.2 | AD21: 2910195.6 | AE21: 3248347.8 | AF21: 3097345.4 | AG21: 4018835.3 | AH21: 2973200.4 | AI21: 3252406 | AJ21: 3245305.8 | AK21: 4219623.5 | AL21: 3134792.2 | AM21: 3508228.6 | AN21: 3324207.1 | AO21: 4250371.8 | AP21: 2633733.3 | AQ21: 603633.49 | AR21: 1820455.3 | AS21: 3639343.5 | AT21: 1885292.1 | AU21: 2742934 | AV21: 3326673.5 | AW21: 4751747
A22: Same-stores sales (SSS) | B22: 0.113 | C22: 0.085 | D22: 0.096 | E22: 0.069 | F22: 0.054 | G22: 0.104 | H22: 0.075 | I22: 0.084 | J22: 0.0811 | K22: 0.073 | L22: 0.089 | M22: 0.08 | N22: 0.08 | O22: 0.068 | P22: 0.081 | Q22: 0.081 | R22: 0.074 | S22: 0.082 | T22: 0.069 | U22: 0.081 | V22: 0.072 | W22: 0.06 | X22: 0.046 | Y22: 0.04234108 | Z22: 0.018 | AA22: 0.03 | AB22: 0.01 | AC22: 0 | AD22: 0.017 | AE22: 0.041 | AF22: 0.058759934 | AG22: 0.025 | AH22: 0.011 | AI22: -0.018797828 | AJ22: 0.028648292 | AK22: 0.034407317 | AL22: 0.030676883 | AM22: 0.069203643 | AN22: 0.030856798 | AO22: 0.057036796 | AP22: -0.12853047 | AQ22: -0.70626386 | AR22: -0.3752043 | AS22: -0.118 | AT22: -0.2561852 | AU22: 2.2301821 | AV22: 0.078194651 | AW22: 0.27519298
A23: Same-area sales (SAS) | B23: 0.114 | C23: 0.104 | D23: 0.114 | E23: 0.095 | F23: 0.081 | G23: 0.136 | H23: 0.114 | I23: 0.102 | J23: 0.109 | K23: 0.075 | L23: 0.091 | M23: 0.081 | N23: 0.084 | O23: 0.073 | P23: 0.082 | Q23: 0.099 | R23: 0.076 | S23: 0.083 | T23: 0.071 | U23: 0.082 | V23: 0.073 | W23: 0.062 | X23: 0.047 | Y23: 0.052 | Z23: 0.04 | AA23: 0.032 | AB23: 0.024 | AC23: 0.002 | AD23: 0.016 | AE23: 0.051 | AF23: 0.068 | AG23: 0.031 | AH23: 0.02164968 | AI23: 0.0012493143 | AJ23: 0.047770072 | AK23: 0.049961801 | AL23: 0.045465534 | AM23: 0.072096293 | AN23: 0.042298613 | AO23: 0.073915939 | AP23: -0.095889312 | AQ23: -0.81638925 | AR23: -0.42890509 | AS23: -0.14375878 | AT23: -0.28417501 | AU23: 3.5440388 | AV23: 0.04361048 | AW23: 0.30616238
A24: Same-store rentals (SSR) | B24: 0.063 | C24: 0.063 | D24: 0.079 | E24: 0.079 | F24: 0.072 | G24: 0.116 | H24: 0.1 | I24: 0.09 | J24: 0.1005 | K24: 0.081 | L24: 0.081 | M24: 0.088 | N24: 0.141 | O24: 0.088 | P24: 0.084 | Q24: 0.109 | R24: 0.092 | S24: 0.091 | T24: 0.086 | U24: 0.087 | V24: 0.081 | W24: 0.068 | X24: 0.055 | Y24: 0.069028786 | Z24: 0.065 | AA24: 0.064 | AB24: 0.074 | AC24: 0.065 | AD24: 0.073 | AE24: 0.063 | AF24: 0.05776264 | AG24: 0.044 | AH24: 0.028 | AI24: 0.018215091 | AJ24: 0.017561171 | AK24: 0.04331316 | AL24: 0.06357253 | AM24: 0.10040556 | AN24: 0.087636037 | AO24: 0.052129372 | AP24: -0.26474241 | AQ24: -0.79121179 | AR24: -0.28526569 | AS24: -0.03272714 | AT24: -0.042 | AU24: 4.1085578 | AV24: 0.2287195 | AW24: 0.28
A25: Same-area rentals (SAR) | B25: 0.064 | C25: 0.064 | D25: 0.073 | E25: 0.091 | F25: 0.07 | G25: 0.129 | H25: 0.113 | I25: 0.096 | J25: 0.1142 | K25: 0.081 | L25: 0.09 | M25: 0.094 | N25: 0.145 | O25: 0.093 | P25: 0.085 | Q25: 0.114 | R25: 0.108 | S25: 0.093 | T25: 0.088 | U25: 0.089 | V25: 0.081 | W25: 0.068 | X25: 0.054 | Y25: 0.071 | Z25: 0.074 | AA25: 0.061 | AB25: 0.064 | AC25: 0.062 | AD25: 0.069 | AE25: 0.066 | AF25: 0.061 | AG25: 0.041 | AH25: 0.043346979 | AI25: 0.056805732 | AJ25: 0.052621686 | AK25: 0.047289397 | AL25: 0.046 | AM25: 0.074428638 | AN25: 0.062379457 | AO25: 0.045917883 | AP25: -0.27139644 | AQ25: -0.79797026 | AR25: -0.32767281 | AS25: -0.10099497 | AT25: -0.128 | AU25: 3.6761305 | AV25: 0.11853374 | AW25: 0.243
A26: Occupancy cost (% of sales) | B26: 0.12 | C26: 0.113 | D26: 0.113 | E26: 0.107 | F26: 0.122 | G26: 0.112 | H26: 0.106 | I26: 0.101 | J26: 0.116 | K26: 0.106 | L26: 0.107 | M26: 0.106 | N26: 0.116 | O26: 0.107 | P26: 0.108 | Q26: 0.108 | R26: 0.124 | S26: 0.116 | T26: 0.119 | U26: 0.11 | V26: 0.128 | W26: 0.116 | X26: 0.121 | Y26: 0.11 | Z26: 0.127 | AA26: 0.117 | AB26: 0.125 | AC26: 0.11461712 | AD26: 0.12739344 | AE26: 0.115 | AF26: 0.11999175 | AG26: 0.11249173 | AH26: 0.13019444 | AI26: 0.1175526 | AJ26: 0.11999994 | AK26: 0.11435184 | AL26: 0.1259652 | AM26: 0.11691177 | AN26: 0.11931236 | AO26: 0.1095 | AP26: 0.11530909 | AQ26: 0.22489291 | AR26: 0.14356025 | AS26: 0.12987238 | AT26: 0.16774754 | AU26: 0.12827079 | AV26: 0.12254186 | AW26: 0.113
A27: Occupancy rate | B27: 0.972 | C27: 0.972 | D27: 0.979 | E27: 0.971 | F27: 0.967 | G27: 0.966 | H27: 0.968 | I27: 0.969 | J27: 0.966 | K27: 0.961 | L27: 0.961 | M27: 0.961 | N27: 0.954 | O27: 0.958 | P27: 0.967 | Q27: 0.955 | R27: 0.95 | S27: 0.952 | T27: 0.951 | U27: 0.953 | V27: 0.96 | W27: 0.95 | X27: 0.941 | Y27: 0.94 | Z27: 0.94 | AA27: 0.938 | AB27: 0.9325 | AC27: 0.9336 | AD27: 0.93 | AE27: 0.931 | AF27: 0.933 | AG27: 0.942 | AH27: ='[3]Indicadores Op'!$J$14 -> 0.9465 | AI27: 0.94580497 | AJ27: 0.9436999 | AK27: 0.94604375 | AL27: 0.937 | AM27: 0.9210126 | AN27: 0.9242584 | AO27: 0.93989872 | AP27: 0.94138129 | AQ27: 0.93569278 | AR27: 0.91561893 | AS27: 0.90986471 | AT27: 0.903 | AU27: 0.90071271 | AV27: 0.907 | AW27: 0.92
A28: Net delinquency rate | B28: 0.037 | C28: 0.037 | D28: 0.041 | E28: 0.019 | F28: 0.031 | G28: 0.033 | H28: 0.022 | I28: 0.026 | J28: 0.025 | K28: 0.012 | L28: 0.012 | M28: 0.009 | N28: 0.016 | O28: 0.01 | P28: 0.014 | Q28: 0.014 | R28: 0.0198 | S28: 0.017 | T28: 0.01 | U28: 0.018 | V28: 0.026 | W28: 0.017 | X28: 0.024 | Y28: 0.011050608 | Z28: 0.0374 | AA28: 0.03 | AB28: 0.0105 | AC28: 0.002 | AD28: 0.036869851 | AE28: 0.012 | AF28: 0.014612328 | AG28: 0.0017 | AH28: 0.04 | AI28: 0.016309593 | AJ28: 0.0073853304 | AK28: 0.012822454 | AL28: 0.028824255 | AM28: 0.0056647959 | AN28: 0.0041308884 | AO28: -0.0079400734 | AP28: 0.037232123 | AQ28: -0.262 | AR28: 0.1343413 | AS28: 0.093 | AT28: 0.113 | AU28: -0.039539903 | AV28: 0.020832771 | AW28: 0.014
A30: (1) Considers Iguatemi Esplanada and Esplanada Shopping as one asset

Sheet Indicators - Annual
A1: Main Indicators Annual | B1: 2010 | C1: 2011 | D1: 2012 | E1: 2013 | F1: 2014 | G1: 2015 | H1: 2016 | I1: 2017 | J1: 2018 | K1: 2019 | L1: 2020 | M1: 2021
A3: Financial Indicators | B3: 2010 | C3: 2011 | D3: 2012 (2) | E3: 2013 | F3: 2014 | G3: 2015 | H3: 2016 | I3: 2017 | J3: 2018 | K3: 2019 | L3: 2020 | M3: 2021
A4: Gross Revenues (R$ '000) | B4: 294436 | C4: 369502 | D4: 462633 | E4: 519707 | F4: 657064 | G4: 715683 | H4: 769170 | I4: 805468 | J4: 826143 | K4: 861528 | L4: 772231 | M4: 1002701
A5: Net Revenues (R$ '000) | B5: 263579 | C5: 329522 | D5: 410521 | E5: 463750 | F5: 589604 | G5: 637195 | H5: 668147 | I5: 692156 | J5: 721526 | K5: 754270 | L5: 684243 | M5: 867364
A6: EBITDA (R$ '000) | B6: 184880 | C6: 235024 | D6: 405761 | E6: 347789 | F6: 454333 | G6: 503804.55 | H6: 521296 | I6: 540558 | J6: 558524 | K6: 635795 | L6: 514153 | M6: 550078
A7: Margem EBITDA | B7: 0.701 | C7: 0.713 | D7: 0.725 | E7: 0.75 | F7: 0.771 | G7: 0.79065992 | H7: 0.78021154 | I7: 0.78097712 | J7: 0.774 | K7: 0.843 | L7: 0.751 | M7: 0.634
A8: Net Profit (R$ '000) | B8: 151547 | C8: 151995 | D8: 268308 | E8: 184285 | F8: 230709 | G8: 193656.87 | H8: 164195 | I8: 221303 | J8: 260326 | K8: 314301 | L8: 202324 | M8: 344083
A9: Net Margin | B9: =B8/B5 -> 0.57495855 | C9: =C8/C5 -> 0.46125904 | D9: =D8/D5 -> 0.65357923 | E9: =E8/E5 -> 0.39738005 | F9: =F8/F5 -> 0.39129484 | G9: =G8/G5 -> 0.30392089 | H9: 0.24574682 | I9: 0.32 | J9: 0.361 | K9: 0.417 | L9: 0.29569027 | M9: 0.39669966
A10: FFO (R$ '000) | B10: 171984 | C10: 177726 | D10: 308975 | E10: 238373 | F10: 318144 | G10: 296401.55 | H10: 272516 | I10: 327635 | J10: 369967 | K10: 442323 | L10: 351324 | M10: 499467
A11: FFO Margin | B11: 0.65249508 | C11: 0.539 | D11: 0.753 | E11: 0.514 | F11: 0.54 | G11: 0.46516616 | H11: 0.40786833 | I11: 0.473 | J11: 0.513 | K11: 0.586 | L11: 0.513 | M11: 0.576
A14: Performance Indicators | B14: 2010 | C14: 2011 | D14: 2012 | E14: 2013 | F14: 2014 | G14: 2015 | H14: 2016 | I14: 2017 | J14: =J1 -> 2018 | K14: 2019 | L14: 2020 | M14: 2021
A15: Total GLA (sqm) | B15: 432545 | C15: 473804 | D15: 490874 | E15: 613.010 | F15: 660500 | G15: 714959 | H15: 746027 | I15: 746027 | J15: 757355.22 | K15: 709989.22 | L15: 710894.76 | M15: 709304.42
A16: Owned GLA (sqm) | B16: 237429 | C16: 277647 | D16: 282040 | E16: 379805 | F16: 425282 | G16: 443273.31 | H16: 454604.17 | I16: 454624.89 | J16: 458566.65 | K16: 452933.86 | L16: 470928.48 | M16: 469357.54
A17: Average Owned GLA (sqm) | B17: 224503 | C17: 257538 | D17: 281491 | E17: 321404 | F17: 413518 | G17: 431279.1 | H17: 451165.84 | I17: 454611.94 | J17: 448700.05 | K17: 457134.7 | L17: 469520.62 | M17: 469357.54
A18: Total GLA, malls (sqm) | B18: 403465 | C18: 440255 | D18: 456919 | E18: 579461 | F18: 626951 | G18: 681410 | H18: 701786 | I18: 701786 | J18: 718484.26 | K18: 671118.26 | L18: 671909.27 | M18: 670294.71
A19: Owned GLA, malls (sqm) | B19: 208249 | C19: 245993 | D19: 249395 | E19: 348144 | F19: 393501 | G19: 411595.48 | H19: 419064.71 | I19: 419083.64 | J19: 426273.45 | K19: 420640.66 | L19: 437843.73 | M19: 436248.31
A20: Number of malls (1) | B20: 12 | C20: 13 | D20: 13 | E20: 15 | F20: 16 | G20: 17 | H20: 17 | I20: 17 | J20: 18 | K20: 16 | L20: 16 | M20: 16
A21: Total sales (R$ ’000) | B21: 6259572 | C21: 7363285 | D21: 8115637 | E21: 9128208 | F21: 10544580 | G21: 11850850 | H21: 12719258 | I21: 13272439 | J21: 13690536 | K21: 14217600 | L21: 8697165.7 | M21: 12706647
A22: Same-stores sales (SSS) | B22: 0.087 | C22: 0.0708 | D22: 0.0788 | E22: 0.078 | F22: 0.078 | G22: 0.05508527 | H22: 0.011 | I22: 0.035 | J22: 0.015076593 | K22: 0.047950363 | L22: -0.28087341 | M22: 0.34683553
A23: Same-area sales (SAS) | B23: 0.102 | C23: 0.0951 | D23: 0.0813 | E23: 0.078 | F23: 0.08 | G23: 0.058 | H23: 0.02 | I23: 0.049 | J23: 0.031501142 | K23: 0.060691998 | L23: -0.36225576 | M23: 0.46101006
A24: Same-store rentals (SSR) | B24: 0.067 | C24: 0.083 | D24: 0.0968 | E24: 0.105 | F24: 0.091 | G24: 0.068 | H24: 0.064 | I24: 0.058 | J24: 0.026955411 | K24: 0.073430796 | L24: -0.24520876 | M24: 0.517
A25: Same-area rentals (SAR) | B25: 0.073 | C25: 0.088 | D25: 0.098 | E25: 0.108 | F25: 0.093 | G25: 0.068 | H25: 0.069 | I25: 0.059 | J25: 0.043737525 | K25: 0.05680003 | L25: -0.28479214 | M25: 0.448
A26: Occupancy cost (% of sales) | B26: 0.113 | C26: 0.105 | D26: 0.107 | E26: 0.113 | F26: 0.116 | G26: 0.116 | H26: 0.11981369 | I26: 0.12086111 | J26: 0.12033817 | K26: 0.11682306 | L26: 0.13532543 | M26: 0.126
A27: Occupancy rate | B27: 0.971 | C27: 0.97 | D27: 0.961 | E27: 0.963 | F27: 0.952 | G27: 0.946 | H27: 0.9347 | I27: 0.936 | J27: 0.94552142 | K27: 0.93049704 | L27: 0.93089767 | M27: 0.90773627
A28: Net delinquency rate | B28: 0.019 | C28: 0.022 | D28: 0.016 | E28: 0.014 | F28: 0.017 | G28: 0.019941081 | H28: 0.028 | I28: 0.017561255 | J28: 0.019751524 | K28: 0.0075159414 | L28: 0.058066518 | M28: 0.024
A30: (1) Considers Esplanada Shopping and Iguatemi Esplanada as a single asset.
A31: (2) Ebitda and Ebitda margin adjusted by the sale of Shopping Boulevard Rio Iguatemi would be R$ 297.556 thousand and 72.5%, respectively.

Sheet Portfolio
A1: Iguatemi Portfolio | B1: 1Q10 | C1: 2Q10 | D1: 3Q10 | E1: 4Q10 | F1: 1Q11 | G1: 2Q11 | H1: 3Q11 | I1: 4Q11 | J1: 1Q12 | K1: 2Q12 | L1: 3Q12 | M1: 4Q12 | N1: 1Q13 | O1: 2Q13 | P1: 3Q13 | Q1: 4Q13 | R1: 1Q14 | S1: 2Q14 | T1: 3Q14 | U1: 4Q14 | V1: 1Q15 | W1: 2Q15 | X1: 3Q15 | Y1: 4Q15 | Z1: 1Q16 | AA1: 2Q16 | AB1: 3Q16 | AC1: 4Q16 | AD1: 1Q17 | AE1: 2Q17 | AF1: 3Q17 | AG1: 4Q17 | AH1: 1Q184 | AI1: ='Indicators - Quaterly'!AI1 -> 2Q18 | AJ1: 3Q18 | AK1: 4Q18 | AL1: 1Q19 | AM1: ='Indicators - Quaterly'!AM1 -> 2Q19 | AN1: ='Indicators - Quaterly'!AN1 -> 3Q19 | AO1: ='Indicators - Quaterly'!AO1 -> 4Q19 | AP1: ='Indicators - Quaterly'!AP1 -> 1Q20 | AQ1: ='Indicators - Quaterly'!AQ1 -> 2Q20 | AR1: ='Indicators - Quaterly'!AR1 -> 3Q20 | AS1: ='Indicators - Quaterly'!AS1 -> 4Q20 | AT1: ='Indicators - Quaterly'!AT1 -> 1Q21 | AU1: 2Q21 | AV1: 3Q21 | AW1: 4Q21
AI2: ='Indicators - Quaterly'!AI2 -> 0
A3: Total GLA | B3: 1Q10 | C3: 2Q10 | D3: 3Q10 | E3: 4Q10 | F3: 1Q11 | G3: 2Q11 | H3: 3Q11 | I3: 4Q11 | J3: 1Q12 | K3: 2Q12 | L3: 3Q12 | M3: 4Q12 | N3: 1Q13 | O3: 2Q13 | P3: 3Q13 | Q3: 4Q13 | R3: 1Q14 | S3: 2Q14 | T3: 3Q14 | U3: 4Q14 | V3: 1Q15 | W3: 2Q15 | X3: 3Q15 | Y3: 4Q15 | Z3: 1Q16 | AA3: 2Q16 | AB3: 3Q16 | AC3: 4Q16 | AD3: 1Q17 | AE3: 2Q17 | AF3: 3Q17 | AG3: 4Q17 | AH3: 1Q18 | AI3: =AI1 -> 2Q18 | AJ3: =AJ1 -> 3Q18 | AK3: =AK1 -> 4Q18 | AL3: =AL1 -> 1Q19 | AM3: =AM1 -> 2Q19 | AN3: =AN1 -> 3Q19 | AO3: =AO1 -> 4Q19 | AP3: =AP1 -> 1Q20 | ... AW3: =AW1 -> 4Q21
A4: Iguatemi São Paulo | B4: 39879 | C4: 39879 | D4: 40230 | E4: 40213 | F4: 40303 | G4: 42725 | H4: 42522 | I4: 42104 | J4: 42104 | K4: 42104 | L4: 42104 | M4: 42104 | N4: 42104 | O4: 46608 | P4: 46608 | Q4: 46608 | R4: 46134 | S4: 46134 | T4: 46134 | U4: 46134 | V4: 46134 | W4: 46134 | X4: 47322 | Y4: 47322 | Z4: 47322 | AA4: 47322 | AB4: 47322 | AC4: 47322 | AD4: 47322 | AE4: 47322 | AF4: 47322 | AG4: 47322 | AH4: 48887.966 | AI4: 48887.966 | AJ4: 48887.966 | AK4: 48887.966 | AL4: 49060.986 | AM4: 49060.986 | AN4: 49060.986 | AO4: 49263.066 | AP4: 49328.636 | AQ4: 49259.636 | AR4: 49279.226 | AS4: 49259.636 | AT4: 49259.636 | AU4: 49259.636 | AV4: 49256.779 | AW4: 49250.446
A5: JK Iguatemi | B5: 0 | C5: 0 | D5: 0 | E5: 0 | F5: 0 | G5: 0 | H5: 0 | I5: 0 | J5: 0 | K5: 35293 | L5: 35293 | M5: 35293 | N5: 35293 | O5: 35293 | P5: 35293 | Q5: 35293 | R5: 34957 | S5: 34957 | T5: 34957 | U5: 34957 | V5: 34957 | W5: 34957 | X5: 34957 | Y5: 34957 | Z5: 34957 | AA5: 34957 | AB5: 34957 | AC5: 34957 | AD5: 34957 | AE5: 34957 | AF5: 34957 | AG5: 34957 | AH5: 34359.15 | AI5: 34359.15 | AJ5: 34359.15 | AK5: 34359.15 | AL5: 34359.15 | AM5: 34359.15 | AN5: 34359.15 | AO5: 34357.95 | AP5: 34357.95 | AQ5: 34357.95 | AR5: 34357.95 | AS5: 34356.95 | AT5: 34357.247 | AU5: 34106.84 | AV5: 34106.63 | AW5: 34103.63
A6: Pátio Higienópolis | B6: 0 | C6: 0 | D6: 0 | E6: 0 | F6: 0 | G6: 0 | H6: 0 | I6: 0 | J6: 0 | K6: 0 | L6: 0 | M6: 0 | N6: 0 | O6: 0 | P6: 0 | Q6: 0 | R6: 0 | S6: 0 | T6: 0 | U6: 0 | V6: 0 | W6: 0 | X6: 34100 | Y6: 34100 | Z6: 34100 | AA6: 34100 | AB6: 34100 | AC6: 34100 | AD6: 34100 | AE6: 34100 | AF6: 34100 | AG6: 34100 | AH6: 33818.6 | AI6: 33820.24 | AJ6: 33820.24 | AK6: 33820.24 | AL6: 33819.01 | AM6: 33819.01 | AN6: 33819.01 | AO6: 33365.4 | AP6: 33362.54 | AQ6: 33367.16 | AR6: 33367.16 | AS6: 33459.49 | AT6: 33464.405 | AU6: 33489.73 | AV6: 33479 | AW6: 33487.297
A7: Market Place | B7: 26126 | C7: 26252 | D7: 26236 | E7: 26023 | F7: 26017 | G7: 26017 | H7: 26848 | I7: 26927 | J7: 26927 | K7: 26927 | L7: 26927 | M7: 26927 | N7: 26927 | O7: 26927 | P7: 26927 | Q7: 26927 | R7: 26940 | S7: 26940 | T7: 26940 | U7: 26940 | V7: 26940 | W7: 26940 | X7: 26940 | Y7: 26940 | Z7: 26940 | AA7: 26940 | AB7: 26940 | AC7: 26940 | AD7: 26940 | AE7: 26940 | AF7: 26940 | AG7: 26940 | AH7: 26547.623 | AI7: 26547.623 | AJ7: 26547.623 | AK7: 26547.623 | AL7: 26713.053 | AM7: 26713.053 | AN7: 26713.053 | AO7: 26881.473 | AP7: 26882.313 | AQ7: 26882.313 | AR7: 26882.313 | AS7: 26881.875 | AT7: 26772.006 | AU7: 26552.993 | AV7: 26552.993 | AW7: 26560.15
A8: Iguatemi Alphaville | B8: - | C8: - | D8: - | E8: - | F8: 30178 | G8: 30178 | H8: 30551 | I8: 30822 | J8: 30822 | K8: 30822 | L8: 30822 | M8: 30822 | N8: 30822 | O8: 30822 | P8: 30822 | Q8: 30822 | R8: 31312 | S8: 31312 | T8: 31312 | U8: 31312 | V8: 31312 | W8: 31312 | X8: 31312 | Y8: 31312 | Z8: 31312 | AA8: 31312 | AB8: 31312 | AC8: 31312 | AD8: 31312 | AE8: 31312 | AF8: 31312 | AG8: 31312 | AH8: 31257.53 | AI8: 31257.53 | AJ8: 31257.53 | AK8: 31257.53 | AL8: 31250.03 | AM8: 31250.03 | AN8: 31250.03 | AO8: 31133.03 | AP8: 31147.03 | AQ8: 31147.03 | AR8: 31147.03 | AS8: 31147.03 | AT8: 31147.03 | AU8: 31147.03 | AV8: 30998.257 | AW8: 30923.87
A9: Iguatemi Campinas | B9: 54887 | C9: 55057 | D9: 55057 | E9: 55105 | F9: 55105 | G9: 55386 | H9: 54031 | I9: 54075 | J9: 54075 | K9: 54075 | L9: 54075 | M9: 54075 | N9: 54075 | O9: 54075 | P9: 54075 | Q9: 54075 | R9: 54321 | S9: 54321 | T9: 54321 | U9: 54321 | V9: 54321 | W9: 73492 | X9: 73492 | Y9: 73492 | Z9: 73492 | AA9: 73492 | AB9: 73492 | AC9: 73492 | AD9: 73492 | AE9: 73492 | AF9: 73492 | AG9: 73492 | AH9: 72659 | AI9: 72659 | AJ9: 72659 | AK9: 72659 | AL9: 72726.39 | AM9: 72726.39 | AN9: 72726.39 | AO9: 72725.21 | AP9: 72725.21 | AQ9: 72725.21 | AR9: 72725.19 | AS9: 72725.19 | AT9: 72736.83 | AU9: 72725.56 | AV9: 73394.147 | AW9: 73389.786
A10: Galleria | B10: 24014 | C10: 24014 | D10: 24074 | E10: 24056 | F10: 23983 | G10: 23941 | H10: 24251 | I10: 25736 | J10: 25736 | K10: 25736 | L10: 33236 | M10: 33236 | N10: 33236 | O10: 33236 | P10: 33236 | Q10: 33236 | R10: 33146 | S10: 33146 | T10: 33146 | U10: 33146 | V10: 33146 | W10: 33146 | X10: 33146 | Y10: 33146 | Z10: 33146 | AA10: 33146 | AB10: 33146 | AC10: 33146 | AD10: 33146 | AE10: 33146 | AF10: 33146 | AG10: 33146 | AH10: 33263 | AI10: 33263.24 | AJ10: 33263.24 | AK10: 33263.24 | AL10: 33244.82 | AM10: 33244.82 | AN10: 33244.82 | AO10: 33249.29 | AP10: 33142.21 | AQ10: 33142.21 | AR10: 33142.21 | AS10: 33141.21 | AT10: 33141.21 | AU10: 33141.21 | AV10: 33141.21 | AW10: 33141.21
A11: Iguatemi Esplanada (1) | B11: 27663 | C11: 27663 | D11: 27663 | E11: 27663 | F11: 27663 | G11: 27663 | H11: 27663 | I11: 27663 | J11: 27663 | K11: 27663 | L11: 27663 | M11: 27663 | N11: 27663 | O11: 24340 | P11: 24340 | Q11: 63890 | R11: 64360 | S11: 64360 | T11: 64360 | U11: 64360 | V11: 64360 | W11: 64360 | X11: 64360 | Y11: 64360 | Z11: 64360 | AA11: 64360 | AB11: 64360 | AC11: 64360 | AD11: 64360 | AE11: 64360 | AF11: 64360 | AG11: 64360 | AH11: 64482 | AI11: 64481.89 | AJ11: 64481.89 | AK11: 64481.89 | AL11: 64714.28 | AM11: 64714.28 | AN11: 64714.28 | AO11: 64807.09 | AP11: 64809.21 | AQ11: 64809.21 | AR11: 64809.21 | AS11: 64809.21 | AT11: 64809.21 | AU11: 64809.21 | AV11: 64807.41 | AW11: 64807.41
A12: Iguatemi Esplanada - propietary area (2) | B12: 3678 | C12: 3678 | D12: 3678 | E12: 3678 | F12: 3678 | G12: 3678 | H12: 3678 | I12: 3678 | J12: 3678 | K12: 3678 | L12: 3678 | M12: 3678 | N12: 3678 | O12: 3678 | P12: 3678 | Q12: 3678 | R12: 3678 | S12: 3678 | T12: 3678 | U12: 3678 | V12: 3678 | W12: 3678 | X12: 3678 | Y12: 3678 | Z12: 3678 | AA12: 3678 | AB12: 3678 | AC12: 3678 | AD12: 3678 | AE12: 3678 | AF12: 3678 | AG12: 3678 | AH12: 3678 | AI12: 3678 | AJ12: 3678 | AK12: 3678 | AL12: 3678 | AM12: 3678 | AN12: 3678 | AO12: 3678 | AP12: 3678 | AQ12: 3678 | AR12: 3678 | AS12: 3678 | AT12: 3678 | AU12: 3678 | AV12: 3678 | AW12: 3678
A13: Iguatemi São Carlos | B13: 19046 | C13: 19046 | D13: 19046 | E13: 19022 | F13: 19020 | G13: 19020 | H13: 19020 | I13: 19035 | J13: 19035 | K13: 19035 | L13: 19035 | M13: 19035 | N13: 19035 | O13: 19035 | P13: 19035 | Q13: 19035 | R13: 19049 | S13: 22323 | T13: 22323 | U13: 22323 | V13: 22323 | W13: 22323 | X13: 22323 | Y13: 22323 | Z13: 22323 | AA13: 22323 | AB13: 22323 | AC13: 22323 | AD13: 22323 | AE13: 22323 | AF13: 22323 | AG13: 22323 | AH13: 22331.46 | AI13: 22331.46 | AJ13: 22331.46 | AK13: 22331.46 | AL13: 22331.46 | AM13: 22331.46 | AN13: 22331.46 | AO13: 22333.96 | AP13: 22333.96 | AQ13: 22333.96 | AR13: 22333.96 | AS13: 22333.96 | AT13: 22333.96 | AU13: 22333.96 | AV13: 22333.96 | AW13: 22343.72
A14: Iguatemi Ribeirão Preto | B14: 0 | C14: 0 | D14: 0 | E14: 0 | F14: 0 | G14: 0 | H14: 0 | I14: 0 | J14: 0 | K14: 0 | L14: 0 | M14: 0 | N14: 0 | O14: 0 | P14: 44100 | Q14: 44100 | R14: 43648 | S14: 43648 | T14: 43648 | U14: 43648 | V14: 43648 | W14: 43648 | X14: 43648 | Y14: 43648 | Z14: 43648 | AA14: 43648 | AB14: 43648 | AC14: 43648 | AD14: 43648 | AE14: 43648 | AF14: 43648 | AG14: 43648 | AH14: 40543 | AI14: 40543 | AJ14: 40543 | AK14: 40543 | AL14: 40492 | AM14: 40492 | AN14: 40492 | AO14: 43325.2 | AP14: 43287.6 | AQ14: 43287.6 | AR14: 43287.6 | AS14: 43429.6 | AT14: 43428.44 | AU14: 43329.46 | AV14: 43329.46 | AW14: 43329.46
A15: Iguatemi Rio Preto | B15: 0 | C15: 0 | D15: 0 | E15: 0 | F15: 0 | G15: 0 | H15: 0 | I15: 0 | J15: 0 | K15: 0 | L15: 0 | M15: 0 | N15: 0 | O15: 0 | P15: 0 | Q15: 0 | R15: 0 | S15: 43649 | T15: 43649 | U15: 43649 | V15: 43649 | W15: 43649 | X15: 43649 | Y15: 43649 | Z15: 43649 | AA15: 43649 | AB15: 43649 | AC15: 43649 | AD15: 43649 | AE15: 43649 | AF15: 43649 | AG15: 43649 | AH15: 43546 | AI15: 43546 | AJ15: 43546 | AK15: 43546 | AL15: 43549 | AM15: 43549 | AN15: 43549 | AO15: 43550 | AP15: 43550 | AQ15: 43550 | AR15: 43550 | AS15: 43550 | AT15: 43550 | AU15: 43550 | AV15: 43550 | AW15: 43550
A16: Iguatemi Porto Alegre | B16: 39331 | C16: 39334 | D16: 39320 | E16: 39310 | F16: 39310 | G16: 39307 | H16: 39307 | I16: 39306 | J16: 39306 | K16: 39306 | L16: 39306 | M16: 39306 | N16: 39306 | O16: 39306 | P16: 39306 | Q16: 39306 | R16: 38926 | S16: 38926 | T16: 38926 | U16: 38926 | V16: 38926 | W16: 38926 | X16: 38926 | Y16: 38926 | Z16: 38926 | AA16: 59302 | AB16: 59302 | AC16: 59302 | AD16: 59302 | AE16: 59302 | AF16: 59302 | AG16: 59302 | AH16: 63365.98 | AI16: 63365.98 | AJ16: 63365.98 | AK16: 63365.98 | AL16: 63365.98 | AM16: 63365.98 | AN16: 63365.98 | AO16: 64252.75 | AP16: 64252.74 | AQ16: 64252.74 | AR16: 64292.49 | AS16: 64292.33 | AT16: 64634.273 | AU16: 64806.57 | AV16: 64806.57 | AW16: 64792.377
A17: Praia de Belas | B17: 28066 | C17: 28011 | D17: 29109 | E17: 28694 | F17: 28695 | G17: 28866 | H17: 28873 | I17: 30081 | J17: 30081 | K17: 30081 | L17: 30081 | M17: 30081 | N17: 30081 | O17: 30081 | P17: 30081 | Q17: 47705 | R17: 47205 | S17: 47205 | T17: 47205 | U17: 47205 | V17: 47205 | W17: 47205 | X17: 47205 | Y17: 47205 | Z17: 47205 | AA17: 47205 | AB17: 47205 | AC17: 47205 | AD17: 47205 | AE17: 47205 | AF17: 47205 | AG17: 47205 | AH17: 44366.94 | AI17: 44366.94 | AJ17: 44366.94 | AK17: 44366.94 | AL17: 44778.54 | AM17: 44778.54 | AN17: 44778.54 | AO17: 44667.46 | AP17: 44683.41 | AQ17: 44683.41 | AR17: 44683.41 | AS17: 44683.41 | AT17: 44668.13 | AU17: 44675.38 | AV17: 44793.313 | AW17: 44852.28
A18: Iguatemi Florianópolis | B18: 20230 | C18: 20178 | D18: 20178 | E18: 20197 | F18: 20180 | G18: 20180 | H18: 20246 | I18: 20487 | J18: 20487 | K18: 20487 | L18: 20487 | M18: 20487 | N18: 20487 | O18: 20487 | P18: 20487 | Q18: 20487 | R18: 21189 | S18: 21189 | T18: 21189 | U18: 21189 | V18: 21189 | W18: 21189 | X18: 21189 | Y18: 21189 | Z18: 21189 | AA18: 21189 | AB18: 21189 | AC18: 21189 | AD18: 21189 | AE18: 21189 | AF18: 21189 | AG18: 21189 | AH18: 21109.33 | AI18: 21109.33 | AJ18: 21109.33 | AK18: 21109.33 | AL18: 21109.33 | AM18: 21109.33 | AN18: 21109.33 | AO18: 0 | AP18: 0 | AQ18: 0 | AR18: 0 | AS18: 0 | AT18: 0 | AU18: 0 | AV18: 0 | AW18: 0
A19: Iguatemi Caxias | B19: 30982 | C19: 30324 | D19: 30324 | E19: 30324 | F19: 29101 | G19: 29101 | H19: 29101 | I19: 30324 | J19: 30324 | K19: 30324 | L19: 30324 | M19: 30324 | N19: 30324 | O19: 30324 | P19: 30324 | Q19: 30324 | R19: 30324 | S19: 30324 | T19: 30324 | U19: 30324 | V19: 30324 | W19: 30324 | X19: 30324 | Y19: 30324 | Z19: 30324 | AA19: 30324 | AB19: 30324 | AC19: 30324 | AD19: 30324 | AE19: 30324 | AF19: 30324 | AG19: 30324 | AH19: 30324 | AI19: 30324 | AJ19: 30324 | AK19: 30324 | AL19: 30324 | AM19: 30324 | AN19: 0 | AO19: 0 | AP19: 0 | AQ19: 0 | AR19: 0 | AS19: 0 | AT19: 0 | AU19: 0 | AV19: 0 | AW19: 0
A20: Iguatemi Brasília | B20: 33800 | C20: 33800 | D20: 33800 | E20: 33800 | F20: 33800 | G20: 33800 | H20: 33800 | I20: 31822 | J20: 31822 | K20: 31822 | L20: 31822 | M20: 31822 | N20: 31822 | O20: 31822 | P20: 31822 | Q20: 31822 | R20: 32302 | S20: 32302 | T20: 32302 | U20: 32302 | V20: 32302 | W20: 32302 | X20: 32302 | Y20: 32302 | Z20: 32302 | AA20: 32302 | AB20: 32302 | AC20: 32302 | AD20: 32302 | AE20: 32302 | AF20: 32302 | AG20: 32302 | AH20: 34147.5 | AI20: 34147.5 | AJ20: 34147.5 | AK20: 34147.5 | AL20: 34153.5 | AM20: 34153.5 | AN20: 34153.5 | AO20: 33811.72 | AP20: 34445.72 | AQ20: 34445.72 | AR20: 34445.72 | AS20: 34446.72 | AT20: 34516.84 | AU20: 34657.62 | AV20: 34657.62 | AW20: 34657.62
... A23: Power Center Iguatemi Campinas (4) | B23: 29176 | C23: 29176 | D23: 29176 | E23: 29176 | F23: 29176 | G23: 29176 | H23: 29176 | I23: 32066 | J23: 32066 | K23: 32066 | L23: 32066 | M23: 32066 | N23: 32066 | O23: 32066 | P23: 32066 | Q23: 32066 | R23: 32422 | S23: 32422 | T23: 32422 | U23: 32422 | V23: 32422 | W23: 32422 | X23: 32422 | Y23: 32422 | Z23: 32422 | AA23: 32422 | AB23: 32422 | AC23: 32422 | AD23: 32422 | AE23: 32422 | AF23: 32422 | AG23: 32422 | AH23: 29822.1 | AI23: 29822.1 | AJ23: 29822.1 | AK23: 29822.1 | AL23: 29822.1 | AM23: 29822.1 | AN23: 29822.1 | AO23: 29822.1 | AP23: 29822.1 | AQ23: 29822.1 | AR23: 29822.1 | AS23: 29822.1 | AT23: 29822.1 | AU23: 27534.1 | AV23: 27534.1 | AW23: 27534.1
A24: Boulevard Iguatemi Rio | B24: 25976 | C24: 26203 | D24: 26203 | E24: 26203 | F24: 26203 | G24: 26225 | H24: 26225 | I24: 26129 | J24: 26129 | K24: 26129 | L24: 0 | M24: 0 | N24: 0 | O24: 0 | P24: 0 | Q24: 0 | R24: 0 | S24: 0 | T24: 0 | U24: 0 | V24: 0 | W24: 0 | X24: 0 | Y24: 0 | Z24: 0 | AA24: 0 | AB24: 0 | AC24: 0 | AD24: 0 | AE24: 0 | AF24: 0 | AG24: 0 | AH24: 0 | AI24: - | AJ24: 0 | AK24: 0 | AL24: - | AM24: - | AN24: 0 | AO24: 0 | AP24: 0 | AQ24: 0 | AR24: 0 | AS24: 0 | AT24: 0 | AU24: 0 | AV24: 0 | AW24: 0
A25: Subtotal Shoppings | B25: 376878 | C25: 376412 | D25: 377891 | E25: 377261 | F25: 406209 | G25: 409038 | H25: 409067 | I25: 414126 | J25: 414126 | K25: 449419 | L25: 456919 | M25: 456919 | N25: 456919 | O25: 458100 | P25: 522287 | Q25: 579461 | R25: 580028 | S25: 626951 | T25: 626951 | U25: 626951 | V25: 626951 | W25: 646122 | X25: 681410 | Y25: 681410 | Z25: 681410 | AA25: 701786 | AB25: 701786 | AC25: 701786 | AD25: 701786 | AE25: 701786 | AF25: 701786 | AG25: 701786 | AH25: 698594.58 | AI25: 698596.35 | AJ25: 698596.35 | AK25: =SUM(AK4:AK24) -> 718484.26 | AL25: 719464.94 | AM25: 719464.94 | AN25: 689140.94 | AO25: 671118.26 | AP25: =SUM(AP4:AP24) -> 671703.19 | AQ25: 671638.81 | AR25: =SUM(AR4:AR24) -> 671698.13 | AS25: 671909.27 | AT25: 672211.88 | AU25: 669689.86 | AV25: 670312.54 | AW25: =SUM(AW4:AW24) -> 670294.71
A26: Market Place Torre I | B26: 15685 | C26: 15685 | D26: 15685 | E26: 15685 | F26: 15685 | G26: 15685 | H26: 15685 | I26: 15685 | J26: 15685 | K26: 15685 | L26: 15685 | M26: 15685 | N26: 15685 | O26: 15685 | P26: 15685 | Q26: 15685 | R26: 15685 | S26: 15685 | T26: 15685 | U26: 15685 | V26: 15685 | W26: 15685 | X26: 15685 | Y26: 15685 | Z26: 15685 | AA26: 15685 | AB26: 15685 | AC26: 15685 | AD26: 15685 | AE26: 15685 | AF26: 15685 | AG26: 15685 | AH26: 15274 | AI26: 15274.01 | AJ26: 15274.01 | AK26: 15274.01 | AL26: 15274.01 | AM26: 15274.01 | AN26: 15274.01 | AO26: 15274.01 | AP26: 15274.01 | AQ26: 15274.01 | AR26: 15274.01 | AS26: 15315.09 | AT26: 15315.09 | AU26: 15315.09 | AV26: 15315.09 | AW26: 15345.09
A27: Market Place Torre II | B27: 13395 | C27: 13395 | D27: 13395 | E27: 13395 | F27: 13395 | G27: 13395 | H27: 13395 | I27: 13395 | J27: 13395 | K27: 13395 | L27: 13395 | M27: 13395 | N27: 13395 | O27: 13395 | P27: 13395 | Q27: 13395 | R27: 13395 | S27: 13395 | T27: 13395 | U27: 13395 | V27: 13395 | W27: 13395 | X27: 13395 | Y27: 13395 | Z27: 13395 | AA27: 13395 | AB27: 13395 | AC27: 13395 | AD27: 13395 | AE27: 13395 | AF27: 13395 | AG27: 13395 | AH27: 13319 | AI27: 13319.21 | AJ27: 13319.21 | AK27: 13319.21 | AL27: 13319.21 | AM27: 13319.21 | AN27: 13319.21 | AO27: 13319.21 | AP27: 13319.21 | AQ27: 13319.21 | AR27: 13319.21 | AS27: 13393.94 | AT27: 13388.62 | AU27: 13388.62 | AV27: 13388.62 | AW27: 13388.62
A28: Torre Iguatemi Porto Alegre | B28: 0 | C28: 0 | D28: 0 | E28: 0 | F28: 0 | G28: 0 | H28: 0 | I28: 0 | J28: 0 | K28: 0 | L28: 0 | M28: 0 | N28: 0 | O28: 0 | P28: 0 | Q28: 0 | R28: 0 | S28: 0 | T28: 0 | U28: 0 | V28: 0 | W28: 0 | X28: 0 | Y28: 0 | Z28: 0 | AA28: 10692 | AB28: 10692 | AC28: 10692 | AD28: 10692 | AE28: 10692 | AF28: 10692 | AG28: 10692 | AH28: 10278 | AI28: 10277.74 | AJ28: 10277.74 | AK28: 10277.74 | AL28: 10277.74 | AM28: 10277.74 | AN28: 10277.74 | AO28: 10277.74 | AP28: 10277.74 | AQ28: 10277.74 | AR28: 10277.74 | AS28: 10276.46 | AT28: 10276.46 | AU28: 10092 | AV28: 10092 | AW28: 10276
A29: Torre Iguatemi São Paulo | B29: 0 | C29: 0 | D29: 0 | E29: 0 | F29: 0 | G29: 4875 | H29: 4469 | I29: 4469 | J29: 4469 | K29: 4469 | L29: 4469 | M29: 4469 | N29: 4469 | O29: 4469 | P29: 4469 | Q29: 4469 | R29: 4469 | S29: 4469 | T29: 4469 | U29: 4469 | V29: 4469 | W29: 4469 | X29: 4469 | Y29: 4469 | Z29: 4469 | AA29: 4469 | AB29: 4469 | AC29: 4469 | AD29: 4469 | AE29: 4469 | AF29: 4469 | AG29: 4469 | AH29: 0 | AI29: - | AJ29: 0 | AK29: 0 | AL29: 0 | AM29: 0 | AN29: 0 | AO29: 0 | AP29: 0 | AQ29: 0 | AR29: 0 | AS29: 0 | AT29: 0 | AU29: 0 | AV29: 0 | AW29: 0
A30: Subtotal Towers | B30: 29080 | C30: 29080 | D30: 29080 | E30: 29080 | F30: 29080 | G30: 33955 | H30: 33549 | I30: 33549 | J30: 33549 | K30: 33549 | L30: 33549 | M30: 33549 | N30: 33549 | O30: 33549 | P30: 33549 | Q30: 33549 | R30: 33549 | S30: 33549 | T30: 33549 | U30: 33549 | V30: 33549 | W30: 33549 | X30: 33549 | Y30: 33549 | Z30: 33549 | AA30: 44241 | AB30: 44241 | AC30: 44241 | AD30: 44241 | AE30: 44241 | AF30: 44241 | AG30: 44241 | AH30: 38871 | AI30: 38870.96 | AJ30: 38870.96 | AK30: =SUM(AK26:AK29) -> 38870.96 | AL30: 38870.96 | AM30: 38870.96 | AN30: 38870.96 | AO30: 38870.96 | AP30: =SUM(AP26:AP29) -> 38870.96 | AQ30: 38870.96 | AR30: =SUM(AR26:AR29) -> 38870.96 | AS30: 38985.49 | AT30: 38980.17 | AU30: 38795.71 | AV30: 38795.71 | AW30: =SUM(AW26:AW29) -> 39009.71
A31: Total | B31: 405958 | C31: 405492 | D31: 406971 | E31: 406341 | F31: 435289 | G31: 442993 | H31: 442616 | I31: 447675 | J31: 447675 | K31: 482968 | L31: 490468 | M31: 490468 | N31: 490468 | O31: 491649 | P31: 555836 | Q31: 613010 | R31: 613577 | S31: 660500 | T31: 660500 | U31: 660500 | V31: 660500 | W31: 679671 | X31: 714959 | Y31: 714959 | Z31: 714959 | AA31: 746027 | AB31: 746027 | AC31: 746027 | AD31: 746027 | AE31: 746027 | AF31: 746027 | AG31: 746027 | AH31: 737465.58 | AI31: 737467.31 | AJ31: 737467.31 | AK31: =AK30+AK25 -> 757355.22 | AL31: 758335.9 | AM31: 758335.9 | AN31: 728011.9 | AO31: 709989.22 | AP31: =AP30+AP25 -> 710574.15 | AQ31: 710509.77 | AR31: =AR30+AR25 -> 710569.09 | AS31: 710894.76 | AT31: 711192.05 | AU31: 708485.57 | AV31: 709108.25 | AW31: =AW30+AW25 -> 709304.42
A34: Iguatemi Interest | B34: 1Q10 | C34: 2Q10 | D34: 3Q10 | E34: 4Q10 | F34: 1Q11 | G34: 2Q11 | H34: 3Q11 | I34: 4Q11 | J34: 1Q12 | K34: 2Q12 | L34: 3Q12 | M34: 4Q12 | N34: 1Q13 | O34: 2Q13 | P34: 3Q13 | Q34: 4Q13 | R34: 1Q14 | S34: 2Q14 | T34: 3Q14 | U34: 4Q14 | V34: 1Q15 | W34: 2Q15 | X34: 3Q15 | Y34: 4Q15 | Z34: 1Q16 | AA34: 2Q16 | AB34: 3Q16 | AC34: 4Q16 | AD34: 1Q17 | AE34: 2Q17 | AF34: 3Q17 | AG34: 4Q17 | AH34: 1Q18 | AI34: =AI1 -> 2Q18 | AJ34: =AJ1 -> 3Q18 | AK34: =AK1 -> 4Q18 | AL34: =AL1 -> 1Q19 | AM34: =AM1 -> 2Q19 | AN34: =AN1 -> 3Q19 | AO34: =AO1 -> 4Q19 | AP34: =AP1 -> 1Q20 | ... AW34: =AW1 -> 4Q21
A35: Iguatemi São Paulo | B35: 50,5% | C35: 0.505 | D35: 0.505 | E35: 50,5% | F35: 0.506 | G35: 0.506 | H35: 0.506 | I35: 0.576 | J35: 0.576 | K35: 0.576 | L35: 0.576 | M35: 0.5775 | N35: 0.5775 | O35: 0.5775 | P35: 0.5775 | Q35: 0.5775 | R35: 0.5777 | S35: 0.5777 | T35: 0.5777 | U35: 0.5801 | V35: 0.5801 | W35: 0.5801 | X35: 0.5813 | Y35: 0.5813 | Z35: 0.5841 | AA35: 0.5841 | AB35: 0.5841 | AC35: 0.5841 | AD35: 0.5841 | AE35: 0.5841 | AF35: 0.5844 | AG35: 0.5845 | AH35: 0.5849 | AI35: 0.5854 | AJ35: 0.5855 | AK35: 0.5858 | AL35: 0.5858 | AM35: 0.5858 | AN35: 0.5858 | AO35: 0.5858 | AP35: 0.5858 | AQ35: 0.5858 | AR35: 0.5858 | AS35: 0.5858 | AT35: 0.5858 | AU35: 0.5858 | AV35: 0.5858 | AW35: 0.5858
A36: JK Iguatemi | B36: - | C36: - | D36: - | E36: - | F36: - | G36: - | H36: - | I36: - | J36: - | K36: 0.5 | L36: 0.5 | M36: 0.5 | N36: 0.5 | O36: 0.5 | P36: 0.5 | Q36: 0.5 | R36: 0.64 | S36: 0.64 | T36: 0.64 | U36: 0.64 | V36: 0.64 | W36: 0.64 | X36: 0.63998627 | Y36: 0.63998627 | Z36: 0.63998627 | AA36: 0.64 | AB36: 0.64 | AC36: 0.64 | AD36: 0.64 | AE36: 0.64 | AF36: 0.64 | AG36: 0.64 | AH36: 0.64 | AI36: 0.64 | AJ36: 0.64 | AK36: 0.64 | AL36: 0.64 | AM36: 0.64 | AN36: 0.64 | AO36: 0.64 | AP36: 0.64 | AQ36: 0.64 | AR36: 0.64 | AS36: 0.64 | AT36: 0.64 | AU36: 0.64 | AV36: 0.64 | AW36: 0.64
A37: Pátio Higienópolis | B37: - | C37: - | D37: - | E37: - | F37: - | G37: - | H37: - | I37: - | J37: - | K37: - | L37: - | M37: - | N37: - | O37: - | P37: - | Q37: - | R37: - | S37: - | T37: - | U37: - | V37: - | W37: - | X37: 0.0284 | Y37: 0.112 | Z37: 0.112 | AA37: 0.112 | AB37: 0.112 | AC37: 0.112 | AD37: 0.112 | AE37: 0.112 | AF37: 0.112 | AG37: 0.112 | AH37: 0.1154 | AI37: 0.1154 | AJ37: 0.1154 | AK37: 0.1154 | AL37: 0.1154 | AM37: 0.1154 | AN37: 0.1154 | AO37: 0.1154 | AP37: 0.1154 | AQ37: 0.1154 | AR37: 0.1154 | AS37: 0.1154 | AT37: 0.1154 | AU37: 0.1154 | AV37: 0.1154 | AW37: 0.1154
A38: Market Place | B38: 1 | C38: 1 | D38: 1 | E38: 1 | F38: 1 | G38: 1 | H38: 1 | I38: 1 | J38: 1 | K38: 1 | L38: 1 | M38: 1 | N38: 1 | O38: 1 | P38: 1 | Q38: 1 | R38: 1 | S38: 1 | T38: 1 | U38: 1 | V38: 1 | W38: 1 | X38: 1 | Y38: 1 | Z38: 1 | AA38: 1 | AB38: 1 | AC38: 1 | AD38: 1 | AE38: 1 | AF38: 1 | AG38: 1 | AH38: 1 | AI38: 1 | AJ38: 1 | AK38: 1 | AL38: 1 | AM38: 1 | AN38: 1 | AO38: 1 | AP38: 1 | AQ38: 1 | AR38: 1 | AS38: 1 | AT38: 1 | AU38: 1 | AV38: 1 | AW38: 1
A39: Iguatemi Alphaville | B39: - | C39: - | D39: - | E39: - | F39: 0.78 | G39: 0.78 | H39: 0.78 | I39: 0.78 | J39: 0.78 | K39: 0.78 | L39: 0.78 | M39: 0.78 | N39: 0.78 | O39: 0.78 | P39: 0.78 | Q39: 0.78 | R39: 0.78 | S39: 0.78 | T39: 0.78 | U39: 0.78 | V39: 0.78 | W39: 0.78 | X39: 0.7799885 | Y39: 0.7799885 | Z39: 0.7799885 | AA39: 0.78 | AB39: 0.78 | AC39: 0.78 | AD39: 0.78 | AE39: 0.78 | AF39: 0.78 | AG39: 0.78 | AH39: 0.78 | AI39: 0.78 | AJ39: 0.78 | AK39: 0.78 | AL39: 0.78 | AM39: 0.78 | AN39: 0.78 | AO39: 0.78 | AP39: 0.78 | AQ39: 0.78 | AR39: 0.78 | AS39: 0.78 | AT39: 0.78 | AU39: 0.78 | AV39: 0.78 | AW39: 0.78
A40: Iguatemi Campinas | B40: 0.65 | C40: 0.65 | D40: 0.65 | E40: 0.65 | F40: 0.65 | G40: 0.65 | H40: 0.65 | I40: 0.7 | J40: 0.7 | K40: 0.7 | L40: 0.7 | M40: 0.7 | N40: 0.7 | O40: 0.7 | P40: 0.7 | Q40: 0.7 | R40: 0.7 | S40: 0.7 | T40: 0.7 | U40: 0.7 | V40: 0.7 | W40: 0.7 | X40: 0.7 | Y40: 0.7 | Z40: 0.7 | AA40: 0.7 | AB40: 0.7 | AC40: 0.7 | AD40: 0.7 | AE40: 0.7 | AF40: 0.7 | AG40: 0.7 | AH40: 0.7 | AI40: 0.7 | AJ40: 0.7 | AK40: 0.7 | AL40: 0.7 | AM40: 0.7 | AN40: 0.7 | AO40: 0.7 | AP40: 0.7 | AQ40: 0.7 | AR40: 0.7 | AS40: 0.7 | AT40: 0.7 | AU40: 0.7 | AV40: 0.7 | AW40: 0.7
A41: Galleria | B41: 0.5 | C41: 0.5 | D41: 0.5 | E41: 0.5 | F41: 0.5 | G41: 0.5 | H41: 0.5 | I41: 0.5 | J41: 0.5 | K41: 0.5 | L41: 0.5 | M41: 0.5 | N41: 0.5 | O41: 0.5 | P41: 0.8 | Q41: 1 | R41: 1 | S41: 1 | T41: 1 | U41: 1 | V41: 1 | W41: 1 | X41: 1 | Y41: 1 | Z41: 1 | AA41: 1 | AB41: 1 | AC41: 1 | AD41: 1 | AE41: 1 | AF41: 1 | AG41: 1 | AH41: 1 | AI41: 1 | AJ41: 1 | AK41: 1 | AL41: 1 | AM41: 1 | AN41: 1 | AO41: 1 | AP41: 1 | AQ41: 1 | AR41: 1 | AS41: 1 | AT41: 1 | AU41: 1 | AV41: 1 | AW41: 1
A42: Iguatemi Esplanada (1) | B42: 0.297 | C42: 0.297 | D42: 0.297 | E42: 0.297 | F42: 0.331 | G42: 0.331 | H42: 0.38 | I42: 0.38 | J42: 0.38 | K42: 0.38 | L42: 0.38 | M42: 0.38 | N42: 0.38 | O42: 0.38 | P42: 0.38 | Q42: 0.5533 | R42: 0.5537 | S42: 0.5537 | T42: 0.5537 | U42: 0.5537 | V42: 0.5537 | W42: 0.5537 | X42: 0.5537 | Y42: 0.5537 | Z42: 0.5537 | AA42: 0.5537 | AB42: 0.5537 | AC42: 0.5537 | AD42: 0.5537 | AE42: 0.5537 | AF42: 0.5537 | AG42: 0.5537 | AH42: 0.5537 | AI42: 0.5537 | AJ42: 0.5537 | AK42: 0.5537 | AL42: 0.5537 | AM42: 0.5537 | AN42: 0.5537 | AO42: 0.5537 | AP42: 0.60933899 | AQ42: 0.60933899 | AR42: 0.60933899 | AS42: 0.60933899 | AT42: 0.60933899 | AU42: 0.60933899 | AV42: 0.6093412 | AW42: 0.6093412
A43: Iguatemi Esplanada - propietary area (2) | B43: 1 | C43: 1 | D43: 1 | E43: 1 | F43: 1 | G43: 1 | H43: 1 | I43: 1 | J43: 1 | K43: 1 | L43: 1 | M43: 1 | N43: 1 | O43: 1 | P43: 1 | Q43: 1 | R43: 1 | S43: 1 | T43: 1 | U43: 1 | V43: 1 | W43: 1 | X43: 1 | Y43: 1 | Z43: 1 | AA43: 1 | AB43: 1 | AC43: 1 | AD43: 1 | AE43: 1 | AF43: 1 | AG43: 1 | AH43: 1 | AI43: 1 | AJ43: 1 | AK43: 1 | AL43: 1 | AM43: 1 | AN43: 1 | AO43: 1 | AP43: 1 | AQ43: 1 | AR43: 1 | AS43: 1 | AT43: 1 | AU43: 1 | AV43: 1 | AW43: 1
A44: Iguatemi São Carlos | B44: 0.45 | C44: 0.45 | D44: 0.45 | E44: 0.45 | F44: 0.45 | G44: 0.45 | H44: 0.45 | I44: 0.45 | J44: 0.45 | K44: 0.45 | L44: 0.45 | M44: 0.5 | N44: 0.5 | O44: 0.5 | P44: 0.5 | Q44: 0.5 | R44: 0.5 | S44: 0.5 | T44: 0.5 | U44: 0.5 | V44: 0.5 | W44: 0.5 | X44: 0.5 | Y44: 0.5 | Z44: 0.5 | AA44: 0.5 | AB44: 0.5 | AC44: 0.5 | AD44: 0.5 | AE44: 0.5 | AF44: 0.5 | AG44: 0.5 | AH44: 0.5 | AI44: 0.5 | AJ44: 0.5 | AK44: 0.5 | AL44: 0.5 | AM44: 0.5 | AN44: 0.5 | AO44: 0.5 | AP44: 0.5 | AQ44: 0.5 | AR44: 0.5 | AS44: 0.5 | AT44: 0.5 | AU44: 0.5 | AV44: 0.5 | AW44: 0.5
...

Sheet Operational Performance
A1: Operatinal Performance (100%) | B1: 1Q10 | C1: 2Q10 | D1: 3Q10 | E1: 4Q10 | F1: 1Q11 | G1: 2Q11 | H1: 3Q11 | I1: 4Q11 | J1: 1Q12 | K1: 2Q12 | L1: 3Q12 | M1: 4Q12 | N1: 1Q13 | O1: 2Q13 | P1: 3Q13 | Q1: 4Q13 | R1: 1Q14 | S1: 2Q14 | T1: 3Q14 | U1: 4Q14 | V1: 1Q15 | W1: 2Q15 | X1: 3Q15 | Y1: 4Q15 | Z1: 1Q16 | AA1: 2Q16 | AB1: 3Q16 | AC1: 4Q16 | AD1: 1Q17 | AE1: 2Q17 | AF1: 3Q17 | AG1: 4Q17 | AH1: ='Indicators - Quaterly'!AH1 -> 1Q18 | AI1: ='Indicators - Quaterly'!AI1 -> 2Q18 | AJ1: ='Indicators - Quaterly'!AJ1 -> 3Q18 | AK1: ='Indicators - Quaterly'!AK1 -> 4Q18 | AL1: ='Indicators - Quaterly'!AL1 -> 1Q19 | AM1: ='Indicators - Quaterly'!AM1 -> 2Q19 | AN1: ='Indicators - Quaterly'!AN1 -> 3Q19 | AO1: ='Indicators - Quaterly'!AO1 -> 4Q19 | ... AT1: ='Indicators - Quaterly'!AT1 -> 1Q21 | AU1: 2Q21 | AV1: 3Q21 | AW1: 4Q21
A3: Minimum Rental + Overage + Temporary Rent (R$ ‘000) (1) | B3: 1Q10 | C3: 2Q10 | D3: 3Q10 | E3: 4Q10 | F3: 1Q11 | G3: 2Q11 | H3: 3Q11 | I3: 4Q11 | J3: 1Q12 | K3: 2Q12 | L3: 3Q12 | M3: 4Q12 | N3: 1Q13 | O3: 2Q13 | P3: 3Q13 | Q3: 4Q13 | R3: 1Q14 | S3: 2Q14 | T3: 3Q14 | U3: 4Q14 | V3: 1Q15 | W3: 2Q15 | X3: 3Q15 | Y3: 4Q15 | Z3: 1Q16 | AA3: 2Q16 | AB3: 3Q16 | AC3: 4Q16 | AD3: 1Q17 | AE3: 2Q17 | AF3: 3Q17 | AG3: 4Q17 | AH3: =AH1 -> 1Q18 | AI3: =AI1 -> 2Q18 | AJ3: =AJ1 -> 3Q18 | AK3: =AK1 -> 4Q18 | AL3: =AL1 -> 1Q19 | AM3: =AM1 -> 2Q19 | AN3: =AN1 -> 3Q19 | AO3: =AO1 -> 4Q19 | ... AW3: =AW1 -> 4Q21
A4: Iguatemi São Paulo | B4: 23087.838 | C4: 25156.796 | D4: 25023.156 | E4: 35650.239 | F4: 26113.244 | G4: 28447.158 | H4: 28317.589 | I4: 40289.579 | J4: 29588.192 | K4: 32008.808 | L4: 30575.838 | M4: 41135.042 | N4: 30653.26 | O4: 33654.018 | P4: 33890.096 | Q4: 45504.733 | R4: 34438.42 | S4: 36205.364 | T4: 36720.182 | U4: 50782.094 | V4: 37059.925 | W4: 38768.96 | X4: 40368.389 | Y4: 52981.82 | Z4: 39889.391 | AA4: 44469.8 | AB4: 42429.84 | AC4: 56986.33 | AD4: 43241.985 | AE4: 45805.599 | AF4: 46036.474 | AG4: 62831.588 | AH4: 45095.725 | AI4: 49063.646 | AJ4: 48081.693 | AK4: 58500.446 | AL4: 47265.763 | AM4: 50577.503 | AN4: 51141.086 | AO4: 69090.275 | AP4: 49577.067 | AQ4: 49787.561 | AR4: 51101.231 | AS4: 76388.816 | AT4: 55497.317 | AU4: 62110.481 | AV4: 68221.935 | AW4: 96116.517
A5: JK Iguatemi | B5: - | C5: - | D5: - | E5: - | F5: - | G5: - | H5: - | I5: - | J5: - | K5: 1071.9642 | L5: 13481.097 | M5: 18714.384 | N5: 13451.814 | O5: 15640.129 | P5: 15441.233 | Q5: 19564.63 | R5: 15077.888 | S5: 15387.203 | T5: 17133.26 | U5: 22154.1 | V5: 16351.064 | W5: 18400.442 | X5: 17048.807 | Y5: 22326.16 | Z5: 16559.635 | AA5: 17748.8 | AB5: 17938.624 | AC5: 23859.265 | AD5: 16808.447 | AE5: 18345.977 | AF5: 18022.686 | AG5: 24493.382 | AH5: 16936.786 | AI5: 19062.026 | AJ5: 19611.46 | AK5: 26546.008 | AL5: 19518.432 | AM5: 22148.281 | AN5: 21810.255 | AO5: 28999.434 | AP5: 20250.702 | AQ5: 19065.267 | AR5: 20524.466 | AS5: 28490.986 | AT5: 20735.265 | AU5: 25088.002 | AV5: 30858.658 | AW5: 43090.236
A6: Pátio Higienópolis (3) | B6: - | C6: - | D6: - | E6: - | F6: - | G6: - | H6: - | I6: - | J6: - | K6: - | L6: - | M6: - | N6: - | O6: - | P6: - | Q6: - | R6: - | S6: - | T6: - | U6: - | V6: - | W6: - | X6: 19033.777 | Y6: 25452.072 | Z6: 21403.222 | AA6: 22010.18 | AB6: 20884.848 | AC6: 27398.374 | AD6: 22534.25 | AE6: 23142.83 | AF6: 22976.691 | AG6: 31189.982 | AH6: 22763.637 | AI6: 23601.595 | AJ6: 23936.601 | AK6: 32035.135 | AL6: 24693.883 | AM6: 24993.072 | AN6: 25161.703 | AO6: 32922.438 | AP6: 25314.67 | AQ6: 24158.125 | AR6: 23293.575 | AS6: 31909.983 | AT6: 24975.847 | AU6: 25604.643 | AV6: 27503.828 | AW6: 38191.347
A7: Market Place | B7: 4797.1672 | C7: 4885.6637 | D7: 5154.92 | E7: 7129.1178 | F7: 5272.7378 | G7: 5377.0799 | H7: 6637.7792 | I7: 8156.8431 | J7: 5903.8789 | K7: 6176.9051 | L7: 6674.6967 | M7: 8328.7486 | N7: 6053.6037 | O7: 6602.1349 | P7: 6544.8146 | Q7: 8297.6917 | R7: 6006.4668 | S7: 6673.8947 | T7: 6765.9277 | U7: 9101.7372 | V7: 6184.4077 | W7: 6415.7813 | X7: 7563.4337 | Y7: 7969.672 | Z7: 6344.6001 | AA7: 6725.1278 | AB7: 7438.1188 | AC7: 8956.2312 | AD7: 6928.3423 | AE7: 7069.2101 | AF7: 6850.7042 | AG7: 9887.7209 | AH7: 6928.2923 | AI7: 6921.7593 | AJ7: 7096.8637 | AK7: 8722.4151 | AL7: 6406.329 | AM7: 6808.1724 | AN7: 7744.6632 | AO7: 9723.829 | AP7: 6642.9468 | AQ7: 6070.7981 | AR7: 6367.5994 | AS7: 7849.3569 | AT7: 6201.4042 | AU7: 6219.4079 | AV7: 6993.5487 | AW7: 8972.4134
A8: Torres Market Place | B8: 5514.8325 | C8: 5551 | D8: 5631 | E8: 5757 | F8: 5849 | G8: 5943 | H8: 6095.1302 | I8: 6283 | J8: 6600 | K8: 6508 | L8: 6506 | M8: 6731 | N8: 6865 | O8: 6825 | P8: 7031 | Q8: 7803 | R8: 7508 | S8: 7321 | T8: 7735 | U8: 7013.1269 | V8: 7057 | W8: 7244 | X8: 6335 | Y8: 6264 | Z8: 6230 | AA8: 5985 | AB8: 6154 | AC8: 6068.9353 | AD8: 6128.9082 | AE8: 6046 | AF8: 6094 | AG8: 5560.8536 | AH8: 5383.5255 | AI8: 5349.7694 | AJ8: 5445.7884 | AK8: 5682.3025 | AL8: 5080.3283 | AM8: 4151.6024 | AN8: 4402.7203 | AO8: 6288.13 | AP8: 6064.5788 | AQ8: 6726.0266 | AR8: 6329.9975 | AS8: 7269.5517 | AT8: 5945.2153 | AU8: 6585.4829 | AV8: 4239.9564 | AW8: 5272.8379
A9: Iguatemi Alphaville | B9: - | C9: - | D9: - | E9: - | F9: - | G9: 4271.9709 | H9: 6455.2891 | I9: 8495.7765 | J9: 6450.5755 | K9: 6784.5133 | L9: 6728.9265 | M9: 8332.4856 | N9: 6231.4196 | O9: 6556.2796 | P9: 6544.9042 | Q9: 8658.9049 | R9: 6416.517 | S9: 6887.6617 | T9: 6740.8512 | U9: 9167.7244 | V9: 6773.0065 | W9: 7281.2051 | X9: 7251.2682 | Y9: 11001.549 | Z9: 6960.0324 | AA9: 7434.5124 | AB9: 7384.7096 | AC9: 11446.228 | AD9: 6996.5224 | AE9: 7490.5809 | AF9: 8247.3867 | AG9: 9374.9441 | AH9: 7312.9082 | AI9: 7598.5459 | AJ9: 8324.986 | AK9: 10963.051 | AL9: 7138.0178 | AM9: 7928.8393 | AN9: 8378.1144 | AO9: 11363.356 | AP9: 8247.2042 | AQ9: 7752.6994 | AR9: 7799.7695 | AS9: 10331.741 | AT9: 8127.3454 | AU9: 8472.2963 | AV9: 9387.4044 | AW9: 12677.168
A10: Iguatemi Campinas | B10: 11817.54 | C10: 12372.129 | D10: 12774.582 | E10: 17208.717 | F10: 12552.992 | G10: 13358.415 | H10: 13444.579 | I10: 18981.11 | J10: 13406.72 | K10: 14623.848 | L10: 15685.859 | M10: 20171.146 | N10: 15457.924 | O10: 16189.368 | P10: 17040.541 | Q10: 22185.228 | R10: 16907.674 | S10: 17929.387 | T10: 18114.349 | U10: 23711.383 | V10: 17969.031 | W10: 20942.616 | X10: 22062.428 | Y10: 29909.745 | Z10: 22367.046 | AA10: 23140.511 | AB10: 24143.481 | AC10: 34887.06 | AD10: 23726.407 | AE10: 25198.802 | AF10: 25638.464 | AG10: 34068.821 | AH10: 25105.988 | AI10: 26316.778 | AJ10: 27355.877 | AK10: 35303.084 | AL10: 27210.834 | AM10: 28434.54 | AN10: 28737.256 | AO10: 37095.962 | AP10: 27526.235 | AQ10: 25018.966 | AR10: 24324.856 | AS10: 33701.314 | AT10: 25926.783 | AU10: 28009.022 | AV10: 30976.073 | AW10: 43482.982
A11: Galleria | B11: 2495.7101 | C11: 2603.5662 | D11: 2651.2866 | E11: 4166.72 | F11: 2686.4503 | G11: 2927.2479 | H11: 3176.2502 | I11: 4113.8085 | J11: 3074.5974 | K11: 3279.7955 | L11: 3781.9052 | M11: 6081.5023 | N11: 4854.1102 | O11: 4794.0781 | P11: 4966.2757 | Q11: 6376.9317 | R11: 4917.5271 | S11: 5072.2727 | T11: 4991.1908 | U11: 7454.9937 | V11: 4919.6752 | W11: 5077.0903 | X11: 5041.3167 | Y11: 6745.3426 | Z11: 5136.9179 | AA11: 5208.2419 | AB11: 5137.5524 | AC11: 6945.2335 | AD11: 5343.1975 | AE11: 5389.9156 | AF11: 4784.4306 | AG11: 7268.4847 | AH11: 5461.3944 | AI11: 5405.5815 | AJ11: 5579.8922 | AK11: 7996.6816 | AL11: 5272.0169 | AM11: 5227.417 | AN11: 5222.4801 | AO11: 6567.3397 | AP11: 5662.0231 | AQ11: 4998.7004 | AR11: 5158.1465 | AS11: 7156.705 | AT11: 5760.8203 | AU11: 6134.3014 | AV11: 6757.6539 | AW11: 9706.7433
A12: Iguatemi Esplanada (2) | B12: 5749.0915 | C12: 5940.6222 | D12: 6101.0929 | E12: 8051.8446 | F12: 6158.0597 | G12: 6511.4471 | H12: 6710.5091 | I12: 8998.8178 | J12: 7043.4479 | K12: 7186.005 | L12: 7395.9225 | M12: 9901.7919 | N12: 7822.2315 | O12: 7919.7265 | P12: 8044.2518 | Q12: 14733.865 | R12: 14347.964 | S12: 14066.966 | T12: 14032.677 | U12: 19674.778 | V12: 14361.612 | W12: 14590.283 | X12: 14530.833 | Y12: 19309.107 | Z12: 14845.271 | AA12: 15065.598 | AB12: 15082.635 | AC12: 20381.722 | AD12: 15870.054 | AE12: 15838.371 | AF12: 16199.442 | AG12: 22560.409 | AH12: 16164.206 | AI12: 16356.678 | AJ12: 16272.654 | AK12: 22512.91 | AL12: 15899.931 | AM12: 16493.142 | AN12: 16335.629 | AO12: 21977.15 | AP12: 16484.208 | AQ12: 15458.09 | AR12: 14627.164 | AS12: 20065.603 | AT12: 16320.474 | AU12: 17479.331 | AV12: 18572.79 | AW12: 25898.743
A13: Iguatemi São Carlos | B13: 1246.5503 | C13: 1383.0492 | D13: 1357.9692 | E13: 2072.8303 | F13: 1444.946 | G13: 1602.7944 | H13: 1402.9121 | I13: 2212.1351 | J13: 1513.984 | K13: 1740.4452 | L13: 1703.69 | M13: 2344.573 | N13: 1783.2171 | O13: 1786.9834 | P13: 1819.9702 | Q13: 2810.0523 | R13: 1861.0468 | S13: 2000.9552 | T13: 2257.9801 | U13: 3060.1164 | V13: 2354.4091 | W13: 2416.7924 | X13: 2469.2964 | Y13: 3462.3941 | Z13: 2472.2469 | AA13: 2716.5737 | AB13: 2595.6464 | AC13: 3734.9595 | AD13: 2680.5912 | AE13: 2706.4749 | AF13: 2741.1386 | AG13: 3801.4704 | AH13: 2759.891 | AI13: 2826.7013 | AJ13: 2831.5462 | AK13: 4457.1468 | AL13: 2990.0369 | AM13: 3154.8404 | AN13: 3192.4955 | AO13: 4099.8826 | AP13: 3135.1433 | AQ13: 2779.7412 | AR13: 2846.5017 | AS13: 3771.7374 | AT13: 3030.7215 | AU13: 3307.5015 | AV13: 3499.3462 | AW13: 4714.5851
