Workbook
Name _100: #REF!
Name _100: #REF!
Name _100: #REF!
Name _100: #REF!
Name _100: #REF!
Name ano_anterior: #REF!
Name ano_anterior: #REF!
Name ano_anterior: #REF!
Name ano_anterior: #REF!
Name ano_anterior: #REF!
Name ano_anterior: #REF!
Name ano_anterior: #REF!
Name language: [1]Hints!$F$1
Name language: [1]Hints!$F$1
Name language: [1]Hints!$F$1
Name language: [1]Hints!$F$1
Name language: [1]Hints!$F$1
Name language: [1]Hints!$F$1
Name language: [1]Hints!$F$1
Name Language: [2]Capa!$Q$2
Name NOI: #REF!
Name NOI: #REF!
Name NOI: #REF!
Name NOI: #REF!
Name NOI: #REF!
Name NOI: #REF!
Name NOI: #REF!
Name NOIFin: #REF!
Name NOIFin: #REF!
Name NOIFin: #REF!
Name NOIFin: #REF!
Name NOIFin: #REF!
Name NOIFin: #REF!
Name NOIFin: #REF!
Name Savassi1T07: #REF!
Name Savassi1T07: #REF!
Name Savassi1T07: #REF!
Name Savassi1T07: #REF!
Name Savassi1T07: #REF!
Name Savassi1T07: #REF!
Name Savassi1T07: #REF!
Name Unidade: '[1]P&L'!$C$4
Name xxxxxxxxxxx: #REF!
Name xxxxxxxxxxx: #REF!
Name xxxxxxxxxxx: #REF!
Name xxxxxxxxxxx: #REF!

Sheet Capa | Cover

Sheet Indicadores | Indicators
C4: IGUATEMI EMPRESA DE SHOPPING CENTERS S/A | G4: IGUATEMI EMPRESA DE SHOPPING CENTERS S/A | K4: IGUATEMI EMPRESA DE SHOPPING CENTERS S/A | O4: IGUATEMI EMPRESA DE SHOPPING CENTERS S/A | S4: IGUATEMI EMPRESA DE SHOPPING CENTERS S/A | W4: IGUATEMI EMPRESA DE SHOPPING CENTERS S/A | AA4: IGUATEMI EMPRESA DE SHOPPING CENTERS S/A | AE4: IGUATEMI EMPRESA DE SHOPPING CENTERS S/A | AI4: IGUATEMI EMPRESA DE SHOPPING CENTERS S/A | AM4: IGUATEMI EMPRESA DE SHOPPING CENTERS S/A | AQ4: IGUATEMI EMPRESA DE SHOPPING CENTERS S/A | AU4: IGUATEMI EMPRESA DE SHOPPING CENTERS S/A | AY4: IGUATEMI S.A. | BC4: IGUATEMI S.A. | BG4: IGUATEMI S.A. | BR4: IGUATEMI EMPRESA DE SHOPPING CENTERS S/A | CD4: IGUATEMI S.A.
A5: Principais Indicadores | B5: Main Indicators | C5: 1Q10 | D5: 2Q10 | E5: 3Q10 | F5: 4Q10 | G5: 1Q11 | H5: 2Q11 | I5: 3Q11 | J5: 4Q11 | K5: 1Q12 | L5: 2Q12 | M5: 3Q12 | N5: 4Q12 | O5: 1Q13 | P5: 2Q13 | Q5: 3Q13 | R5: 4Q13 | S5: 1Q14 | T5: 2Q14 | U5: 3Q14 | V5: 4Q14 | W5: 1Q15 | X5: 2Q15 | Y5: 3Q15 | Z5: 4Q15 | AA5: 1Q16 | AB5: 2Q16 | AC5: 3Q16 | AD5: 4Q16 | AE5: 1Q17 | AF5: 2Q17 | AG5: 3Q17 | AH5: 4Q17 | AI5: 1Q18 | AJ5: 2Q18 | AK5: 3Q18 | AL5: 4Q18 | AM5: 1Q19 | AN5: 2Q19 | AO5: 3Q19 | AP5: 4Q19 | AQ5: 1Q20 | AR5: 2Q20 | AS5: 3Q20 | AT5: 4Q20 | AU5: 1Q21 | AV5: 2Q21 | AW5: 3Q21 | AX5: 4Q21 | AY5: 1Q22 | AZ5: 2Q22 | BA5: 3Q22 | BB5: 4Q22 | BC5: 1Q23 | BD5: 2Q23 | BE5: 3Q23 | BF5: 4Q23 | BG5: 1Q24 | BH5: 2Q24 | BI5: 3Q24 | BJ5: 4Q24 | BK5: 1Q25 | BL5: 2Q25 | BM5: 3Q25 | BN5: 4Q25 | BO5: 1Q26 | BP5: 2Q26 | BR5: 2010 | BS5: 2011 | BT5: 2012 | BU5: 2013 | BV5: 2014 | BW5: 2015 | BX5: 2016 | BY5: 2017 | BZ5: 2018 | CA5: 2019 | CB5: 2020 | CC5: 2021 | CD5: 2022 | CE5: 2023 | CF5: 2024 | CG5: 2025
A7: Indicadores de Performance | B7: Performance Indicators | C7: =C5 -> 1Q10 | D7: =D5 -> 2Q10 | E7: =E5 -> 3Q10 | F7: =F5 -> 4Q10 | G7: =G5 -> 1Q11 | H7: =H5 -> 2Q11 | I7: =I5 -> 3Q11 | J7: =J5 -> 4Q11 | ... BP7: =BP5 -> 2Q26 | BR7: 2010 | BS7: 2011 | BT7: 2012 | BU7: 2013 | BV7: 2014 | BW7: 2015 | BX7: 2016 | BY7: =BY5 -> 2017 | BZ7: =BZ5 -> 2018 | CA7: =CA5 -> 2019 | CB7: =CB5 -> 2020 | CC7: =CC5 -> 2021 | CD7: =CD5 -> 2022 | CE7: =CE5 -> 2023 | CF7: 2024 | CG7: =CG5 -> 2025
A8: ABL Total Média (m²) | B8: Total GLA (sqm) | C8: 398135 | D8: 431695 | E8: 433175 | F8: 432545 | G8: 431315 | H8: 469218 | I8: 468841 | J8: 473804 | K8: 473804 | L8: 509097 | M8: 490874 | N8: 490874 | O8: 490874 | P8: 491649 | Q8: 555836 | R8: 613.010 | S8: 613577 | T8: 660500 | U8: 660500 | V8: 660500 | W8: 660500 | X8: 679671 | Y8: 714959 | Z8: 714959 | AA8: 714959 | AB8: 746027 | AC8: 746027 | AD8: 746027 | AE8: 746027 | AF8: 746027 | AG8: 746027 | AH8: 746027 | AI8: 737465.54 | AJ8: 737467.31 | AK8: 737467.31 | AL8: 757355.22 | AM8: 758335.9 | AN8: 758335.9 | AO8: 728011.9 | AP8: 709989.22 | AQ8: 710574.15 | AR8: 710509.77 | AS8: 710569.09 | AT8: 710894.76 | AU8: 711192.05 | AV8: 708485.57 | AW8: 709108.25 | AX8: 709304.42 | AY8: 709449.43 | AZ8: 709153.34 | BA8: 708944.58 | BB8: 723479.67 | BC8: 726333.13 | BD8: 727105.83 | BE8: 727121.28 | BF8: 727337.47 | BG8: 726241.63 | BH8: 726324.23 | BI8: 715720.42 | BJ8: 753035.9 | BK8: 751051.54 | BL8: 788588.49 | BM8: 788569.49 | BN8: 790756.97 | BO8: 789835 | BP8: 789464.78 | BR8: 432545 | BS8: 473804 | BT8: 490874 | BU8: 613.010 | BV8: 660500 | BW8: 714959 | BX8: 746027 | BY8: 746027 | BZ8: 757355.22 | CA8: 709989.22 | CB8: 710894.76 | CC8: 709304.42 | CD8: 723479.67 | CE8: 727337.47 | CF8: 732175.47 | CG8: 751145.03
A9: ABL Própria Final (m²) | B9: Owned GLA (sqm) | C9: 215096 | D9: 237004 | E9: 237678 | F9: 237429 | G9: 238291 | H9: 265644 | I9: 267911 | J9: 277647 | K9: 277647 | L9: 295294 | M9: 280942 | N9: 282040 | O9: 282040 | P9: 283378 | Q9: 340393 | R9: 379805 | S9: 380221 | T9: 425163 | U9: 425163 | V9: 425282 | W9: 425282 | X9: 438702 | Y9: 440422.55 | Z9: 443273.31 | AA9: 443418.68 | AB9: 454604.17 | AC9: 454604.17 | AD9: 454604.17 | AE9: 454604.17 | AF9: 454604.17 | AG9: 454619.71 | AH9: 454624.89 | AI9: 447782.81 | AJ9: 447807.63 | AK9: 447812.52 | AL9: 458566.65 | AM9: 459101.03 | AN9: 459101.03 | AO9: 456553.81 | AP9: 452933.86 | AQ9: 470703.16 | AR9: 470663.28 | AS9: 470691.66 | AT9: 470928.48 | AU9: 471002.86 | AV9: 468858.85 | AW9: 469274.91 | AX9: 469357.54 | AY9: 469493.57 | AZ9: 469305.08 | BA9: 469183.42 | BB9: 488849.42 | BC9: 490044.75 | BD9: 490213.15 | BE9: 490214.93 | BF9: 490418.58 | BG9: 491270.06 | BH9: 491430.99 | BI9: 471897.34 | BJ9: 480968.36 | BK9: 479245.99 | BL9: 489095 | BM9: 448966.43 | BN9: 450271.83 | BO9: 449675 | BP9: 426326.8 | BR9: 237429 | BS9: 277647 | BT9: 282040 | BU9: 379805 | BV9: 425282 | BW9: 443273.31 | BX9: 454604.17 | BY9: 454624.89 | BZ9: 458566.65 | CA9: 452933.86 | CB9: 470928.48 | CC9: 469357.54 | CD9: 488849.42 | CE9: 490418.58 | CF9: 480968.36 | CG9: 449619.13
A10: ABL Própria Média (m²) | B10: Average Owned GLA (sqm) | C10: - | D10: 207924 | E10: 208598 | F10: 237429 | G10: - | H10: 225694 | I10: 266778 | J10: 272779 | K10: 277647 | L10: 285203 | M10: 288118 | N10: 281491 | O10: 282040 | P10: 282721 | Q10: 302383 | R10: 353530 | S10: 380221 | T10: 423526 | U10: 425163 | V10: 425282 | W10: 425282 | X10: 434228.67 | Y10: 435375.7 | Z10: 437276.21 | AA10: 437373.12 | AB10: 452037.4 | AC10: 454603.48 | AD10: 454603.48 | AE10: 454604.17 | AF10: 454604.17 | AG10: 454614.53 | AH10: 454624.89 | AI10: 447782.81 | AJ10: 447807.63 | AK10: 447812.52 | AL10: 451397.23 | AM10: 459101.03 | AN10: 459101.03 | AO10: 457402.89 | AP10: 452933.86 | AQ10: 465799.06 | AR10: 470663.28 | AS10: 470691.66 | AT10: 470928.48 | AU10: 471002.86 | AV10: 468858.85 | AW10: 469274.91 | AX10: 469357.54 | AY10: 469493.57 | AZ10: 469305.08 | BA10: 469183.42 | BB10: 480795.94 | BC10: 490044.75 | BD10: 490213.15 | BE10: 490214.93 | BF10: 490418.58 | BG10: 489933.51 | BH10: 491430.99 | BI10: 482969.45 | BJ10: 480956.85 | BK10: 479245.99 | BL10: 489095 | BM10: 448966.43 | BN10: 450271.83 | BO10: 449675 | BP10: 426326.8 | BR10: 224503 | BS10: 257538 | BT10: 281491 | BU10: 321404 | BV10: 413518 | BW10: 431279.1 | BX10: 451165.84 | BY10: 454611.94 | BZ10: 448700.05 | CA10: 457134.7 | CB10: 469520.62 | CC10: 469357.54 | CD10: 504924.63 | CE10: 490418.58 | CF10: 486322.65 | CG10: 449619.13
A11: ABL Total Média Shopping (m²) | B11: Total GLA, malls (sqm) | C11: 369055 | D11: 402615 | E11: 404095 | F11: 403465 | G11: 402235 | H11: 435263 | I11: 435292 | J11: 440255 | K11: 440255 | L11: 465548 | M11: 456919 | N11: 456919 | O11: 456919 | P11: 458100 | Q11: 522287 | R11: 579461 | S11: 580028 | T11: 626951 | U11: 626951 | V11: 626951 | W11: 626951 | X11: 646122 | Y11: 681410 | Z11: 681410 | AA11: 681410 | AB11: 701786 | AC11: 701786 | AD11: 701786 | AE11: 701786 | AF11: 701786 | AG11: 701786 | AH11: 701786 | AI11: 698594.58 | AJ11: 698596.35 | AK11: 698596.35 | AL11: 718484.26 | AM11: 719464.94 | AN11: 719464.94 | AO11: 689140.94 | AP11: 671118.26 | AQ11: 671703.19 | AR11: 671638.81 | AS11: 671698.13 | AT11: 671909.27 | AU11: 672211.88 | AV11: 669689.86 | AW11: 670312.54 | AX11: 670294.71 | AY11: 670439.43 | AZ11: 670143.34 | BA11: 669934.58 | BB11: 669969.67 | BC11: 672823.13 | BD11: 673595.83 | BE11: 673611.28 | BF11: 673827.47 | BG11: 672731.63 | BH11: 672814.23 | BI11: 662210.42 | BJ11: 699525.9 | BK11: 697541.54 | BL11: 735078.49 | BM11: 735059.49 | BN11: 737246.97 | BO11: 736325 | BP11: 735954.78 | BR11: 403465 | BS11: 440255 | BT11: 456919 | BU11: 579461 | BV11: 626951 | BW11: 681410 | BX11: 701786 | BY11: 701786 | BZ11: 718484.26 | CA11: 671118.26 | CB11: 671909.27 | CC11: 670294.71 | CD11: 669969.67 | CE11: 673827.47 | CF11: 676820.45 | CG11: 736153.23
A12: ABL Própria Média Shopping (m²) | B12: Owned GLA, malls (sqm) | C12: 186016 | D12: 207924 | E12: 208598 | F12: 208349 | G12: 209211 | H12: 234097 | I12: 236569 | J12: 245993 | K12: 245993 | L12: 258639 | M12: 249395 | N12: 249395 | O12: 250379 | P12: 251717 | Q12: 308732 | R12: 348144 | S12: 345862 | T12: 393501 | U12: 393501 | V12: 393501 | W12: 393610 | X12: 407030 | Y12: 408744.72 | Z12: 411595.48 | AA12: 411728.34 | AB12: 419064.71 | AC12: 419064.71 | AD12: 419064.71 | AE12: 419064.71 | AF12: 419064.71 | AG12: 419078.9 | AH12: 419083.64 | AI12: 415489.61 | AJ12: 415514.42 | AK12: 415519.31 | AL12: 426273.45 | AM12: 426807.82 | AN12: 426807.82 | AO12: 424260.61 | AP12: 420640.66 | AQ12: 437733.68 | AR12: 437693.79 | AS12: 437722.18 | AT12: 437843.73 | AU12: 437923.43 | AV12: 435857.96 | AW12: 436274.02 | AX12: 436248.31 | AY12: 436384.05 | AZ12: 436195.56 | BA12: 436073.9 | BB12: 448199.9 | BC12: 449395.23 | BD12: 449563.63 | BE12: 449565.41 | BF12: 449769.05 | BG12: 450620.54 | BH12: 450781.47 | BI12: 442319.93 | BJ12: 440318.83 | BK12: 438596.47 | BL12: 448445.48 | BM12: 422396.57 | BN12: 423701.97 | BO12: 423105 | BP12: 399756.94 | BR12: 208249 | BS12: 245993 | BT12: 249395 | BU12: 348144 | BV12: 393501 | BW12: 411595.48 | BX12: 419064.71 | BY12: 419083.64 | BZ12: 426273.45 | CA12: 420640.66 | CB12: 437843.73 | CC12: 436248.31 | CD12: 448199.9 | CE12: 449769.05 | CF12: 444171.15 | CG12: 423049.27
A13: Total Shoppings (1) | B13: Number of malls(1) | C13: 11 | D13: 12 | E13: 12 | F13: 12 | G13: 12 | H13: 13 | I13: 13 | J13: 13 | K13: 13 | L13: 14 | M13: 13 | N13: 13 | O13: 13 | P13: 13 | Q13: 15 | R13: 16 | S13: 16 | T13: 16 | U13: 16 | V13: 16 | W13: 16 | X13: 16 | Y13: 17 | Z13: 17 | AA13: 17 | AB13: 17 | AC13: 17 | AD13: 17 | AE13: 17 | AF13: 17 | AG13: 17 | AH13: 17 | AI13: 17 | AJ13: 17 | AK13: 17 | AL13: 18 | AM13: 18 | AN13: 18 | AO13: 17 | AP13: 16 | AQ13: 16 | AR13: 16 | AS13: 16 | AT13: 16 | AU13: 16 | AV13: 16 | AW13: 16 | AX13: 16 | AY13: 16 | AZ13: 16 | BA13: 16 | BB13: 16 | BC13: 16 | BD13: 16 | BE13: 16 | BF13: 16 | BG13: 16 | BH13: 16 | BI13: 15 | BJ13: 16 | BK13: 16 | BL13: 17 | BM13: 17 | BN13: 17 | BO13: 17 | BP13: 17 | BR13: 12 | BS13: 13 | BT13: 13 | BU13: 15 | BV13: 16 | BW13: 17 | BX13: 17 | BY13: 17 | BZ13: 18 | CA13: 16 | CB13: 16 | CC13: 16 | CD13: 16 | CE13: 16 | CF13: 16 | CG13: 17
A14: Vendas Totais (R$ mil) | B14: Total sales (R$ ’000) | C14: 1273080 | D14: 1495135 | E14: 1500665 | F14: 1990692 | G14: 1507656 | H14: 1787864 | I14: 1746690 | J14: 2321075 | K14: 1775184 | L14: 1897797 | M14: 1980254 | N14: 2553032 | O14: 1965689 | P14: 2149038 | Q14: 2168132 | R14: 2932228 | S14: 2254453 | T14: 2520032 | U14: 2468993 | V14: 3299856.9 | W14: 2486165.5 | X14: 2724638.5 | Y14: 2846453.1 | Z14: 3793592.9 | AA14: 2835874 | AB14: 3085262.6 | AC14: 2901263.2 | AD14: 3896858.2 | AE14: 2910195.6 | AF14: 3248347.8 | AG14: 3097345.4 | AH14: 4018835.3 | AI14: 2973200.4 | AJ14: 3252406 | AK14: 3245305.8 | AL14: 4219623.5 | AM14: 3134792.2 | AN14: 3508228.6 | AO14: 3324207.1 | AP14: 4250371.8 | AQ14: 2633733.3 | AR14: 603633.49 | AS14: 1820455.3 | AT14: 3639343.5 | AU14: 1885292.1 | AV14: 2742934 | AW14: 3326673.5 | AX14: 4751747 | AY14: 3341466.2 | AZ14: 4280442.7 | BA14: 4084236.8 | BB14: 5259166.9 | BC14: 3903522.4 | BD14: 4624551.3 | BE14: 4462534.8 | BF14: 5875594.2 | BG14: 4306838.7 | BH14: 4949663.1 | BI14: 4896417.2 | BJ14: 7003319.4 | BK14: 5037473.9 | BL14: 6303975.8 | BM14: 5999147.1 | BN14: 7902051.1 | BO14: 5680369 | BP14: 6594832.7 | BR14: 6259572 | BS14: 7363285 | BT14: 8115637 | BU14: 9128208 | BV14: 10544580 | BW14: 11850850 | BX14: 12719258 | BY14: 13272439 | BZ14: 13690536 | CA14: 14217600 | CB14: 8697165.7 | CC14: 12706647 | CD14: 16968641 | CE14: 18866203 | CF14: 21156238 | CG14: 25242648
A15: Vendas mesmas lojas (SSS) | B15: Same-stores sales (SSS) | C15: 0.113 | D15: 0.085 | E15: 0.096 | F15: 0.069 | G15: 0.054 | H15: 0.104 | I15: 0.075 | J15: 0.084 | K15: 0.0811 | L15: 0.073 | M15: 0.089 | N15: 0.08 | O15: 0.08 | P15: 0.068 | Q15: 0.081 | R15: 0.081 | S15: 0.074 | T15: 0.082 | U15: 0.069 | V15: 0.081 | W15: 0.072 | X15: 0.06 | Y15: 0.046 | Z15: 0.04234108 | AA15: 0.018 | AB15: 0.03 | AC15: 0.01 | AD15: 0 | AE15: 0.017 | AF15: 0.041 | AG15: 0.058759934 | AH15: 0.025 | AI15: 0.011 | AJ15: -0.018797828 | AK15: 0.028648292 | AL15: 0.034407317 | AM15: 0.030676883 | AN15: 0.069203643 | AO15: 0.030856798 | AP15: 0.057036796 | AQ15: -0.12853047 | AR15: -0.70626386 | AS15: -0.3752043 | AT15: -0.118 | AU15: -0.2561852 | AV15: 2.2301821 | AW15: 0.078194651 | AX15: 0.27519298 | AY15: 0.707 | AZ15: 0.50117292 | BA15: 0.19551138 | BB15: 0.089306138 | BC15: 0.15049134 | BD15: 0.065310999 | BE15: 0.063468813 | BF15: 0.094 | BG15: 0.072702965 | BH15: 0.040110545 | BI15: 0.089 | BJ15: 0.095 | BK15: 0.063 | BL15: 0.12083415 | BM15: 0.058053777 | BN15: 0.059 | BO15: 0.052 | BP15: 0.016949167 | BR15: 0.087 | BS15: 0.0708 | BT15: 0.0788 | BU15: 0.078 | BV15: 0.078 | BW15: 0.05508527 | BX15: 0.011 | BY15: 0.035 | BZ15: 0.015076593 | CA15: 0.047950363 | CB15: -0.28087341 | CC15: 0.34683553 | CD15: 0.30038916 | CE15: 0.090387819 | CF15: 0.075 | CG15: 0.077
A16: Vendas mesma área (SAS) | B16: Same-area sales (SAS) | C16: 0.114 | D16: 0.104 | E16: 0.114 | F16: 0.095 | G16: 0.081 | H16: 0.136 | I16: 0.114 | J16: 0.102 | K16: 0.109 | L16: 0.075 | M16: 0.091 | N16: 0.081 | O16: 0.084 | P16: 0.073 | Q16: 0.082 | R16: 0.099 | S16: 0.076 | T16: 0.083 | U16: 0.071 | V16: 0.082 | W16: 0.073 | X16: 0.062 | Y16: 0.047 | Z16: 0.052 | AA16: 0.04 | AB16: 0.032 | AC16: 0.024 | AD16: 0.002 | AE16: 0.016 | AF16: 0.051 | AG16: 0.068 | AH16: 0.031 | AI16: 0.02164968 | AJ16: 0.0012493143 | AK16: 0.047770072 | AL16: 0.049961801 | AM16: 0.045465534 | AN16: 0.072096293 | AO16: 0.042298613 | AP16: 0.073915939 | AQ16: -0.095889312 | AR16: -0.81638925 | AS16: -0.42890509 | AT16: -0.14375878 | AU16: -0.28417501 | AV16: 3.5440388 | AW16: 0.04361048 | AX16: 0.30616238 | AY16: 0.772 | AZ16: 0.56167087 | BA16: 0.225 | BB16: 0.1074864 | BC16: 0.16830987 | BD16: 0.080390897 | BE16: 0.092623918 | BF16: 0.11721006 | BG16: 0.10332114 | BH16: 0.07030126 | BI16: 0.10274187 | BJ16: 0.1108556 | BK16: 0.07560582 | BL16: 0.14389594 | BM16: 0.090190773 | BN16: 0.084 | BO16: 0.078 | BP16: 0.0424031 | BR16: 0.102 | BS16: 0.0951 | BT16: 0.0813 | BU16: 0.078 | BV16: 0.08 | BW16: 0.058 | BX16: 0.02 | BY16: 0.049 | BZ16: 0.031501142 | CA16: 0.060691998 | CB16: -0.36225576 | CC16: 0.46101006 | CD16: 0.33656262 | CE16: 0.11182756 | CF16: 0.097 | CG16: 0.101
A17: Aluguéis mesmas lojas (SSR) | B17: Same-store rentals (SSR) | C17: 0.063 | D17: 0.063 | E17: 0.079 | F17: 0.079 | G17: 0.072 | H17: 0.116 | I17: 0.1 | J17: 0.09 | K17: 0.1005 | L17: 0.081 | M17: 0.081 | N17: 0.088 | O17: 0.141 | P17: 0.088 | Q17: 0.084 | R17: 0.109 | S17: 0.092 | T17: 0.091 | U17: 0.086 | V17: 0.087 | W17: 0.081 | X17: 0.068 | Y17: 0.055 | Z17: 0.069028786 | AA17: 0.065 | AB17: 0.064 | AC17: 0.074 | AD17: 0.065 | AE17: 0.073 | AF17: 0.063 | AG17: 0.05776264 | AH17: 0.044 | AI17: 0.028 | AJ17: 0.018215091 | AK17: 0.017561171 | AL17: 0.04331316 | AM17: 0.06357253 | AN17: 0.10040556 | AO17: 0.087636037 | AP17: 0.052129372 | AQ17: -0.26474241 | AR17: -0.79121179 | AS17: -0.28526569 | AT17: -0.03272714 | AU17: -0.042 | AV17: 4.1085578 | AW17: 0.2287195 | AX17: 0.28 | AY17: 0.699 | AZ17: 0.57875271 | BA17: 0.357 | BB17: 0.21973459 | BC17: 0.19739854 | BD17: 0.10492064 | BE17: 0.082574348 | BF17: 0.065583486 | BG17: 0.055 | BH17: 0.029 | BI17: 0.063 | BJ17: 0.076010558 | BK17: 0.058898481 | BL17: 0.10392918 | BM17: 0.071422442 | BN17: 0.066 | BO17: 0.06 | BP17: 0.027256967 | BR17: 0.067 | BS17: 0.083 | BT17: 0.0968 | BU17: 0.105 | BV17: 0.091 | BW17: 0.068 | BX17: 0.064 | BY17: 0.058 | BZ17: 0.026955411 | CA17: 0.073430796 | CB17: -0.24520876 | CC17: 0.517 | CD17: 0.44131735 | CE17: 0.10149328 | CF17: 0.061144127 | CG17: 0.07
A18: Aluguéis mesma área (SAR) | B18: Same-area rentals (SAR) | C18: 0.064 | D18: 0.064 | E18: 0.073 | F18: 0.091 | G18: 0.07 | H18: 0.129 | I18: 0.113 | J18: 0.096 | K18: 0.1142 | L18: 0.081 | M18: 0.09 | N18: 0.094 | O18: 0.145 | P18: 0.093 | Q18: 0.085 | R18: 0.114 | S18: 0.108 | T18: 0.093 | U18: 0.088 | V18: 0.089 | W18: 0.081 | X18: 0.068 | Y18: 0.054 | Z18: 0.071 | AA18: 0.074 | AB18: 0.061 | AC18: 0.064 | AD18: 0.062 | AE18: 0.069 | AF18: 0.066 | AG18: 0.061 | AH18: 0.041 | AI18: 0.043346979 | AJ18: 0.056805732 | AK18: 0.052621686 | AL18: 0.047289397 | AM18: 0.046 | AN18: 0.074428638 | AO18: 0.062379457 | AP18: 0.045917883 | AQ18: -0.27139644 | AR18: -0.79797026 | AS18: -0.32767281 | AT18: -0.10099497 | AU18: -0.128 | AV18: 3.6761305 | AW18: 0.11853374 | AX18: 0.243 | AY18: 0.722 | AZ18: 0.54697836 | BA18: 0.324 | BB18: 0.25729735 | BC18: 0.17325218 | BD18: 0.09001488 | BE18: 0.064798552 | BF18: 0.046111503 | BG18: 0.036647918 | BH18: 0.021 | BI18: 0.038 | BJ18: 0.059691717 | BK18: 0.041489034 | BL18: 0.099743653 | BM18: 0.074631967 | BN18: 0.059 | BO18: 0.067 | BP18: 0.025396968 | BR18: 0.073 | BS18: 0.088 | BT18: 0.098 | BU18: 0.108 | BV18: 0.093 | BW18: 0.068 | BX18: 0.069 | BY18: 0.059 | BZ18: 0.043737525 | CA18: 0.05680003 | CB18: -0.28479214 | CC18: 0.448 | CD18: 0.40809969 | CE18: 0.082097604 | CF18: 0.043868843 | CG18: 0.066
A19: Custo de Ocupação (% das vendas) | B19: Occupancy cost (% of sales) | C19: 0.12 | D19: 0.113 | E19: 0.113 | F19: 0.107 | G19: 0.122 | H19: 0.112 | I19: 0.106 | J19: 0.101 | K19: 0.116 | L19: 0.106 | M19: 0.107 | N19: 0.106 | O19: 0.116 | P19: 0.107 | Q19: 0.108 | R19: 0.108 | S19: 0.124 | T19: 0.116 | U19: 0.119 | V19: 0.11 | W19: 0.128 | X19: 0.116 | Y19: 0.121 | Z19: 0.11 | AA19: 0.127 | AB19: 0.117 | AC19: 0.125 | AD19: 0.11461712 | AE19: 0.12739344 | AF19: 0.115 | AG19: 0.11999175 | AH19: 0.11249173 | AI19: 0.13019444 | AJ19: 0.1175526 | AK19: 0.11999994 | AL19: 0.11435184 | AM19: 0.1259652 | AN19: 0.11691177 | AO19: 0.11931236 | AP19: 0.1095 | AQ19: 0.11530909 | AR19: 0.22489291 | AS19: 0.14356025 | AT19: 0.12987238 | AU19: 0.16774754 | AV19: 0.12827079 | AW19: 0.12254186 | AX19: 0.113 | AY19: 0.138 | AZ19: 0.113 | BA19: 0.122 | BB19: 0.11834983 | BC19: 0.13189497 | BD19: 0.11341878 | BE19: 0.11855715 | BF19: 0.111 | BG19: 0.12479188 | BH19: 0.108 | BI19: 0.11 | BJ19: 0.105 | BK19: 0.118 | BL19: 0.10542316 | BM19: 0.111 | BN19: 0.104 | BO19: 0.119 | BP19: 0.108 | BR19: 0.113 | BS19: 0.105 | BT19: 0.107 | BU19: 0.113 | BV19: 0.116 | BW19: 0.116 | BX19: 0.11981369 | BY19: 0.12086111 | BZ19: 0.12033817 | CA19: 0.11682306 | CB19: 0.13532543 | CC19: 0.126 | CD19: 0.12114744 | CE19: 0.117 | CF19: 0.111 | CG19: 0.109
A20: Taxa de Ocupação | B20: Occupancy rate | C20: 0.972 | D20: 0.972 | E20: 0.979 | F20: 0.971 | G20: 0.967 | H20: 0.966 | I20: 0.968 | J20: 0.969 | K20: 0.966 | L20: 0.961 | M20: 0.961 | N20: 0.961 | O20: 0.954 | P20: 0.958 | Q20: 0.967 | R20: 0.955 | S20: 0.95 | T20: 0.952 | U20: 0.951 | V20: 0.953 | W20: 0.96 | X20: 0.95 | Y20: 0.941 | Z20: 0.94 | AA20: 0.94 | AB20: 0.938 | AC20: 0.9325 | AD20: 0.9336 | AE20: 0.93 | AF20: 0.931 | AG20: 0.933 | AH20: 0.942 | AI20: 0.9465 | AJ20: 0.94580497 | AK20: 0.9436999 | AL20: 0.94604375 | AM20: 0.937 | AN20: 0.9210126 | AO20: 0.9242584 | AP20: 0.93989872 | AQ20: 0.94138129 | AR20: 0.93569278 | AS20: 0.91561893 | AT20: 0.90986471 | AU20: 0.903 | AV20: 0.90071271 | AW20: 0.907 | AX20: 0.92 | AY20: 0.927 | AZ20: 0.926 | BA20: 0.932 | BB20: 0.92895229 | BC20: 0.927 | BD20: 0.924 | BE20: 0.93438368 | BF20: 0.94451212 | BG20: 0.94063128 | BH20: 0.95 | BI20: 0.959 | BJ20: 0.977 | BK20: 0.96561367 | BL20: 0.96378249 | BM20: 0.96065863 | BN20: 0.967 | BO20: 0.973 | BP20: 0.96857576 | BR20: 0.971 | BS20: 0.97 | BT20: 0.961 | BU20: 0.963 | BV20: 0.952 | BW20: 0.946 | BX20: 0.9347 | BY20: 0.936 | BZ20: 0.94552142 | CA20: 0.93049704 | CB20: 0.93089767 | CC20: 0.90773627 | CD20: 0.92855232 | CE20: 0.93256455 | CF20: 0.95718276 | CG20: 0.964
A21: Inadimplência líquida | B21: Net delinquency rate | C21: 0.037 | D21: 0.037 | E21: 0.041 | F21: 0.019 | G21: 0.031 | H21: 0.033 | I21: 0.022 | J21: 0.026 | K21: 0.025 | L21: 0.012 | M21: 0.012 | N21: 0.009 | O21: 0.016 | P21: 0.01 | Q21: 0.014 | R21: 0.014 | S21: 0.0198 | T21: 0.017 | U21: 0.01 | V21: 0.018 | W21: 0.026 | X21: 0.017 | Y21: 0.024 | Z21: 0.011050608 | AA21: 0.0374 | AB21: 0.03 | AC21: 0.0105 | AD21: 0.002 | AE21: 0.036869851 | AF21: 0.012 | AG21: 0.014612328 | AH21: 0.0017 | AI21: 0.04 | AJ21: 0.016309593 | AK21: 0.0073853304 | AL21: 0.012822454 | AM21: 0.028824255 | AN21: 0.0056647959 | AO21: 0.0041308884 | AP21: -0.0079400734 | AQ21: 0.037232123 | AR21: -0.262 | AS21: 0.1343413 | AT21: 0.093 | AU21: 0.113 | AV21: -0.039539903 | AW21: 0.020832771 | AX21: 0.014 | AY21: 0.053 | AZ21: -0.023 | BA21: -0.0074 | BB21: -0.037872382 | BC21: 0.043567398 | BD21: 0.00074706338 | BE21: -0.0026495323 | BF21: -0.017076243 | BG21: 0.021186801 | BH21: -0.014 | BI21: -0.030638848 | BJ21: -0.03 | BK21: 0.014 | BL21: 0.0027974978 | BM21: -0.0029688388 | BN21: -0.035420726 | BO21: 0.007 | BP21: 0.00071046054 | BR21: 0.019 | BS21: 0.022 | BT21: 0.016 | BU21: 0.014 | BV21: 0.017 | BW21: 0.019941081 | BX21: 0.028 | BY21: 0.017561255 | BZ21: 0.019751524 | CA21: 0.0075159414 | CB21: 0.058066518 | CC21: 0.024 | CD21: -0.0022109061 | CE21: 0.011544613 | CF21: -0.010625807 | CG21: -0.0023363098
A22: Venda/m² - Shoppings (2) | B22: Sales/sqm - Malls (2) | C22: 0 | D22: 0 | E22: 0 | F22: 0 | G22: 0 | H22: 0 | I22: 0 | J22: 0 | K22: 0 | L22: 0 | M22: 0 | N22: 0 | O22: 0 | P22: 0 | Q22: 0 | R22: 0 | S22: 0 | T22: 0 | U22: 0 | V22: 0 | W22: 0 | X22: 0 | Y22: 0 | Z22: 0 | AA22: 0 | AB22: 0 | AC22: 0 | AD22: 0 | AE22: 0 | AF22: 0 | AG22: 0 | AH22: 0 | AI22: 0 | AJ22: 0 | AK22: 0 | AL22: 0 | AM22: 0 | AN22: 0 | AO22: 0 | AP22: 0 | AQ22: 0 | AR22: 0 | AS22: 0 | AT22: 0 | AU22: 0 | AV22: 0 | AW22: 0 | AX22: 0 | AZ22: 6832.3091 | BA22: 6512.1122 | BB22: 8408.5228 | BC22: 6192.5548 | BD22: 7344.6122 | BE22: 7079.3895 | BF22: 9343.5596 | BG22: 6852.3381 | BH22: 7929.1313 | BI22: 7923.0737 | BJ22: 10726.689 | BK22: 7683.7351 | BL22: 9189.5498 | BM22: 8738.6379 | BN22: 11482.618 | BO22: 8245 | BP22: 9608.6918 | BR22: 0 | BS22: 0 | BT22: 0 | BU22: 0 | BV22: 0 | BW22: 0 | BX22: 0 | BY22: 0 | BZ22: 0 | CA22: 0 | CB22: 0 | CC22: 0 | CD22: 25448.411 | CE22: 29947.522 | CF22: 33442.092 | CG22: 38892.261
A23: Aluguel/m² - Shoppings (2) | B23: Rent/sqm - Malls (2) | C23: 0 | D23: 0 | E23: 0 | F23: 0 | G23: 0 | H23: 0 | I23: 0 | J23: 0 | K23: 0 | L23: 0 | M23: 0 | N23: 0 | O23: 0 | P23: 0 | Q23: 0 | R23: 0 | S23: 0 | T23: 0 | U23: 0 | V23: 0 | W23: 0 | X23: 0 | Y23: 0 | Z23: 0 | AA23: 0 | AB23: 0 | AC23: 0 | AD23: 0 | AE23: 0 | AF23: 0 | AG23: 0 | AH23: 0 | AI23: 0 | AJ23: 0 | AK23: 0 | AL23: 0 | AM23: 0 | AN23: 0 | AO23: 0 | AP23: 0 | AQ23: 0 | AR23: 0 | AS23: =SUM('Portfólio | Portfolio'!AS36:AS52)/(AS8-SUM('Portfólio | Portfolio'!AS185:AS190))*1000 -> 359.8789 | AT23: =SUM('Portfólio | Portfolio'!AT36:AT52)/(AT8-SUM('Portfólio | Portfolio'!AT185:AT190))*1000 -> 498.74088 | AU23: =SUM('Portfólio | Portfolio'!AU36:AU52)/(AU8-SUM('Portfólio | Portfolio'!AU185:AU190))*1000 -> 385.51593 | AV23: =SUM('Portfólio | Portfolio'!AV36:AV52)/(AV8-SUM('Portfólio | Portfolio'!AV185:AV190))*1000 -> 426.04019 | AW23: =SUM('Portfólio | Portfolio'!AW36:AW52)/(AW8-SUM('Portfólio | Portfolio'!AW185:AW190))*1000 -> 468.19643 | AX23: =SUM('Portfólio | Portfolio'!AX36:AX52)/(AX8-SUM('Portfólio | Portfolio'!AX185:AX190))*1000 -> 650.41507 | AY23: =SUM('Portfólio | Portfolio'!AY36:AY52)/(AY8-SUM('Portfólio | Portfolio'!AY185:AY190))*1000 -> 502.93274 | AZ23: =SUM('Portfólio | Portfolio'!AZ36:AZ52)/(AZ8-SUM('Portfólio | Portfolio'!AZ185:AZ190))*1000 -> 534.57814 | ... BI23: =SUM('Portfólio | Portfolio'!BI36:BI52)/(BI8-SUM('Portfólio | Portfolio'!BI185:BI190))*1000 -> 598.26509 | BJ23: 794.54222 | BK23: 613.21451 | BL23: 687.65428 | BM23: 689.3821 | BN23: 883.52354 | BO23: 667 | BP23: 710.6108 | BR23: 0 | BS23: 0 | BT23: 0 | BU23: 0 | BV23: 0 | BW23: 0 | BX23: 0 | BY23: 0 | BZ23: 0 | CA23: 0 | CB23: 0 | CC23: 0 | CD23: 2000.9347 | CE23: 2421.6568 | CF23: 2546.8555 | CG23: 3011.1432
A24: Aluguel/m² (3) | B24: Ren/sqm (3) | C24: 0 | D24: 0 | E24: 0 | F24: 0 | G24: 0 | H24: 0 | I24: 0 | J24: 0 | K24: 0 | L24: 0 | M24: 0 | N24: 0 | O24: 0 | P24: 0 | Q24: 0 | R24: 0 | S24: 0 | T24: 0 | U24: 0 | V24: 0 | W24: 0 | X24: 0 | Y24: 0 | Z24: 0 | AA24: 0 | AB24: 0 | AC24: 0 | AD24: 0 | AE24: 0 | AF24: 0 | AG24: 0 | AH24: 0 | AI24: 0 | AJ24: 0 | AK24: 0 | AL24: 0 | AM24: 0 | AN24: 0 | AO24: 0 | AP24: 0 | AQ24: 0 | AR24: 0 | AS24: =SUM('Portfólio | Portfolio'!AS36:AS59)/AS8*1000 -> 323.23327 | AT24: =SUM('Portfólio | Portfolio'!AT36:AT59)/AT8*1000 -> 445.87039 | AU24: =SUM('Portfólio | Portfolio'!AU36:AU59)/AU8*1000 -> 345.12712 | AV24: =SUM('Portfólio | Portfolio'!AV36:AV59)/AV8*1000 -> 383.07491 | AW24: =SUM('Portfólio | Portfolio'!AW36:AW59)/AW8*1000 -> 416.12333 | AX24: =SUM('Portfólio | Portfolio'!AX36:AX59)/AX8*1000 -> 576.14831 | AY24: =SUM('Portfólio | Portfolio'!AY36:AY59)/AY8*1000 -> 448.82301 | AZ24: =SUM('Portfólio | Portfolio'!AZ36:AZ59)/AZ8*1000 -> 476.91914 | ... BI24: =SUM('Portfólio | Portfolio'!BI36:BI59)/BI8*1000 -> 527.33163 | BJ24: 699.21054 | BK24: 543.83745 | BL24: 610.34537 | BM24: 611.75968 | BN24: 779.70115 | BO24: 593 | BP24: 630.64213 | BR24: 0 | BS24: 0 | BT24: 0 | BU24: 0 | BV24: 0 | BW24: 0 | BX24: 0 | BY24: 0 | BZ24: 0 | CA24: 0 | CB24: 0 | CC24: 0 | CD24: 0 | CE24: 2128.3825 | CF24: 2244.2128 | CG24: 2647.5985
A26: (1) Considera Iguatemi Esplanada e Esplanada Shopping como um único empreendimento. | B26: (1) Considers Iguatemi Esplanada and Esplanada Shopping as one asset.
A27: (2) Considera vendas e receita de aluguel dos shoppings e ABL total shoppings (exclui torres, outlets e Power Center Iguatemi Campinas). | B27: (2) Considers malls sales and rental income and total GLA malls (excludes towers, outlet and Power Center Iguatemi Campinas).
A28: (3) Considera ABL total shoppings e torres. | B28: (3) Considers total GLA, malls and towers.
A31: Vendas mesmas lojas (SSS) - Âncoras¹ | B31: Same-Store Sales (SSS) = Anchors¹ | C31: 1Q10 | D31: 2Q10 | E31: 3Q10 | F31: 4Q10 | G31: 1Q11 | H31: 2Q11 | I31: 3Q11 | J31: 4Q11 | K31: 1Q12 | L31: 2Q12 | M31: 3Q12 | N31: 4Q12 | O31: 1Q13 | P31: 2Q13 | Q31: 3Q13 | R31: 4Q13 | S31: 1Q14 | T31: 2Q14 | U31: 3Q14 | V31: 4Q14 | W31: 1Q15 | X31: 2Q15 | Y31: 3Q15 | Z31: 4Q15 | AA31: 1Q16 | AB31: 2Q16 | AC31: 3Q16 | AD31: 4Q16 | AE31: 1Q17 | AF31: 2Q17 | AG31: 3Q17 | AH31: 4Q17 | AI31: 1Q18 | AJ31: 2Q18 | AK31: 3Q18 | AL31: 4Q18 | AM31: 1Q19 | AN31: 2Q19 | AO31: 3Q19 | AP31: 4Q19 | AQ31: 1Q20 | AR31: 2Q20 | AS31: 3Q20 | AT31: 4Q20 | AU31: 1Q21 | AV31: 2Q21 | AW31: 3Q21 | AX31: 4Q21 | AY31: 1Q22 | AZ31: 2Q22 | BA31: 3Q22 | BB31: 4Q22 | BC31: 1Q23 | BD31: 2Q23 | BE31: 3Q23 | BF31: 4Q23 | BG31: 1Q24 | BH31: =BH7 -> 2Q24 | BI31: =BI7 -> 3Q24 | BJ31: =BJ7 -> 4Q24 | BK31: =BK7 -> 1Q25 | BL31: =BL7 -> 2Q25 | BM31: =BM7 -> 3Q25 | BN31: =BN7 -> 4Q25 | BO31: =BO7 -> 1Q26 | BP31: =BP7 -> 2Q26
A32: Alimentação | B32: Food | AM32: 0.12480456 | AN32: 0.12632926 | AO32: 0.020955039 | AP32: 0.099284893 | AQ32: -0.098791525 | AR32: -0.59840638 | AS32: -0.43161428 | AT32: -0.15086438 | AU32: -0.23290259 | AV32: 1.0811033 | AW32: 0.43017977 | AX32: 0.3614285 | AY32: 0.66367559 | AZ32: 0.41332756 | BA32: 0.092742632 | BB32: -0.011860477 | BC32: 0.02734923 | BD32: -0.0012136877 | BE32: -0.057682097 | BF32: -0.0035756408 | BG32: 0.013855258 | BH32: -0.059327578 | BI32: -0.015035354 | BJ32: 0.028570069 | BK32: -0.088293341 | BL32: -0.022045564 | BM32: -0.035188555 | BN32: 0.0016426214 | BO32: 0.018 | BP32: -0.018273409
A33: Moda, Calçados, Artigos de Couro | B33: Apparel, Shoes, Leather Goods | AM33: 0.072761263 | AN33: 0.067046364 | AO33: 0.10463949 | AP33: 0.1253165 | AQ33: -0.1032099 | AR33: -0.80175823 | AS33: -0.50376968 | AT33: -0.17401185 | AU33: -0.35976682 | AV33: 4.1522496 | AW33: 0.66216452 | AX33: 0.42298883 | AY33: 1.1585527 | AZ33: 0.63400328 | BA33: 0.21300706 | BB33: 0.09996092 | BC33: 0.18460937 | BD33: 0.10365686 | BE33: 0.1372825 | BF33: 0.17870986 | BG33: 0.13519915 | BH33: -0.050722084 | BI33: 0.078516875 | BJ33: 0.10092824 | BK33: 0.07804013 | BL33: 0.17166066 | BM33: -0.00081661386 | BN33: 0.031272381 | BO33: 0.037 | BP33: 0.050033391
A34: Artigos para o Lar, Livraria, Papelaria, Info. | B34: Housewares, Bookstores, Stationerty, Tech | AM34: -0.13882644 | AN34: -0.047494404 | AO34: -0.05997697 | AP34: -0.062798337 | AQ34: -0.24025066 | AR34: -0.70169662 | AS34: -0.33482166 | AT34: -0.12596539 | AU34: -0.30501488 | AV34: 1.4736107 | AW34: 0.15808197 | AX34: 0.085172362 | AY34: 0.42713616 | AZ34: 0.075798392 | BA34: -0.098920916 | BB34: -0.11193559 | BC34: -0.019258105 | BD34: -0.069995946 | BE34: -0.084884026 | BF34: -0.025711464 | BG34: -0.046159683 | BH34: -0.0040489645 | BI34: 0.10249843 | BJ34: 0.077593947 | BK34: 0.034273319 | BL34: -0.032062738 | BM34: -0.10459662 | BN34: -0.10664188 | BO34: -0.122 | BP34: -0.22189381
A35: Artigos Diversos, Saúde & Beleza, Joalherias | B35: Miscellaneous, Health & Beauty, Jewelry | AM35: -0.08534668 | AN35: 0.16760543 | AO35: -0.035892484 | AP35: -0.035487966 | AQ35: -0.14628726 | AR35: -0.76960348 | AS35: -0.49418646 | AT35: -0.21985448 | AU35: -0.37231787 | AV35: 2.1923739 | AW35: 0.29128177 | AX35: 0.16382821 | AY35: 0.73313237 | AZ35: 0.4677213 | BA35: 0.20908396 | BB35: 0.084671874 | BC35: 0.03101788 | BD35: -0.074923644 | BE35: -0.0034367843 | BF35: -0.03299891 | BG35: 0.047493371 | BH35: -0.03977966 | BI35: 0.067365622 | BJ35: 0.054794606 | BK35: 0.025535729 | BL35: 0.26053075 | BM35: 0.018741734 | BN35: 0.049636517 | BO35: 0.125 | BP35: 0.10746564
A36: Serviços, Entretenimento, Outros | B36: Services, Entertainement, Others | AM36: 2.5778449e-06 | AN36: 0.13004611 | AO36: 0.066540282 | AP36: 0.0079059564 | AQ36: -0.035563635 | AR36: -0.10244061 | AS36: -0.16925013 | AT36: -0.20756266 | AU36: -0.25889747 | AV36: 0.18708474 | AW36: 0.0050944935 | AX36: 0.30772379 | AY36: 0.29168225 | AZ36: 0.38636919 | BA36: 0.5308732 | BB36: 0.11101512 | BC36: 0.15252711 | BD36: 0.098493826 | BE36: 0.12284021 | BF36: 0.074171429 | BG36: 0.11572688 | BH36: 0.0021348977 | BI36: 0.032287946 | BJ36: 0.11811933 | BK36: 0.028897415 | BL36: 0.085733297 | BM36: 0.0068445481 | BN36: 0.0047549977 | BO36: 0.042 | BP36: 0.23016249
A37: Total | B37: Total | AM37: 0.0028108013 | AN37: 0.075359402 | AO37: 0.053150593 | AP37: 0.040930629 | AQ37: -0.10689994 | AR37: -0.58566631 | AS37: -0.39344695 | AT37: -0.1826256 | AU37: -0.3083804 | AV37: 1.1697823 | AW37: 0.2799581 | AX37: 0.31580484 | AY37: 0.64509503 | AZ37: 0.47931209 | BA37: 0.23874599 | BB37: 0.073148061 | BC37: 0.12234748 | BD37: 0.062175673 | BE37: 0.082205155 | BF37: 0.092962178 | BG37: 0.095556637 | BH37: -0.033647951 | BI37: 0.058700627 | BJ37: 0.09355707 | BK37: 0.041913007 | BL37: 0.13051732 | BM37: -0.0062774102 | BN37: 0.017060623 | BO37: 0.032 | BP37: 0.050773362
A38: (1) Considerando âncoras como lojas com ABL igual ou superior a 1.000 m2 e demais lojas com ABL inferior a 1.000 m2 | B38: (1) Considering anchors such as stores with GLA equal to or greater than 1,000 sqm and other stores with GLA lower than 1,000 sqm.
A40: Vendas mesmas lojas (SSS) - Demais Lojas | B40: Same-Store Sales (SSS) - Other Stores | C40: 1Q10 | D40: 2Q10 | E40: 3Q10 | F40: 4Q10 | G40: 1Q11 | H40: 2Q11 | I40: 3Q11 | J40: 4Q11 | K40: 1Q12 | L40: 2Q12 | M40: 3Q12 | N40: 4Q12 | O40: 1Q13 | P40: 2Q13 | Q40: 3Q13 | R40: 4Q13 | S40: 1Q14 | T40: 2Q14 | U40: 3Q14 | V40: 4Q14 | W40: 1Q15 | X40: 2Q15 | Y40: 3Q15 | Z40: 4Q15 | AA40: 1Q16 | AB40: 2Q16 | AC40: 3Q16 | AD40: 4Q16 | AE40: 1Q17 | AF40: 2Q17 | AG40: 3Q17 | AH40: 4Q17 | AI40: 1Q18 | AJ40: 2Q18 | AK40: 3Q18 | AL40: 4Q18 | AM40: 1Q19 | AN40: 2Q19 | AO40: 3Q19 | AP40: 4Q19 | AQ40: 1Q20 | AR40: 2Q20 | AS40: 3Q20 | AT40: 4Q20 | AU40: 1Q21 | AV40: 2Q21 | AW40: 3Q21 | AX40: 4Q21 | AY40: 1Q22 | AZ40: 2Q22 | BA40: 3Q22 | BB40: 4Q22 | BC40: 1Q23 | BD40: 2Q23 | BE40: 3Q23 | BF40: 4Q23 | BG40: 1Q24 | BH40: =BH31 -> 2Q24 | BI40: =BI31 -> 3Q24 | BJ40: =BJ31 -> 4Q24 | BK40: =BK31 -> 1Q25 | BL40: =BL31 -> 2Q25 | BM40: =BM31 -> 3Q25 | BN40: =BN31 -> 4Q25 | BO40: =BO31 -> 1Q26 | BP40: =BP31 -> 2Q26
A41: Alimentação | B41: Food | AM41: 0.010056411 | AN41: 0.1211346 | AO41: 0.027603846 | AP41: 0.0315109 | AQ41: -0.16675304 | AR41: -0.77392334 | AS41: -0.57455486 | AT41: -0.27923098 | AU41: -0.37402762 | AV41: 2.1729595 | AW41: 0.29814491 | AX41: 0.43477124 | AY41: 0.89941172 | AZ41: 0.82748862 | BA41: 0.28083459 | BB41: 0.14012837 | BC41: 0.2159187 | BD41: 0.10027212 | BE41: 0.10836846 | BF41: 0.12345751 | BG41: 0.12557294 | BH41: 0.010050268 | BI41: 0.035289592 | BJ41: 0.067944827 | BK41: -0.012797686 | BL41: 0.12384246 | BM41: 0.051924344 | BN41: 0.0098974043 | BO41: 0.054 | BP41: 0.0042828501
A42: Moda, Calçados, Artigos de Couro | B42: Apparel, Shoes, Leather Goods | AM42: 0.042090107 | AN42: 0.066278588 | AO42: 0.016981054 | AP42: 0.042857006 | AQ42: -0.13876203 | AR42: -0.76117614 | AS42: -0.36111765 | AT42: -0.063258685 | AU42: -0.21739557 | AV42: 3.3906202 | AW42: 0.61866306 | AX42: 0.34781759 | AY42: 0.92680319 | AZ42: 0.55098955 | BA42: 0.19764308 | BB42: 0.057196828 | BC42: 0.11375587 | BD42: 0.039364559 | BE42: 0.041498239 | BF42: 0.089160832 | BG42: 0.042977167 | BH42: 0.029706633 | BI42: 0.087289373 | BJ42: 0.093176808 | BK42: 0.097322766 | BL42: 0.140655 | BM42: 0.095329757 | BN42: 0.06662842 | BO42: 0.056 | BP42: 0.008218157
A43: Artigos para o Lar, Livraria, Papelaria, Info. | B43: Housewares, Bookstores, Stationerty, Tech | AM43: -0.00088327962 | AN43: -0.056796206 | AO43: -0.026044931 | AP43: 0.029681973 | AQ43: -0.16127528 | AR43: -0.69843622 | AS43: -0.26433308 | AT43: -0.084776067 | AU43: -0.26650852 | AV43: 2.0486635 | AW43: 0.15241663 | AX43: 0.0043582102 | AY43: 0.44470347 | AZ43: 0.23161017 | BA43: 0.11421693 | BB43: 0.1238874 | BC43: 0.13789798 | BD43: -0.0083658385 | BE43: -0.013029979 | BF43: 0.023554919 | BG43: -0.006960101 | BH43: 0.083390591 | BI43: 0.075282241 | BJ43: 0.096890975 | BK43: 0.076120108 | BL43: 0.047771989 | BM43: 0.037147329 | BN43: -0.05193774 | BO43: -0.079 | BP43: -0.082033896
A44: Artigos Diversos, Saúde & Beleza, Joalherias | B44: Miscellaneous, Health & Beauty, Jewelry | AM44: 0.084258446 | AN44: 0.1003487 | AO44: 0.067209924 | AP44: 0.12790565 | AQ44: -0.07949752 | AR44: -0.68645578 | AS44: -0.27610476 | AT44: -0.041104457 | AU44: -0.15049291 | AV44: 2.345567 | AW44: 0.4080814 | AX44: 0.17544698 | AY44: 0.50076861 | AZ44: 0.36725692 | BA44: 0.17150858 | BB44: 0.10595332 | BC44: 0.18089003 | BD44: 0.10574892 | BE44: 0.072001334 | BF44: 0.10628511 | BG44: 0.094006094 | BH44: 0.12779469 | BI44: 0.1602609 | BJ44: 0.1172528 | BK44: 0.082630782 | BL44: 0.10715286 | BM44: 0.069121477 | BN44: 0.14221784 | BO44: 0.097 | BP44: 0.038434231
A45: Serviços, Entretenimento, Outros | B45: Services, Entertainement, Others | AM45: -0.0137546 | AN45: 0.069507943 | AO45: 0.035536178 | AP45: 0.016106752 | AQ45: -0.14829348 | AR45: -0.6699851 | AS45: -0.53643013 | AT45: -0.35957372 | AU45: -0.40882994 | AV45: 1.1691599 | AW45: 0.068423725 | AX45: 0.27523791 | AY45: 0.54954826 | AZ45: 0.6387284 | BA45: -0.030430034 | BB45: 0.21441701 | BC45: 0.28467732 | BD45: 0.16796063 | BE45: 0.13830321 | BF45: 0.097426908 | BG45: 0.045687777 | BH45: 0.1107645 | BI45: 0.13014047 | BJ45: 0.079903712 | BK45: 0.03682301 | BL45: 0.010798107 | BM45: -0.07761911 | BN45: 0.085708006 | BO45: 0.041 | BP45: 0.046948461
A46: Total | B46: Total | AM46: 0.036633167 | AN46: 0.067746202 | AO46: 0.025938376 | AP46: 0.060028703 | AQ46: -0.13340127 | AR46: -0.73492599 | AS46: -0.37148532 | AT46: -0.1047058 | AU46: -0.24362331 | AV46: 2.6788344 | AW46: 0.42886174 | AX46: 0.26720949 | AY46: 0.72336687 | AZ46: 0.50594663 | BA46: 0.18638101 | BB46: 0.092811535 | BC46: 0.15699218 | BD46: 0.066048855 | BE46: 0.059186303 | BF46: 0.094064819 | BG46: 0.06749959 | BH46: 0.057627724 | BI46: 0.096040727 | BJ46: 0.095752508 | BK46: 0.068292702 | BL46: 0.11876312 | BM46: 0.072057413 | BN46: 0.065897724 | BO46: 0.056 | BP46: 0.009269725
A48: Vendas mesmas lojas (SSS) - Total | B48: Same-Store Sales (SSS) - Total | C48: 1Q10 | D48: 2Q10 | E48: 3Q10 | F48: 4Q10 | G48: 1Q11 | H48: 2Q11 | I48: 3Q11 | J48: 4Q11 | K48: 1Q12 | L48: 2Q12 | M48: 3Q12 | N48: 4Q12 | O48: 1Q13 | P48: 2Q13 | Q48: 3Q13 | R48: 4Q13 | S48: 1Q14 | T48: 2Q14 | U48: 3Q14 | V48: 4Q14 | W48: 1Q15 | X48: 2Q15 | Y48: 3Q15 | Z48: 4Q15 | AA48: 1Q16 | AB48: 2Q16 | AC48: 3Q16 | AD48: 4Q16 | AE48: 1Q17 | AF48: 2Q17 | AG48: 3Q17 | AH48: 4Q17 | AI48: 1Q18 | AJ48: 2Q18 | AK48: 3Q18 | AL48: 4Q18 | AM48: 1Q19 | AN48: 2Q19 | AO48: 3Q19 | AP48: 4Q19 | AQ48: 1Q20 | AR48: 2Q20 | AS48: 3Q20 | AT48: 4Q20 | AU48: 1Q21 | AV48: 2Q21 | AW48: 3Q21 | AX48: 4Q21 | AY48: 1Q22 | AZ48: 2Q22 | BA48: 3Q22 | BB48: 4Q22 | BC48: 1Q23 | BD48: 2Q23 | BE48: 3Q23 | BF48: 4Q23 | BG48: 1Q24 | BH48: 2Q24 | BI48: =BI40 -> 3Q24 | BJ48: =BJ40 -> 4Q24 | BK48: =BK40 -> 1Q25 | BL48: =BL40 -> 2Q25 | BM48: =BM40 -> 3Q25 | BN48: =BN40 -> 4Q25 | BO48: =BO40 -> 1Q26 | BP48: =BP40 -> 2Q26
A49: Alimentação | B49: Food | AM49: 0.015633489 | AN49: 0.12147671 | AO49: 0.027152108 | AP49: 0.035906257 | AQ49: -0.16219496 | AR49: -0.75328755 | AS49: -0.56407462 | AT49: -0.27157413 | AU49: -0.36428063 | AV49: 1.964399 | AW49: 0.30987224 | AX49: 0.4293688 | AY49: 0.87971995 | AZ49: 0.79151413 | BA49: 0.2610855 | BB49: 0.12425697 | BC49: 0.19642738 | BD49: 0.090998895 | BE49: 0.092844262 | BF49: 0.1123654 | BG49: 0.11571892 | BH49: 0.0041640639 | BI49: 0.030981472 | BJ49: 0.064585813 | BK49: -0.018997861 | BL49: 0.11229218 | BM49: 0.045113695 | BN49: 0.0084943092 | BO49: 0.047 | BP49: 0.0030370317
...

Sheet Portfólio | Portfolio
C4: IGUATEMI EMPRESA DE SHOPPING CENTERS S/A | G4: IGUATEMI EMPRESA DE SHOPPING CENTERS S/A | K4: IGUATEMI EMPRESA DE SHOPPING CENTERS S/A | O4: IGUATEMI EMPRESA DE SHOPPING CENTERS S/A | S4: IGUATEMI EMPRESA DE SHOPPING CENTERS S/A | W4: IGUATEMI EMPRESA DE SHOPPING CENTERS S/A | AA4: IGUATEMI EMPRESA DE SHOPPING CENTERS S/A | AE4: IGUATEMI EMPRESA DE SHOPPING CENTERS S/A | AI4: IGUATEMI EMPRESA DE SHOPPING CENTERS S/A | AM4: IGUATEMI EMPRESA DE SHOPPING CENTERS S/A | AQ4: IGUATEMI EMPRESA DE SHOPPING CENTERS S/A | AU4: IGUATEMI EMPRESA DE SHOPPING CENTERS S/A | AY4: IGUATEMI S.A. | BC4: IGUATEMI S.A. | BG4: IGUATEMI S.A.
A5: Desempenho Operacional | B5: Operatinal Performance (100%) | C5: ='Indicadores | Indicators'!C5 -> 1Q10 | D5: ='Indicadores | Indicators'!D5 -> 2Q10 | E5: ='Indicadores | Indicators'!E5 -> 3Q10 | F5: ='Indicadores | Indicators'!F5 -> 4Q10 | G5: ='Indicadores | Indicators'!G5 -> 1Q11 | H5: ='Indicadores | Indicators'!H5 -> 2Q11 | I5: ='Indicadores | Indicators'!I5 -> 3Q11 | J5: ='Indicadores | Indicators'!J5 -> 4Q11 | ... BI5: ='Indicadores | Indicators'!BI5 -> 3Q24 | BJ5: 4Q24 | BK5: 1Q25 | BL5: 2Q25 | BM5: 3Q25 | BN5: 4Q25 | BO5: 1Q26 | BP5: 2Q26
A7: Vendas Totais - visão 100% (R$ mil) (1) | B7: Total Sales - asset level (R$ ‘000) (1) | C7: =C$5 -> 1Q10 | D7: =D$5 -> 2Q10 | E7: =E$5 -> 3Q10 | F7: =F$5 -> 4Q10 | G7: =G$5 -> 1Q11 | H7: =H$5 -> 2Q11 | I7: =I$5 -> 3Q11 | J7: =J$5 -> 4Q11 | ... BP7: =BP$5 -> 2Q26
A8: Iguatemi São Paulo | B8: Iguatemi São Paulo | BN8: 1752372.9 | BO8: 1152845 | BP8: 1387751.9
A9: JK Iguatemi | B9: JK Iguatemi | BN9: 903596.68 | BO9: 638849 | BP9: 769634.03
A10: Pátio Higienópolis (2) | B10: Pátio Higienópolis (2) | BN10: 522670.17 | BO10: 382072 | BP10: 434243.54
A11: Pátio Paulista | B11: Pátio Paulista | BN11: 488098.87 | BO11: 356809 | BP11: 408709.85
A12: Market Place | B12: Market Place | BN12: 94816.593 | BO12: 84710 | BP12: 90510.452
A13: Iguatemi Alphaville | B13: Iguatemi Alphaville | BN13: 234712.18 | BO13: 171602 | BP13: 204907.45
A14: Iguatemi Campinas | B14: Iguatemi Campinas | BN14: 678060.5 | BO14: 484067 | BP14: 563485.09
A15: Galleria | B15: Galleria | BN15: 131959.84 | BO15: 112628 | BP15: 115237.52
A16: Iguatemi Esplanada (3) | B16: Iguatemi Esplanada (3) | BN16: 452459.54 | BO16: 328073 | BP16: 387607.81
A17: Iguatemi São Carlos | B17: Iguatemi São Carlos | BN17: 0 | BO17: 0 | BP17: 0
A18: Iguatemi Ribeirão Preto | B18: Iguatemi Ribeirão Preto | BN18: 190463.77 | BO18: 158293 | BP18: 165263.07
A19: Iguatemi Rio Preto | B19: Iguatemi Rio Preto | BN19: 208983.24 | BO19: 153555 | BP19: 167865.04
... A31: Torre Sky Galleria | B31: Torre Sky Galleria | BN31: 0 | BO31: 0 | BP31: 0
A32: Total | B32: Total | BN32: =SUM(BN8:BN31) -> 7902051.1 | BO32: =SUM(BO8:BO28) -> 5680367 | BP32: =SUM(BP8:BP28) -> 6594832.7
A35: AMM+OV+TEMP (R$ mil) (1) | B35: Minimum Rental + Overage + Temporary Rent (R$ ‘000) (1) | C35: =C5 -> 1Q10 | D35: =D5 -> 2Q10 | E35: =E5 -> 3Q10 | F35: =F5 -> 4Q10 | G35: =G5 -> 1Q11 | H35: =H5 -> 2Q11 | I35: =I5 -> 3Q11 | J35: =J5 -> 4Q11 | ... BE35: =BE5 -> 3Q23 | BF35: =BF$5 -> 4Q23 | BG35: =BG$5 -> 1Q24 | BH35: =BH$5 -> 2Q24 | BI35: =BI$5 -> 3Q24 | BJ35: =BJ$5 -> 4Q24 | BK35: =BK$5 -> 1Q25 | BL35: =BL$5 -> 2Q25 | BM35: =BM$5 -> 3Q25 | ... BP35: =BP$5 -> 2Q26
A36: Iguatemi São Paulo | B36: Iguatemi São Paulo | C36: 23087.838 | D36: 25156.796 | E36: 25023.156 | F36: 35650.239 | G36: 26113.244 | H36: 28447.158 | I36: 28317.589 | J36: 40289.579 | K36: 29588.192 | L36: 32008.808 | M36: 30575.838 | N36: 41135.042 | O36: 30653.26 | P36: 33654.018 | Q36: 33890.096 | R36: 45504.733 | S36: 34438.42 | T36: 36205.364 | U36: 36720.182 | V36: 50782.094 | W36: 37059.925 | X36: 38768.96 | Y36: 40368.389 | Z36: 52981.82 | AA36: 39889.391 | AB36: 44469.8 | AC36: 42429.84 | AD36: 56986.33 | AE36: 43241.985 | AF36: 45805.599 | AG36: 46036.474 | AH36: 62831.588 | AI36: 45095.725 | AJ36: 49063.646 | AK36: 48081.693 | AL36: 58500.446 | AM36: 47265.763 | AN36: 50577.503 | AO36: 51141.086 | AP36: 69090.275 | AQ36: 49577.067 | AR36: 49787.561 | AS36: 51101.231 | AT36: 76388.816 | AU36: 55497.317 | AV36: 62110.481 | AW36: 68221.935 | AX36: 96116.517 | AY36: 70983.109 | AZ36: 75156.926 | BA36: 77083.635 | BB36: 101561.35 | BC36: 76825.578 | BD36: 82323.117 | BE36: 80815.619 | BF36: 106984.32 | BG36: 79983.735 | BH36: 87120.59 | BI36: 84747.029 | BJ36: 115756.23 | BK36: 85032.072 | BL36: 95619.129 | BM36: 97108.384 | BN36: 128307.42 | BO36: 94092 | BP36: 100785.5
A37: JK Iguatemi | B37: JK Iguatemi | C37: - | D37: - | E37: - | F37: - | G37: - | H37: - | I37: - | J37: - | K37: - | L37: 1071.9642 | M37: 13481.097 | N37: 18714.384 | O37: 13451.814 | P37: 15640.129 | Q37: 15441.233 | R37: 19564.63 | S37: 15077.888 | T37: 15387.203 | U37: 17133.26 | V37: 22154.1 | W37: 16351.064 | X37: 18400.442 | Y37: 17048.807 | Z37: 22326.16 | AA37: 16559.635 | AB37: 17748.8 | AC37: 17938.624 | AD37: 23859.265 | AE37: 16808.447 | AF37: 18345.977 | AG37: 18022.686 | AH37: 24493.382 | AI37: 16936.786 | AJ37: 19062.026 | AK37: 19611.46 | AL37: 26546.008 | AM37: 19518.432 | AN37: 22148.281 | AO37: 21810.255 | AP37: 28999.434 | AQ37: 20250.702 | AR37: 19065.267 | AS37: 20524.466 | AT37: 28490.986 | AU37: 20735.265 | AV37: 25088.002 | AW37: 30858.658 | AX37: 43090.236 | AY37: 32140.301 | AZ37: 36048.882 | BA37: 36417.077 | BB37: 45833.77 | BC37: 37457.552 | BD37: 39745.3 | BE37: 38473.595 | BF37: 50755.331 | BG37: 37643.191 | BH37: 43632.064 | BI37: 43470.875 | BJ37: 54308.308 | BK37: 40197.889 | BL37: 47339.526 | BM37: 48108.929 | BN37: 62009.036 | BO37: 45597 | BP37: 51016.525
A38: Pátio Higienópolis (2) | B38: Pátio Higienópolis (2) | C38: - | D38: - | E38: - | F38: - | G38: - | H38: - | I38: - | J38: - | K38: - | L38: - | M38: - | N38: - | O38: - | P38: - | Q38: - | R38: - | S38: - | T38: - | U38: - | V38: - | W38: - | X38: - | Y38: 19033.777 | Z38: 25452.072 | AA38: 21403.222 | AB38: 22010.18 | AC38: 20884.848 | AD38: 27398.374 | AE38: 22534.25 | AF38: 23142.83 | AG38: 22976.691 | AH38: 31189.982 | AI38: 22763.637 | AJ38: 23601.595 | AK38: 23936.601 | AL38: 32035.135 | AM38: 24693.883 | AN38: 24993.072 | AO38: 25161.703 | AP38: 32922.438 | AQ38: 25314.67 | AR38: 24158.125 | AS38: 23293.575 | AT38: 31909.983 | AU38: 24975.847 | AV38: 25604.643 | AW38: 27503.828 | AX38: 38191.347 | AY38: 29711.441 | AZ38: 30097.299 | BA38: 31416.247 | BB38: 41430.473 | BC38: 32155.08 | BD38: 32658.03 | BE38: 33469.664 | BF38: 43462.349 | BG38: 34734.131 | BH38: 35671.168 | BI38: 35468.779 | BJ38: 46492.353 | BK38: 35548.202 | BL38: 37664.213 | BM38: 37738.181 | BN38: 48987.935 | BO38: 37489 | BP38: 39732.645
A39: Pátio Paulista | B39: Pátio Paulista | C39: 0 | D39: 0 | E39: 0 | F39: 0 | G39: 0 | H39: 0 | I39: 0 | J39: 0 | K39: 0 | L39: 0 | M39: 0 | N39: 0 | O39: 0 | P39: 0 | Q39: 0 | R39: 0 | S39: 0 | T39: 0 | U39: 0 | V39: 0 | W39: 0 | X39: 0 | Y39: 0 | Z39: 0 | AA39: 0 | AB39: 0 | AC39: 0 | AD39: 0 | AE39: 0 | AF39: 0 | AG39: 0 | AH39: 0 | AI39: 0 | AJ39: 0 | AK39: 0 | AL39: 0 | AM39: 0 | AN39: 0 | AO39: 0 | AP39: 0 | AQ39: 0 | AR39: 0 | AS39: 0 | AT39: 0 | AU39: 0 | AV39: 0 | AW39: 0 | AX39: 0 | AY39: 0 | AZ39: 0 | BA39: 0 | BB39: 0 | BC39: 0 | BD39: 0 | BE39: 0 | BF39: 0 | BG39: 0 | BH39: 0 | BI39: 0 | BJ39: 0 | BK39: 0 | BL39: 36180.629 | BM39: 37437.214 | BN39: 47836.286 | BO39: 37369 | BP39: 38804.483
A40: Market Place | B40: Market Place | C40: 4797.1672 | D40: 4885.6637 | E40: 5154.92 | F40: 7129.1178 | G40: 5272.7378 | H40: 5377.0799 | I40: 6637.7792 | J40: 8156.8431 | K40: 5903.8789 | L40: 6176.9051 | M40: 6674.6967 | N40: 8328.7486 | O40: 6053.6037 | P40: 6602.1349 | Q40: 6544.8146 | R40: 8297.6917 | S40: 6006.4668 | T40: 6673.8947 | U40: 6765.9277 | V40: 9101.7372 | W40: 6184.4077 | X40: 6415.7813 | Y40: 7563.4337 | Z40: 7969.672 | AA40: 6344.6001 | AB40: 6725.1278 | AC40: 7438.1188 | AD40: 8956.2312 | AE40: 6928.3423 | AF40: 7069.2101 | AG40: 6850.7042 | AH40: 9887.7209 | AI40: 6928.2923 | AJ40: 6921.7593 | AK40: 7096.8637 | AL40: 8722.4151 | AM40: 6406.329 | AN40: 6808.1724 | AO40: 7744.6632 | AP40: 9723.829 | AQ40: 6642.9468 | AR40: 6070.7981 | AS40: 6367.5994 | AT40: 7849.3569 | AU40: 6201.4042 | AV40: 6219.4079 | AW40: 6993.5487 | AX40: 8972.4134 | AY40: 7914.1707 | AZ40: 7663.4426 | BA40: 7997.5446 | BB40: 9747.1743 | BC40: 7775.9689 | BD40: 8480.0789 | BE40: 7522.0633 | BF40: 9336.0291 | BG40: 6837.9396 | BH40: 6733.2186 | BI40: 6399.3137 | BJ40: 7203.8309 | BK40: 5855.5839 | BL40: 6195.8471 | BM40: 7620.0543 | BN40: 7330.1065 | BO40: 5600 | BP40: 6741.4109
A41: Iguatemi Alphaville | B41: Iguatemi Alphaville | C41: - | D41: - | E41: - | F41: - | G41: - | H41: 4271.9709 | I41: 6455.2891 | J41: 8495.7765 | K41: 6450.5755 | L41: 6784.5133 | M41: 6728.9265 | N41: 8332.4856 | O41: 6231.4196 | P41: 6556.2796 | Q41: 6544.9042 | R41: 8658.9049 | S41: 6416.517 | T41: 6887.6617 | U41: 6740.8512 | V41: 9167.7244 | W41: 6773.0065 | X41: 7281.2051 | Y41: 7251.2682 | Z41: 11001.549 | AA41: 6960.0324 | AB41: 7434.5124 | AC41: 7384.7096 | AD41: 11446.228 | AE41: 6996.5224 | AF41: 7490.5809 | AG41: 8247.3867 | AH41: 9374.9441 | AI41: 7312.9082 | AJ41: 7598.5459 | AK41: 8324.986 | AL41: 10963.051 | AM41: 7138.0178 | AN41: 7928.8393 | AO41: 8378.1144 | AP41: 11363.356 | AQ41: 8247.2042 | AR41: 7752.6994 | AS41: 7799.7695 | AT41: 10331.741 | AU41: 8127.3454 | AV41: 8472.2963 | AW41: 9387.4044 | AX41: 12677.168 | AY41: 9556.3227 | AZ41: 11014.659 | BA41: 11048.734 | BB41: 13018.344 | BC41: 10330.805 | BD41: 10686.411 | BE41: 11038.313 | BF41: 14396.073 | BG41: 10887.232 | BH41: 11077.283 | BI41: 11301.304 | BJ41: 15043.6 | BK41: 11201.384 | BL41: 12636.435 | BM41: 12337.307 | BN41: 16073.572 | BO41: 11675 | BP41: 13404.443
A42: Iguatemi Campinas | B42: Iguatemi Campinas | C42: 11817.54 | D42: 12372.129 | E42: 12774.582 | F42: 17208.717 | G42: 12552.992 | H42: 13358.415 | I42: 13444.579 | J42: 18981.11 | K42: 13406.72 | L42: 14623.848 | M42: 15685.859 | N42: 20171.146 | O42: 15457.924 | P42: 16189.368 | Q42: 17040.541 | R42: 22185.228 | S42: 16907.674 | T42: 17929.387 | U42: 18114.349 | V42: 23711.383 | W42: 17969.031 | X42: 20942.616 | Y42: 22062.428 | Z42: 29909.745 | AA42: 22367.046 | AB42: 23140.511 | AC42: 24143.481 | AD42: 34887.06 | AE42: 23726.407 | AF42: 25198.802 | AG42: 25638.464 | AH42: 34068.821 | AI42: 25105.988 | AJ42: 26316.778 | AK42: 27355.877 | AL42: 35303.084 | AM42: 27210.834 | AN42: 28434.54 | AO42: 28737.256 | AP42: 37095.962 | AQ42: 27526.235 | AR42: 25018.966 | AS42: 24324.856 | AT42: 33701.314 | AU42: 25926.783 | AV42: 28009.022 | AW42: 30976.073 | AX42: 43482.982 | AY42: 33698.717 | AZ42: 36258.385 | BA42: 36402.115 | BB42: 47885.95 | BC42: 36563.309 | BD42: 37847.911 | BE42: 37495.363 | BF42: 48953.892 | BG42: 36527.536 | BH42: 38311.56 | BI42: 38206.546 | BJ42: 50948.113 | BK42: 37695.339 | BL42: 40890.615 | BM42: 40079.849 | BN42: 52708.524 | BO42: 40126 | BP42: 41443.109
A43: Galleria | B43: Galleria | C43: 2495.7101 | D43: 2603.5662 | E43: 2651.2866 | F43: 4166.72 | G43: 2686.4503 | H43: 2927.2479 | I43: 3176.2502 | J43: 4113.8085 | K43: 3074.5974 | L43: 3279.7955 | M43: 3781.9052 | N43: 6081.5023 | O43: 4854.1102 | P43: 4794.0781 | Q43: 4966.2757 | R43: 6376.9317 | S43: 4917.5271 | T43: 5072.2727 | U43: 4991.1908 | V43: 7454.9937 | W43: 4919.6752 | X43: 5077.0903 | Y43: 5041.3167 | Z43: 6745.3426 | AA43: 5136.9179 | AB43: 5208.2419 | AC43: 5137.5524 | AD43: 6945.2335 | AE43: 5343.1975 | AF43: 5389.9156 | AG43: 4784.4306 | AH43: 7268.4847 | AI43: 5461.3944 | AJ43: 5405.5815 | AK43: 5579.8922 | AL43: 7996.6816 | AM43: 5272.0169 | AN43: 5227.417 | AO43: 5222.4801 | AP43: 6567.3397 | AQ43: 5662.0231 | AR43: 4998.7004 | AS43: 5158.1465 | AT43: 7156.705 | AU43: 5760.8203 | AV43: 6134.3014 | AW43: 6757.6539 | AX43: 9706.7433 | AY43: 7921.8995 | AZ43: 8515.826 | BA43: 8415.6514 | BB43: 10737.331 | BC43: 8811.6639 | BD43: 8999.223 | BE43: 8979.6992 | BF43: 10840.552 | BG43: 8384.2498 | BH43: 8229.042 | BI43: 8253.1761 | BJ43: 10225.6 | BK43: 8390.8686 | BL43: 8545.1421 | BM43: 8646.8743 | BN43: 10672.107 | BO43: 8278 | BP43: 8217.0249
A44: Iguatemi Esplanada (3) | B44: Iguatemi Esplanada (3) | C44: 5749.0915 | D44: 5940.6222 | E44: 6101.0929 | F44: 8051.8446 | G44: 6158.0597 | H44: 6511.4471 | I44: 6710.5091 | J44: 8998.8178 | K44: 7043.4479 | L44: 7186.005 | M44: 7395.9225 | N44: 9901.7919 | O44: 7822.2315 | P44: 7919.7265 | Q44: 8044.2518 | R44: 14733.865 | S44: 14347.964 | T44: 14066.966 | U44: 14032.677 | V44: 19674.778 | W44: 14361.612 | X44: 14590.283 | Y44: 14530.833 | Z44: 19309.107 | AA44: 14845.271 | AB44: 15065.598 | AC44: 15082.635 | AD44: 20381.722 | AE44: 15870.054 | AF44: 15838.371 | AG44: 16199.442 | AH44: 22560.409 | AI44: 16164.206 | AJ44: 16356.678 | AK44: 16272.654 | AL44: 22512.91 | AM44: 15899.931 | AN44: 16493.142 | AO44: 16335.629 | AP44: 21977.15 | AQ44: 16484.208 | AR44: 15458.09 | AS44: 14627.164 | AT44: 20065.603 | AU44: 16320.474 | AV44: 17479.331 | AW44: 18572.79 | AX44: 25898.743 | AY44: 20970.349 | AZ44: 21317.696 | BA44: 21280.175 | BB44: 26452.64 | BC44: 23194.18 | BD44: 22994.371 | BE44: 23233.9 | BF44: 29870.924 | BG44: 23401.528 | BH44: 24243.898 | BI44: 24062.076 | BJ44: 30833.614 | BK44: 24733.872 | BL44: 25514.489 | BM44: 25107.771 | BN44: 32301.309 | BO44: 24609 | BP44: 26037.327
A45: Iguatemi São Carlos | B45: Iguatemi São Carlos | C45: 1246.5503 | D45: 1383.0492 | E45: 1357.9692 | F45: 2072.8303 | G45: 1444.946 | H45: 1602.7944 | I45: 1402.9121 | J45: 2212.1351 | K45: 1513.984 | L45: 1740.4452 | M45: 1703.69 | N45: 2344.573 | O45: 1783.2171 | P45: 1786.9834 | Q45: 1819.9702 | R45: 2810.0523 | S45: 1861.0468 | T45: 2000.9552 | U45: 2257.9801 | V45: 3060.1164 | W45: 2354.4091 | X45: 2416.7924 | Y45: 2469.2964 | Z45: 3462.3941 | AA45: 2472.2469 | AB45: 2716.5737 | AC45: 2595.6464 | AD45: 3734.9595 | AE45: 2680.5912 | AF45: 2706.4749 | AG45: 2741.1386 | AH45: 3801.4704 | AI45: 2759.891 | AJ45: 2826.7013 | AK45: 2831.5462 | AL45: 4457.1468 | AM45: 2990.0369 | AN45: 3154.8404 | AO45: 3192.4955 | AP45: 4099.8826 | AQ45: 3135.1433 | AR45: 2779.7412 | AS45: 2846.5017 | AT45: 3771.7374 | AU45: 3030.7215 | AV45: 3307.5015 | AW45: 3499.3462 | AX45: 4714.5851 | AY45: 4102.204 | AZ45: 4144.4329 | BA45: 3953.6052 | BB45: 4963.395 | BC45: 3972.5631 | BD45: 4143.7224 | BE45: 4196.8781 | BF45: 5376.5245 | BG45: 4168.2582 | BH45: 4360.5867 | BI45: 2928.048 | BJ45: 0 | BK45: 0 | BL45: 0 | BM45: 0 | BN45: 0 | BO45: 0 | BP45: 0
A46: Iguatemi Ribeirão Preto | B46: Iguatemi Ribeirão Preto | C46: - | D46: - | E46: - | F46: - | G46: - | H46: - | I46: - | J46: - | K46: - | L46: - | M46: - | N46: - | O46: - | P46: - | Q46: 82 | R46: 6167.0537 | S46: 4641.1082 | T46: 4721.0419 | U46: 4691.0577 | V46: 6325.2371 | W46: 5173.5595 | X46: 4884.7284 | Y46: 5087.996 | Z46: 6585.6671 | AA46: 5779.2063 | AB46: 5278.6786 | AC46: 5470.571 | AD46: 7004.9505 | AE46: 6108.517 | AF46: 5356.4921 | AG46: 5512.6921 | AH46: 6694.602 | AI46: 5672.4067 | AJ46: 5312.8967 | AK46: 5338.3468 | AL46: 7602.0454 | AM46: 6093.7081 | AN46: 6241.6727 | AO46: 6738.2014 | AP46: 8529.6462 | AQ46: 6796.1147 | AR46: 5254.366 | AS46: 5680.2379 | AT46: 7914.9785 | AU46: 6406.8688 | AV46: 6594.3007 | AW46: 7416.3742 | AX46: 10587.579 | AY46: 8993.8729 | AZ46: 9149.2109 | BA46: 9775.0129 | BB46: 11877.592 | BC46: 10047.53 | BD46: 10358.819 | BE46: 10365.043 | BF46: 12539.388 | BG46: 10274.112 | BH46: 10749.848 | BI46: 10639.704 | BJ46: 13570.979 | BK46: 10572.985 | BL46: 11114.504 | BM46: 11255.185 | BN46: 13805.341 | BO46: 10752 | BP46: 11359.706
A47: Iguatemi Rio Preto | B47: Iguatemi Rio Preto | C47: - | D47: - | E47: - | F47: - | G47: - | H47: - | I47: - | J47: - | K47: - | L47: - | M47: - | N47: - | O47: - | P47: - | Q47: - | R47: - | S47: - | T47: 3658.0515 | U47: 5221.1871 | V47: 6521.9966 | W47: 5296.1331 | X47: 5082.211 | Y47: 5683.6888 | Z47: 7255.8264 | AA47: 5739.0503 | AB47: 6544.4548 | AC47: 6382.3587 | AD47: 8972.9647 | AE47: 6268.3335 | AF47: 6776.9464 | AG47: 6523.6007 | AH47: 8335.4225 | AI47: 7635.8404 | AJ47: 7745.3093 | AK47: 7824.5731 | AL47: 10081.051 | AM47: 7545.8633 | AN47: 7642.1259 | AO47: 8981.54 | AP47: 11145.022 | AQ47: 7480.7322 | AR47: 6901.5079 | AS47: 7260.2907 | AT47: 9271.534 | AU47: 7544.1101 | AV47: 9566.4562 | AW47: 9948.0827 | AX47: 13310.77 | AY47: 9944.6043 | AZ47: 11679.43 | BA47: 11270.023 | BB47: 14677.511 | BC47: 11684.978 | BD47: 11909.749 | BE47: 12018.995 | BF47: 15088.066 | BG47: 12032.336 | BH47: 12543.893 | BI47: 12203.676 | BJ47: 16143.237 | BK47: 11893.908 | BL47: 13103.43 | BM47: 12906.491 | BN47: 16873.718 | BO47: 12463 | BP47: 13238.022
A48: Iguatemi Porto Alegre | B48: Iguatemi Porto Alegre | C48: 12581.151 | D48: 13567.646 | E48: 14031.803 | F48: 18104.117 | G48: 13476.842 | H48: 14427.12 | I48: 14908.691 | J48: 19218.154 | K48: 14864.123 | L48: 15967.891 | M48: 15727.998 | N48: 20214.595 | O48: 15992.098 | P48: 17221.353 | Q48: 16427.322 | R48: 21953.286 | S48: 16971.955 | T48: 17382.075 | U48: 17061.814 | V48: 23255.161 | W48: 17056.973 | X48: 17539.295 | Y48: 17521.286 | Z48: 24915.919 | AA48: 18722.69 | AB48: 21408.446 | AC48: 24753.91 | AD48: 31722.736 | AE48: 24058.971 | AF48: 25275.282 | AG48: 28193.742 | AH48: 34111.781 | AI48: 26265.787 | AJ48: 27946.875 | AK48: 27070.374 | AL48: 37908.89 | AM48: 28154.645 | AN48: 30850.956 | AO48: 30259.837 | AP48: 39765.43 | AQ48: 30627.671 | AR48: 27513.689 | AS48: 26920.261 | AT48: 35913.147 | AU48: 29325.299 | AV48: 32365.267 | AW48: 35652.091 | AX48: 49610.191 | AY48: 38478.781 | AZ48: 41861.52 | BA48: 42544.688 | BB48: 56212.776 | BC48: 44260.187 | BD48: 45531.053 | BE48: 45169.939 | BF48: 57606.414 | BG48: 43777.561 | BH48: 45208.818 | BI48: 45461.689 | BJ48: 59417.752 | BK48: 43523.126 | BL48: 48428.984 | BM48: 47619.723 | BN48: 60396.751 | BO48: 45415 | BP48: 49476.118
A49: Praia de Belas | B49: Praia de Belas | C49: 5989.8834 | D49: 6438.6401 | E49: 6579.5574 | F49: 8789.0716 | G49: 6464.8887 | H49: 6973.0923 | I49: 6924.7837 | J49: 9268.7055 | K49: 6823.8305 | L49: 7403.7825 | M49: 7159.6295 | N49: 10081.058 | O49: 7265.2551 | P49: 7998.202 | Q49: 8412.6076 | R49: 11719.732 | S49: 9457.353 | T49: 10760.859 | U49: 10291.255 | V49: 13771.604 | W49: 10342.624 | X49: 11140.18 | Y49: 10641.253 | Z49: 14451.282 | AA49: 11166.627 | AB49: 11410.445 | AC49: 11173.595 | AD49: 14940.016 | AE49: 11835.448 | AF49: 12069.766 | AG49: 11831.304 | AH49: 15151.953 | AI49: 11985.866 | AJ49: 12070.882 | AK49: 12221.126 | AL49: 15726.464 | AM49: 12574.269 | AN49: 13026.202 | AO49: 12933.7 | AP49: 16915.777 | AQ49: 12970.82 | AR49: 11337.03 | AS49: 11139.363 | AT49: 14724.319 | AU49: 12210.495 | AV49: 13636.802 | AW49: 14020.878 | AX49: 18742.058 | AY49: 15936.206 | AZ49: 15014.663 | BA49: 15783.772 | BB49: 20516.921 | BC49: 15387.573 | BD49: 15436.523 | BE49: 15549.424 | BF49: 19360.333 | BG49: 15555.133 | BH49: 14871.059 | BI49: 16222.189 | BJ49: 19369.011 | BK49: 16297.368 | BL49: 16615.276 | BM49: 16014.246 | BN49: 19440.989 | BO49: 15360 | BP49: 14642.6
A50: Iguatemi Florianópolis | B50: Iguatemi Florianópolis | C50: 4174.8834 | D50: 4728.7311 | E50: 4647.0211 | F50: 6139.5959 | G50: 5166.1478 | H50: 5448.0509 | I50: 5402.2324 | J50: 7050.6416 | K50: 5573.2364 | L50: 5667.4221 | M50: 5523.4807 | N50: 7446.2182 | O50: 5601.7092 | P50: 5964.5595 | Q50: 5625.9565 | R50: 7784.7272 | S50: 6053.0825 | T50: 6200.7063 | U50: 6279.8256 | V50: 8418.5674 | W50: 6018.31 | X50: 6146.7505 | Y50: 6060.8997 | Z50: 8445.4267 | AA50: 6578.8746 | AB50: 6292.5378 | AC50: 6316.5416 | AD50: 9079.6672 | AE50: 6648.9032 | AF50: 6638.0681 | AG50: 6500.0594 | AH50: 9356.4661 | AI50: 6664.1691 | AJ50: 6765.897 | AK50: 6690.1332 | AL50: 8633.1207 | AM50: 6437.4691 | AN50: 6330.362 | AO50: 6289.7622 | AP50: 0 | AQ50: 0 | AR50: 0 | AS50: 0 | AT50: 0 | AU50: 0 | AV50: 0 | AW50: 0 | AX50: 0 | AY50: 0 | AZ50: 0 | BA50: 0 | BB50: 0 | BC50: 0 | BD50: 0 | BE50: 0 | BF50: 0 | BG50: 0 | BH50: 0 | BI50: 0 | BJ50: 0 | BK50: 0 | BL50: 0 | BM50: 0 | BN50: 0 | BO50: 0 | BP50: 0
A51: Iguatemi Caxias | B51: Iguatemi Caxias | C51: - | D51: - | E51: - | F51: - | G51: - | H51: - | I51: - | J51: - | K51: 4084.4353 | L51: 4660.1344 | M51: 4788.2593 | N51: 6108.3954 | O51: 4727.8119 | P51: 5312.2168 | Q51: 5227.9755 | R51: 7113.6198 | S51: 5310.6897 | T51: 5945.3023 | U51: 5820.4981 | V51: 7843.2898 | W51: 5534.0843 | X51: 6503.6216 | Y51: 6986.5291 | Z51: 8731.1902 | AA51: 6057.1097 | AB51: 6678 | AC51: 6360.11 | AD51: 8175.8814 | AE51: 5994.4263 | AF51: 5885.3215 | AG51: 5796.8963 | AH51: 7748.0482 | AI51: 5359.0971 | AJ51: 5736.6411 | AK51: 5575.7425 | AL51: 7458.1955 | AM51: 5672.4936 | AN51: 5952.3163 | AO51: 0 | AP51: 0 | AQ51: 0 | AR51: 0 | AS51: 0 | AT51: 0 | AU51: 0 | AV51: 0 | AW51: 0 | AX51: 0 | AY51: 0 | AZ51: 0 | BA51: 0 | BB51: 0 | BC51: 0 | BD51: 0 | BE51: 0 | BF51: 0 | BG51: 0 | BH51: 0 | BI51: 0 | BJ51: 0 | BK51: 0 | BL51: 0 | BM51: 0 | BN51: 0 | BO51: 0 | BP51: 0
