Workbook
Name _100: #REF!
Name _100: #REF!
Name _100: #REF!
Name _100: #REF!
Name _100: #REF!
Name ano_anterior: #REF!
Name ano_anterior: #REF!
Name ano_anterior: #REF!
Name ano_anterior: #REF!
Name ano_anterior: #REF!
Name ano_anterior: #REF!
Name ano_anterior: #REF!
Name language: [1]Hints!$F$1
Name language: [1]Hints!$F$1
Name language: [1]Hints!$F$1
Name language: [1]Hints!$F$1
Name language: [1]Hints!$F$1
Name language: [1]Hints!$F$1
Name language: [1]Hints!$F$1
Name Language: [2]Capa!$Q$2
Name NOI: #REF!
Name NOI: #REF!
Name NOI: #REF!
Name NOI: #REF!
Name NOI: #REF!
Name NOI: #REF!
Name NOI: #REF!
Name NOIFin: #REF!
Name NOIFin: #REF!
Name NOIFin: #REF!
Name NOIFin: #REF!
Name NOIFin: #REF!
Name NOIFin: #REF!
Name NOIFin: #REF!
Name Savassi1T07: #REF!
Name Savassi1T07: #REF!
Name Savassi1T07: #REF!
Name Savassi1T07: #REF!
Name Savassi1T07: #REF!
Name Savassi1T07: #REF!
Name Savassi1T07: #REF!
Name Unidade: '[1]P&L'!$C$4
Name xxxxxxxxxxx: #REF!
Name xxxxxxxxxxx: #REF!
Name xxxxxxxxxxx: #REF!
Name xxxxxxxxxxx: #REF!

Sheet Capa | Cover

Sheet Indicadores | Indicators
C4: IGUATEMI EMPRESA DE SHOPPING CENTERS S/A | G4: IGUATEMI EMPRESA DE SHOPPING CENTERS S/A | K4: IGUATEMI EMPRESA DE SHOPPING CENTERS S/A | O4: IGUATEMI EMPRESA DE SHOPPING CENTERS S/A | S4: IGUATEMI EMPRESA DE SHOPPING CENTERS S/A | W4: IGUATEMI EMPRESA DE SHOPPING CENTERS S/A | AA4: IGUATEMI EMPRESA DE SHOPPING CENTERS S/A | AE4: IGUATEMI EMPRESA DE SHOPPING CENTERS S/A | AI4: IGUATEMI EMPRESA DE SHOPPING CENTERS S/A | AM4: IGUATEMI EMPRESA DE SHOPPING CENTERS S/A | AQ4: IGUATEMI EMPRESA DE SHOPPING CENTERS S/A | AU4: IGUATEMI EMPRESA DE SHOPPING CENTERS S/A | AY4: IGUATEMI S.A. | BC4: IGUATEMI S.A. | BG4: IGUATEMI S.A. | BM4: IGUATEMI EMPRESA DE SHOPPING CENTERS S/A | BY4: IGUATEMI S.A.
A5: Principais Indicadores | B5: Main Indicators | C5: 1Q10 | D5: 2Q10 | E5: 3Q10 | F5: 4Q10 | G5: 1Q11 | H5: 2Q11 | I5: 3Q11 | J5: 4Q11 | K5: 1Q12 | L5: 2Q12 | M5: 3Q12 | N5: 4Q12 | O5: 1Q13 | P5: 2Q13 | Q5: 3Q13 | R5: 4Q13 | S5: 1Q14 | T5: 2Q14 | U5: 3Q14 | V5: 4Q14 | W5: 1Q15 | X5: 2Q15 | Y5: 3Q15 | Z5: 4Q15 | AA5: 1Q16 | AB5: 2Q16 | AC5: 3Q16 | AD5: 4Q16 | AE5: 1Q17 | AF5: 2Q17 | AG5: 3Q17 | AH5: 4Q17 | AI5: 1Q18 | AJ5: 2Q18 | AK5: 3Q18 | AL5: 4Q18 | AM5: 1Q19 | AN5: 2Q19 | AO5: 3Q19 | AP5: 4Q19 | AQ5: 1Q20 | AR5: 2Q20 | AS5: 3Q20 | AT5: 4Q20 | AU5: 1Q21 | AV5: 2Q21 | AW5: 3Q21 | AX5: 4Q21 | AY5: 1Q22 | AZ5: 2Q22 | BA5: 3Q22 | BB5: 4Q22 | BC5: 1Q23 | BD5: 2Q23 | BE5: 3Q23 | BF5: 4Q23 | BG5: 1Q24 | BH5: 2Q24 | BI5: 3Q24 | BJ5: 4Q24 | BK5: 1Q25 | BM5: 2010 | BN5: 2011 | BO5: 2012 | BP5: 2013 | BQ5: 2014 | BR5: 2015 | BS5: 2016 | BT5: 2017 | BU5: 2018 | BV5: 2019 | BW5: 2020 | BX5: 2021 | BY5: 2022 | BZ5: 2023 | CA5: 2024
A7: Indicadores de Performance | B7: Performance Indicators | C7: =C5 -> 1Q10 | D7: =D5 -> 2Q10 | E7: =E5 -> 3Q10 | F7: =F5 -> 4Q10 | G7: =G5 -> 1Q11 | H7: =H5 -> 2Q11 | I7: =I5 -> 3Q11 | J7: =J5 -> 4Q11 | ... BK7: =BK5 -> 1Q25 | BM7: 2010 | BN7: 2011 | BO7: 2012 | BP7: 2013 | BQ7: 2014 | BR7: 2015 | BS7: 2016 | BT7: =BT5 -> 2017 | BU7: =BU5 -> 2018 | BV7: =BV5 -> 2019 | BW7: =BW5 -> 2020 | BX7: =BX5 -> 2021 | BY7: =BY5 -> 2022 | BZ7: =BZ5 -> 2023 | CA7: 2024
A8: ABL Total Média (m²) | B8: Total GLA (sqm) | C8: 398135 | D8: 431695 | E8: 433175 | F8: 432545 | G8: 431315 | H8: 469218 | I8: 468841 | J8: 473804 | K8: 473804 | L8: 509097 | M8: 490874 | N8: 490874 | O8: 490874 | P8: 491649 | Q8: 555836 | R8: 613.010 | S8: 613577 | T8: 660500 | U8: 660500 | V8: 660500 | W8: 660500 | X8: 679671 | Y8: 714959 | Z8: 714959 | AA8: 714959 | AB8: 746027 | AC8: 746027 | AD8: 746027 | AE8: 746027 | AF8: 746027 | AG8: 746027 | AH8: 746027 | AI8: 737465.54 | AJ8: 737467.31 | AK8: 737467.31 | AL8: 757355.22 | AM8: 758335.9 | AN8: 758335.9 | AO8: 728011.9 | AP8: 709989.22 | AQ8: 710574.15 | AR8: 710509.77 | AS8: 710569.09 | AT8: 710894.76 | AU8: 711192.05 | AV8: 708485.57 | AW8: 709108.25 | AX8: 709304.42 | AY8: 709449.43 | AZ8: 709153.34 | BA8: 708944.58 | BB8: 723479.67 | BC8: 726333.13 | BD8: 727105.83 | BE8: 727121.28 | BF8: 727337.47 | BG8: 726241.63 | BH8: 726324.23 | BI8: 715720.42 | BJ8: 753035.9 | BK8: 751051.54 | BM8: 432545 | BN8: 473804 | BO8: 490874 | BP8: 613.010 | BQ8: 660500 | BR8: 714959 | BS8: 746027 | BT8: 746027 | BU8: 757355.22 | BV8: 709989.22 | BW8: 710894.76 | BX8: 709304.42 | BY8: 723479.67 | BZ8: 727337.47 | CA8: 732175.47
A9: ABL Própria Final (m²) | B9: Owned GLA (sqm) | C9: 215096 | D9: 237004 | E9: 237678 | F9: 237429 | G9: 238291 | H9: 265644 | I9: 267911 | J9: 277647 | K9: 277647 | L9: 295294 | M9: 280942 | N9: 282040 | O9: 282040 | P9: 283378 | Q9: 340393 | R9: 379805 | S9: 380221 | T9: 425163 | U9: 425163 | V9: 425282 | W9: 425282 | X9: 438702 | Y9: 440422.55 | Z9: 443273.31 | AA9: 443418.68 | AB9: 454604.17 | AC9: 454604.17 | AD9: 454604.17 | AE9: 454604.17 | AF9: 454604.17 | AG9: 454619.71 | AH9: 454624.89 | AI9: 447782.81 | AJ9: 447807.63 | AK9: 447812.52 | AL9: 458566.65 | AM9: 459101.03 | AN9: 459101.03 | AO9: 456553.81 | AP9: 452933.86 | AQ9: 470703.16 | AR9: 470663.28 | AS9: 470691.66 | AT9: 470928.48 | AU9: 471002.86 | AV9: 468858.85 | AW9: 469274.91 | AX9: 469357.54 | AY9: 469493.57 | AZ9: 469305.08 | BA9: 469183.42 | BB9: 488849.42 | BC9: 490044.75 | BD9: 490213.15 | BE9: 490214.93 | BF9: 490418.58 | BG9: 491270.06 | BH9: 491430.99 | BI9: 471897.34 | BJ9: 480968.36 | BK9: 479245.99 | BM9: 237429 | BN9: 277647 | BO9: 282040 | BP9: 379805 | BQ9: 425282 | BR9: 443273.31 | BS9: 454604.17 | BT9: 454624.89 | BU9: 458566.65 | BV9: 452933.86 | BW9: 470928.48 | BX9: 469357.54 | BY9: 488849.42 | BZ9: 490418.58 | CA9: 480968.36
A10: ABL Própria Média (m²) | B10: Average Owned GLA (sqm) | C10: - | D10: 207924 | E10: 208598 | F10: 237429 | G10: - | H10: 225694 | I10: 266778 | J10: 272779 | K10: 277647 | L10: 285203 | M10: 288118 | N10: 281491 | O10: 282040 | P10: 282721 | Q10: 302383 | R10: 353530 | S10: 380221 | T10: 423526 | U10: 425163 | V10: 425282 | W10: 425282 | X10: 434228.67 | Y10: 435375.7 | Z10: 437276.21 | AA10: 437373.12 | AB10: 452037.4 | AC10: 454603.48 | AD10: 454603.48 | AE10: 454604.17 | AF10: 454604.17 | AG10: 454614.53 | AH10: 454624.89 | AI10: 447782.81 | AJ10: 447807.63 | AK10: 447812.52 | AL10: 451397.23 | AM10: 459101.03 | AN10: 459101.03 | AO10: 457402.89 | AP10: 452933.86 | AQ10: 465799.06 | AR10: 470663.28 | AS10: 470691.66 | AT10: 470928.48 | AU10: 471002.86 | AV10: 468858.85 | AW10: 469274.91 | AX10: 469357.54 | AY10: 469493.57 | AZ10: 469305.08 | BA10: 469183.42 | BB10: 480795.94 | BC10: 490044.75 | BD10: 490213.15 | BE10: 490214.93 | BF10: 490418.58 | BG10: 489933.51 | BH10: 491430.99 | BI10: 482969.45 | BJ10: 480956.85 | BK10: 479245.99 | BM10: 224503 | BN10: 257538 | BO10: 281491 | BP10: 321404 | BQ10: 413518 | BR10: 431279.1 | BS10: 451165.84 | BT10: 454611.94 | BU10: 448700.05 | BV10: 457134.7 | BW10: 469520.62 | BX10: 469357.54 | BY10: 504924.63 | BZ10: 490418.58 | CA10: 486322.65
A11: ABL Total Média Shopping (m²) | B11: Total GLA, malls (sqm) | C11: 369055 | D11: 402615 | E11: 404095 | F11: 403465 | G11: 402235 | H11: 435263 | I11: 435292 | J11: 440255 | K11: 440255 | L11: 465548 | M11: 456919 | N11: 456919 | O11: 456919 | P11: 458100 | Q11: 522287 | R11: 579461 | S11: 580028 | T11: 626951 | U11: 626951 | V11: 626951 | W11: 626951 | X11: 646122 | Y11: 681410 | Z11: 681410 | AA11: 681410 | AB11: 701786 | AC11: 701786 | AD11: 701786 | AE11: 701786 | AF11: 701786 | AG11: 701786 | AH11: 701786 | AI11: 698594.58 | AJ11: 698596.35 | AK11: 698596.35 | AL11: 718484.26 | AM11: 719464.94 | AN11: 719464.94 | AO11: 689140.94 | AP11: 671118.26 | AQ11: 671703.19 | AR11: 671638.81 | AS11: 671698.13 | AT11: 671909.27 | AU11: 672211.88 | AV11: 669689.86 | AW11: 670312.54 | AX11: 670294.71 | AY11: 670439.43 | AZ11: 670143.34 | BA11: 669934.58 | BB11: 669969.67 | BC11: 672823.13 | BD11: 673595.83 | BE11: 673611.28 | BF11: 673827.47 | BG11: 672731.63 | BH11: 672814.23 | BI11: 662210.42 | BJ11: 699525.9 | BK11: 697541.54 | BM11: 403465 | BN11: 440255 | BO11: 456919 | BP11: 579461 | BQ11: 626951 | BR11: 681410 | BS11: 701786 | BT11: 701786 | BU11: 718484.26 | BV11: 671118.26 | BW11: 671909.27 | BX11: 670294.71 | BY11: 669969.67 | BZ11: 673827.47 | CA11: 676820.45
A12: ABL Própria Média Shopping (m²) | B12: Owned GLA, malls (sqm) | C12: 186016 | D12: 207924 | E12: 208598 | F12: 208349 | G12: 209211 | H12: 234097 | I12: 236569 | J12: 245993 | K12: 245993 | L12: 258639 | M12: 249395 | N12: 249395 | O12: 250379 | P12: 251717 | Q12: 308732 | R12: 348144 | S12: 345862 | T12: 393501 | U12: 393501 | V12: 393501 | W12: 393610 | X12: 407030 | Y12: 408744.72 | Z12: 411595.48 | AA12: 411728.34 | AB12: 419064.71 | AC12: 419064.71 | AD12: 419064.71 | AE12: 419064.71 | AF12: 419064.71 | AG12: 419078.9 | AH12: 419083.64 | AI12: 415489.61 | AJ12: 415514.42 | AK12: 415519.31 | AL12: 426273.45 | AM12: 426807.82 | AN12: 426807.82 | AO12: 424260.61 | AP12: 420640.66 | AQ12: 437733.68 | AR12: 437693.79 | AS12: 437722.18 | AT12: 437843.73 | AU12: 437923.43 | AV12: 435857.96 | AW12: 436274.02 | AX12: 436248.31 | AY12: 436384.05 | AZ12: 436195.56 | BA12: 436073.9 | BB12: 448199.9 | BC12: 449395.23 | BD12: 449563.63 | BE12: 449565.41 | BF12: 449769.05 | BG12: 450620.54 | BH12: 450781.47 | BI12: 442319.93 | BJ12: 440318.83 | BK12: 438596.47 | BM12: 208249 | BN12: 245993 | BO12: 249395 | BP12: 348144 | BQ12: 393501 | BR12: 411595.48 | BS12: 419064.71 | BT12: 419083.64 | BU12: 426273.45 | BV12: 420640.66 | BW12: 437843.73 | BX12: 436248.31 | BY12: 448199.9 | BZ12: 449769.05 | CA12: 444171.15
A13: Total Shoppings (1) | B13: Number of malls(1) | C13: 11 | D13: 12 | E13: 12 | F13: 12 | G13: 12 | H13: 13 | I13: 13 | J13: 13 | K13: 13 | L13: 14 | M13: 13 | N13: 13 | O13: 13 | P13: 13 | Q13: 15 | R13: 16 | S13: 16 | T13: 16 | U13: 16 | V13: 16 | W13: 16 | X13: 16 | Y13: 17 | Z13: 17 | AA13: 17 | AB13: 17 | AC13: 17 | AD13: 17 | AE13: 17 | AF13: 17 | AG13: 17 | AH13: 17 | AI13: 17 | AJ13: 17 | AK13: 17 | AL13: 18 | AM13: 18 | AN13: 18 | AO13: 17 | AP13: 16 | AQ13: 16 | AR13: 16 | AS13: 16 | AT13: 16 | AU13: 16 | AV13: 16 | AW13: 16 | AX13: 16 | AY13: 16 | AZ13: 16 | BA13: 16 | BB13: 16 | BC13: 16 | BD13: 16 | BE13: 16 | BF13: 16 | BG13: 16 | BH13: 16 | BI13: 15 | BJ13: 16 | BK13: 16 | BM13: 12 | BN13: 13 | BO13: 13 | BP13: 15 | BQ13: 16 | BR13: 17 | BS13: 17 | BT13: 17 | BU13: 18 | BV13: 16 | BW13: 16 | BX13: 16 | BY13: 16 | BZ13: 16 | CA13: 16
A14: Vendas Totais (R$ mil) | B14: Total sales (R$ ’000) | C14: 1273080 | D14: 1495135 | E14: 1500665 | F14: 1990692 | G14: 1507656 | H14: 1787864 | I14: 1746690 | J14: 2321075 | K14: 1775184 | L14: 1897797 | M14: 1980254 | N14: 2553032 | O14: 1965689 | P14: 2149038 | Q14: 2168132 | R14: 2932228 | S14: 2254453 | T14: 2520032 | U14: 2468993 | V14: 3299856.9 | W14: 2486165.5 | X14: 2724638.5 | Y14: 2846453.1 | Z14: 3793592.9 | AA14: 2835874 | AB14: 3085262.6 | AC14: 2901263.2 | AD14: 3896858.2 | AE14: 2910195.6 | AF14: 3248347.8 | AG14: 3097345.4 | AH14: 4018835.3 | AI14: 2973200.4 | AJ14: 3252406 | AK14: 3245305.8 | AL14: 4219623.5 | AM14: 3134792.2 | AN14: 3508228.6 | AO14: 3324207.1 | AP14: 4250371.8 | AQ14: 2633733.3 | AR14: 603633.49 | AS14: 1820455.3 | AT14: 3639343.5 | AU14: 1885292.1 | AV14: 2742934 | AW14: 3326673.5 | AX14: 4751747 | AY14: 3341466.2 | AZ14: 4280442.7 | BA14: 4084236.8 | BB14: 5259166.9 | BC14: 3903522.4 | BD14: 4624551.3 | BE14: 4462534.8 | BF14: 5875594.2 | BG14: 4306838.7 | BH14: 4949663.1 | BI14: 4896417.2 | BJ14: 7003319.4 | BK14: 5037473.9 | BM14: 6259572 | BN14: 7363285 | BO14: 8115637 | BP14: 9128208 | BQ14: 10544580 | BR14: 11850850 | BS14: 12719258 | BT14: 13272439 | BU14: 13690536 | BV14: 14217600 | BW14: 8697165.7 | BX14: 12706647 | BY14: 16968641 | BZ14: 18866203 | CA14: 21156238
A15: Vendas mesmas lojas (SSS) | B15: Same-stores sales (SSS) | C15: 0.113 | D15: 0.085 | E15: 0.096 | F15: 0.069 | G15: 0.054 | H15: 0.104 | I15: 0.075 | J15: 0.084 | K15: 0.0811 | L15: 0.073 | M15: 0.089 | N15: 0.08 | O15: 0.08 | P15: 0.068 | Q15: 0.081 | R15: 0.081 | S15: 0.074 | T15: 0.082 | U15: 0.069 | V15: 0.081 | W15: 0.072 | X15: 0.06 | Y15: 0.046 | Z15: 0.04234108 | AA15: 0.018 | AB15: 0.03 | AC15: 0.01 | AD15: 0 | AE15: 0.017 | AF15: 0.041 | AG15: 0.058759934 | AH15: 0.025 | AI15: 0.011 | AJ15: -0.018797828 | AK15: 0.028648292 | AL15: 0.034407317 | AM15: 0.030676883 | AN15: 0.069203643 | AO15: 0.030856798 | AP15: 0.057036796 | AQ15: -0.12853047 | AR15: -0.70626386 | AS15: -0.3752043 | AT15: -0.118 | AU15: -0.2561852 | AV15: 2.2301821 | AW15: 0.078194651 | AX15: 0.27519298 | AY15: 0.707 | AZ15: 0.50117292 | BA15: 0.19551138 | BB15: 0.089306138 | BC15: 0.15049134 | BD15: 0.065310999 | BE15: 0.063468813 | BF15: 0.094 | BG15: 0.072702965 | BH15: 0.040110545 | BI15: 0.089 | BJ15: 0.095 | BK15: 0.063 | BM15: 0.087 | BN15: 0.0708 | BO15: 0.0788 | BP15: 0.078 | BQ15: 0.078 | BR15: 0.05508527 | BS15: 0.011 | BT15: 0.035 | BU15: 0.015076593 | BV15: 0.047950363 | BW15: -0.28087341 | BX15: 0.34683553 | BY15: 0.30038916 | BZ15: 0.090387819 | CA15: 0.075
A16: Vendas mesma área (SAS) | B16: Same-area sales (SAS) | C16: 0.114 | D16: 0.104 | E16: 0.114 | F16: 0.095 | G16: 0.081 | H16: 0.136 | I16: 0.114 | J16: 0.102 | K16: 0.109 | L16: 0.075 | M16: 0.091 | N16: 0.081 | O16: 0.084 | P16: 0.073 | Q16: 0.082 | R16: 0.099 | S16: 0.076 | T16: 0.083 | U16: 0.071 | V16: 0.082 | W16: 0.073 | X16: 0.062 | Y16: 0.047 | Z16: 0.052 | AA16: 0.04 | AB16: 0.032 | AC16: 0.024 | AD16: 0.002 | AE16: 0.016 | AF16: 0.051 | AG16: 0.068 | AH16: 0.031 | AI16: 0.02164968 | AJ16: 0.0012493143 | AK16: 0.047770072 | AL16: 0.049961801 | AM16: 0.045465534 | AN16: 0.072096293 | AO16: 0.042298613 | AP16: 0.073915939 | AQ16: -0.095889312 | AR16: -0.81638925 | AS16: -0.42890509 | AT16: -0.14375878 | AU16: -0.28417501 | AV16: 3.5440388 | AW16: 0.04361048 | AX16: 0.30616238 | AY16: 0.772 | AZ16: 0.56167087 | BA16: 0.225 | BB16: 0.1074864 | BC16: 0.16830987 | BD16: 0.080390897 | BE16: 0.092623918 | BF16: 0.11721006 | BG16: 0.10332114 | BH16: 0.07030126 | BI16: 0.10274187 | BJ16: 0.1108556 | BK16: 0.07560582 | BM16: 0.102 | BN16: 0.0951 | BO16: 0.0813 | BP16: 0.078 | BQ16: 0.08 | BR16: 0.058 | BS16: 0.02 | BT16: 0.049 | BU16: 0.031501142 | BV16: 0.060691998 | BW16: -0.36225576 | BX16: 0.46101006 | BY16: 0.33656262 | BZ16: 0.11182756 | CA16: 0.097
A17: Aluguéis mesmas lojas (SSR) | B17: Same-store rentals (SSR) | C17: 0.063 | D17: 0.063 | E17: 0.079 | F17: 0.079 | G17: 0.072 | H17: 0.116 | I17: 0.1 | J17: 0.09 | K17: 0.1005 | L17: 0.081 | M17: 0.081 | N17: 0.088 | O17: 0.141 | P17: 0.088 | Q17: 0.084 | R17: 0.109 | S17: 0.092 | T17: 0.091 | U17: 0.086 | V17: 0.087 | W17: 0.081 | X17: 0.068 | Y17: 0.055 | Z17: 0.069028786 | AA17: 0.065 | AB17: 0.064 | AC17: 0.074 | AD17: 0.065 | AE17: 0.073 | AF17: 0.063 | AG17: 0.05776264 | AH17: 0.044 | AI17: 0.028 | AJ17: 0.018215091 | AK17: 0.017561171 | AL17: 0.04331316 | AM17: 0.06357253 | AN17: 0.10040556 | AO17: 0.087636037 | AP17: 0.052129372 | AQ17: -0.26474241 | AR17: -0.79121179 | AS17: -0.28526569 | AT17: -0.03272714 | AU17: -0.042 | AV17: 4.1085578 | AW17: 0.2287195 | AX17: 0.28 | AY17: 0.699 | AZ17: 0.57875271 | BA17: 0.357 | BB17: 0.21973459 | BC17: 0.19739854 | BD17: 0.10492064 | BE17: 0.082574348 | BF17: 0.065583486 | BG17: 0.055 | BH17: 0.029 | BI17: 0.063 | BJ17: 0.076010558 | BK17: 0.058898481 | BM17: 0.067 | BN17: 0.083 | BO17: 0.0968 | BP17: 0.105 | BQ17: 0.091 | BR17: 0.068 | BS17: 0.064 | BT17: 0.058 | BU17: 0.026955411 | BV17: 0.073430796 | BW17: -0.24520876 | BX17: 0.517 | BY17: 0.44131735 | BZ17: 0.10149328 | CA17: 0.061144127
A18: Aluguéis mesma área (SAR) | B18: Same-area rentals (SAR) | C18: 0.064 | D18: 0.064 | E18: 0.073 | F18: 0.091 | G18: 0.07 | H18: 0.129 | I18: 0.113 | J18: 0.096 | K18: 0.1142 | L18: 0.081 | M18: 0.09 | N18: 0.094 | O18: 0.145 | P18: 0.093 | Q18: 0.085 | R18: 0.114 | S18: 0.108 | T18: 0.093 | U18: 0.088 | V18: 0.089 | W18: 0.081 | X18: 0.068 | Y18: 0.054 | Z18: 0.071 | AA18: 0.074 | AB18: 0.061 | AC18: 0.064 | AD18: 0.062 | AE18: 0.069 | AF18: 0.066 | AG18: 0.061 | AH18: 0.041 | AI18: 0.043346979 | AJ18: 0.056805732 | AK18: 0.052621686 | AL18: 0.047289397 | AM18: 0.046 | AN18: 0.074428638 | AO18: 0.062379457 | AP18: 0.045917883 | AQ18: -0.27139644 | AR18: -0.79797026 | AS18: -0.32767281 | AT18: -0.10099497 | AU18: -0.128 | AV18: 3.6761305 | AW18: 0.11853374 | AX18: 0.243 | AY18: 0.722 | AZ18: 0.54697836 | BA18: 0.324 | BB18: 0.25729735 | BC18: 0.17325218 | BD18: 0.09001488 | BE18: 0.064798552 | BF18: 0.046111503 | BG18: 0.036647918 | BH18: 0.021 | BI18: 0.038 | BJ18: 0.059691717 | BK18: 0.041489034 | BM18: 0.073 | BN18: 0.088 | BO18: 0.098 | BP18: 0.108 | BQ18: 0.093 | BR18: 0.068 | BS18: 0.069 | BT18: 0.059 | BU18: 0.043737525 | BV18: 0.05680003 | BW18: -0.28479214 | BX18: 0.448 | BY18: 0.40809969 | BZ18: 0.082097604 | CA18: 0.043868843
A19: Custo de Ocupação (% das vendas) | B19: Occupancy cost (% of sales) | C19: 0.12 | D19: 0.113 | E19: 0.113 | F19: 0.107 | G19: 0.122 | H19: 0.112 | I19: 0.106 | J19: 0.101 | K19: 0.116 | L19: 0.106 | M19: 0.107 | N19: 0.106 | O19: 0.116 | P19: 0.107 | Q19: 0.108 | R19: 0.108 | S19: 0.124 | T19: 0.116 | U19: 0.119 | V19: 0.11 | W19: 0.128 | X19: 0.116 | Y19: 0.121 | Z19: 0.11 | AA19: 0.127 | AB19: 0.117 | AC19: 0.125 | AD19: 0.11461712 | AE19: 0.12739344 | AF19: 0.115 | AG19: 0.11999175 | AH19: 0.11249173 | AI19: 0.13019444 | AJ19: 0.1175526 | AK19: 0.11999994 | AL19: 0.11435184 | AM19: 0.1259652 | AN19: 0.11691177 | AO19: 0.11931236 | AP19: 0.1095 | AQ19: 0.11530909 | AR19: 0.22489291 | AS19: 0.14356025 | AT19: 0.12987238 | AU19: 0.16774754 | AV19: 0.12827079 | AW19: 0.12254186 | AX19: 0.113 | AY19: 0.138 | AZ19: 0.113 | BA19: 0.122 | BB19: 0.11834983 | BC19: 0.13189497 | BD19: 0.11341878 | BE19: 0.11855715 | BF19: 0.111 | BG19: 0.12479188 | BH19: 0.108 | BI19: 0.11 | BJ19: 0.105 | BK19: 0.118 | BM19: 0.113 | BN19: 0.105 | BO19: 0.107 | BP19: 0.113 | BQ19: 0.116 | BR19: 0.116 | BS19: 0.11981369 | BT19: 0.12086111 | BU19: 0.12033817 | BV19: 0.11682306 | BW19: 0.13532543 | BX19: 0.126 | BY19: 0.12114744 | BZ19: 0.117 | CA19: 0.111
A20: Taxa de Ocupação | B20: Occupancy rate | C20: 0.972 | D20: 0.972 | E20: 0.979 | F20: 0.971 | G20: 0.967 | H20: 0.966 | I20: 0.968 | J20: 0.969 | K20: 0.966 | L20: 0.961 | M20: 0.961 | N20: 0.961 | O20: 0.954 | P20: 0.958 | Q20: 0.967 | R20: 0.955 | S20: 0.95 | T20: 0.952 | U20: 0.951 | V20: 0.953 | W20: 0.96 | X20: 0.95 | Y20: 0.941 | Z20: 0.94 | AA20: 0.94 | AB20: 0.938 | AC20: 0.9325 | AD20: 0.9336 | AE20: 0.93 | AF20: 0.931 | AG20: 0.933 | AH20: 0.942 | AI20: 0.9465 | AJ20: 0.94580497 | AK20: 0.9436999 | AL20: 0.94604375 | AM20: 0.937 | AN20: 0.9210126 | AO20: 0.9242584 | AP20: 0.93989872 | AQ20: 0.94138129 | AR20: 0.93569278 | AS20: 0.91561893 | AT20: 0.90986471 | AU20: 0.903 | AV20: 0.90071271 | AW20: 0.907 | AX20: 0.92 | AY20: 0.927 | AZ20: 0.926 | BA20: 0.932 | BB20: 0.92895229 | BC20: 0.927 | BD20: 0.924 | BE20: 0.93438368 | BF20: 0.94451212 | BG20: 0.94063128 | BH20: 0.95 | BI20: 0.959 | BJ20: 0.977 | BK20: 0.96561367 | BM20: 0.971 | BN20: 0.97 | BO20: 0.961 | BP20: 0.963 | BQ20: 0.952 | BR20: 0.946 | BS20: 0.9347 | BT20: 0.936 | BU20: 0.94552142 | BV20: 0.93049704 | BW20: 0.93089767 | BX20: 0.90773627 | BY20: 0.92855232 | BZ20: 0.93256455 | CA20: 0.95718276
A21: Inadimplência líquida | B21: Net delinquency rate | C21: 0.037 | D21: 0.037 | E21: 0.041 | F21: 0.019 | G21: 0.031 | H21: 0.033 | I21: 0.022 | J21: 0.026 | K21: 0.025 | L21: 0.012 | M21: 0.012 | N21: 0.009 | O21: 0.016 | P21: 0.01 | Q21: 0.014 | R21: 0.014 | S21: 0.0198 | T21: 0.017 | U21: 0.01 | V21: 0.018 | W21: 0.026 | X21: 0.017 | Y21: 0.024 | Z21: 0.011050608 | AA21: 0.0374 | AB21: 0.03 | AC21: 0.0105 | AD21: 0.002 | AE21: 0.036869851 | AF21: 0.012 | AG21: 0.014612328 | AH21: 0.0017 | AI21: 0.04 | AJ21: 0.016309593 | AK21: 0.0073853304 | AL21: 0.012822454 | AM21: 0.028824255 | AN21: 0.0056647959 | AO21: 0.0041308884 | AP21: -0.0079400734 | AQ21: 0.037232123 | AR21: -0.262 | AS21: 0.1343413 | AT21: 0.093 | AU21: 0.113 | AV21: -0.039539903 | AW21: 0.020832771 | AX21: 0.014 | AY21: 0.053 | AZ21: -0.023 | BA21: -0.0074 | BB21: -0.037872382 | BC21: 0.043567398 | BD21: 0.00074706338 | BE21: -0.0026495323 | BF21: -0.017076243 | BG21: 0.021186801 | BH21: -0.014 | BI21: -0.030638848 | BJ21: -0.03 | BK21: 0.014 | BM21: 0.019 | BN21: 0.022 | BO21: 0.016 | BP21: 0.014 | BQ21: 0.017 | BR21: 0.019941081 | BS21: 0.028 | BT21: 0.017561255 | BU21: 0.019751524 | BV21: 0.0075159414 | BW21: 0.058066518 | BX21: 0.024 | BY21: -0.0022109061 | BZ21: 0.011544613 | CA21: -0.010625807
A22: Venda/m² - Shoppings (2) | B22: Sales/sqm - Malls (2) | C22: 0 | D22: 0 | E22: 0 | F22: 0 | G22: 0 | H22: 0 | I22: 0 | J22: 0 | K22: 0 | L22: 0 | M22: 0 | N22: 0 | O22: 0 | P22: 0 | Q22: 0 | R22: 0 | S22: 0 | T22: 0 | U22: 0 | V22: 0 | W22: 0 | X22: 0 | Y22: 0 | Z22: 0 | AA22: 0 | AB22: 0 | AC22: 0 | AD22: 0 | AE22: 0 | AF22: 0 | AG22: 0 | AH22: 0 | AI22: 0 | AJ22: 0 | AK22: 0 | AL22: 0 | AM22: 0 | AN22: 0 | AO22: 0 | AP22: 0 | AQ22: 0 | AR22: 0 | AS22: 0 | AT22: 0 | AU22: 0 | AV22: 0 | AW22: 0 | AX22: 0 | AY22: 5318.7234 | AZ22: 6832.3091 | BA22: 6512.1122 | BB22: 8408.5228 | BC22: 6192.5548 | BD22: 7344.6122 | BE22: 7079.3895 | BF22: 9343.5596 | BG22: 6852.3381 | BH22: 7929.1313 | BI22: 7923.0737 | BJ22: 10726.689 | BK22: 7683.7351 | BM22: 0 | BN22: 0 | BO22: 0 | BP22: 0 | BQ22: 0 | BR22: 0 | BS22: 0 | BT22: 0 | BU22: 0 | BV22: 0 | BW22: 0 | BX22: 0 | BY22: 25448.411 | BZ22: 29947.522 | CA22: 33442.092
A23: Aluguel/m² - Shoppings (2) | B23: Rent/sqm - Malls (2) | C23: 0 | D23: 0 | E23: 0 | F23: 0 | G23: 0 | H23: 0 | I23: 0 | J23: 0 | K23: 0 | L23: 0 | M23: 0 | N23: 0 | O23: 0 | P23: 0 | Q23: 0 | R23: 0 | S23: 0 | T23: 0 | U23: 0 | V23: 0 | W23: 0 | X23: 0 | Y23: 0 | Z23: 0 | AA23: 0 | AB23: 0 | AC23: 0 | AD23: 0 | AE23: 0 | AF23: 0 | AG23: 0 | AH23: 0 | AI23: 0 | AJ23: 0 | AK23: 0 | AL23: 0 | AM23: 0 | AN23: 0 | AO23: 0 | AP23: 0 | AQ23: 0 | AR23: 0 | AS23: 0 | AT23: 0 | AU23: 0 | AV23: 0 | AW23: 0 | AX23: 0 | AY23: =SUM('Portfólio | Portfolio'!AY8:AY23)/(AY8-SUM('Portfólio | Portfolio'!AY151:AY156))*1000 -> 502.93274 | AZ23: =SUM('Portfólio | Portfolio'!AZ8:AZ23)/(AZ8-SUM('Portfólio | Portfolio'!AZ151:AZ156))*1000 -> 534.57814 | BA23: =SUM('Portfólio | Portfolio'!BA8:BA23)/(BA8-SUM('Portfólio | Portfolio'!BA151:BA156))*1000 -> 544.6008 | BB23: =SUM('Portfólio | Portfolio'!BB8:BB23)/(BB8-SUM('Portfólio | Portfolio'!BB151:BB156))*1000 -> 702.65713 | BC23: =SUM('Portfólio | Portfolio'!BC8:BC23)/(BC8-SUM('Portfólio | Portfolio'!BC151:BC156))*1000 -> 550.03976 | BD23: =SUM('Portfólio | Portfolio'!BD8:BD23)/(BD8-SUM('Portfólio | Portfolio'!BD151:BD156))*1000 -> 571.99362 | BE23: =SUM('Portfólio | Portfolio'!BE8:BE23)/(BE8-SUM('Portfólio | Portfolio'!BE151:BE156))*1000 -> 567.75916 | BF23: =SUM('Portfólio | Portfolio'!BF8:BF23)/(BF8-SUM('Portfólio | Portfolio'!BF151:BF156))*1000 -> 732.92344 | ... BI23: =SUM('Portfólio | Portfolio'!BI8:BI23)/(BI8-SUM('Portfólio | Portfolio'!BI151:BI156))*1000 -> 598.26509 | BJ23: 794.54222 | BK23: 613.21451 | BM23: 0 | BN23: 0 | BO23: 0 | BP23: 0 | BQ23: 0 | BR23: 0 | BS23: 0 | BT23: 0 | BU23: 0 | BV23: 0 | BW23: 0 | BX23: 0 | BY23: 2000.9347 | BZ23: 2421.6568 | CA23: 2546.8555
A24: Aluguel/m² (3) | B24: Ren/sqm (3) | C24: 0 | D24: 0 | E24: 0 | F24: 0 | G24: 0 | H24: 0 | I24: 0 | J24: 0 | K24: 0 | L24: 0 | M24: 0 | N24: 0 | O24: 0 | P24: 0 | Q24: 0 | R24: 0 | S24: 0 | T24: 0 | U24: 0 | V24: 0 | W24: 0 | X24: 0 | Y24: 0 | Z24: 0 | AA24: 0 | AB24: 0 | AC24: 0 | AD24: 0 | AE24: 0 | AF24: 0 | AG24: 0 | AH24: 0 | AI24: 0 | AJ24: 0 | AK24: 0 | AL24: 0 | AM24: 0 | AN24: 0 | AO24: 0 | AP24: 0 | AQ24: 0 | AR24: 0 | AS24: 0 | AT24: 0 | AU24: 0 | AV24: 0 | AW24: 0 | AX24: 0 | AY24: =SUM('Portfólio | Portfolio'!AY8:AY30)/AY8*1000 -> 448.82301 | AZ24: =SUM('Portfólio | Portfolio'!AZ8:AZ30)/AZ8*1000 -> 476.91914 | BA24: =SUM('Portfólio | Portfolio'!BA8:BA30)/BA8*1000 -> 484.80327 | BB24: =SUM('Portfólio | Portfolio'!BB8:BB30)/BB8*1000 -> 611.898 | BC24: =SUM('Portfólio | Portfolio'!BC8:BC30)/BC8*1000 -> 483.64851 | BD24: =SUM('Portfólio | Portfolio'!BD8:BD30)/BD8*1000 -> 504.28455 | BE24: =SUM('Portfólio | Portfolio'!BE8:BE30)/BE8*1000 -> 499.94703 | BF24: =SUM('Portfólio | Portfolio'!BF8:BF30)/BF8*1000 -> 641.47943 | ... BI24: =SUM('Portfólio | Portfolio'!BI8:BI30)/BI8*1000 -> 527.33163 | BJ24: 699.21054 | BK24: 543.83745 | BM24: 0 | BN24: 0 | BO24: 0 | BP24: 0 | BQ24: 0 | BR24: 0 | BS24: 0 | BT24: 0 | BU24: 0 | BV24: 0 | BW24: 0 | BX24: 0 | BY24: 0 | BZ24: 2128.3825 | CA24: 2244.2128
A26: (1) Considera Iguatemi Esplanada e Esplanada Shopping como um único empreendimento. | B26: (1) Considers Iguatemi Esplanada and Esplanada Shopping as one asset.
A27: (2) Considera vendas e receita de aluguel dos shoppings e ABL total shoppings (exclui torres, outlets e Power Center Iguatemi Campinas). | B27: (2) Considers malls sales and rental income and total GLA malls (excludes towers, outlet and Power Center Iguatemi Campinas).
A28: (3) Considera ABL total shoppings e torres. | B28: (3) Considers total GLA, malls and towers.
A31: Vendas mesmas lojas (SSS) - Âncoras¹ | B31: Same-Store Sales (SSS) = Anchors¹ | C31: 1Q10 | D31: 2Q10 | E31: 3Q10 | F31: 4Q10 | G31: 1Q11 | H31: 2Q11 | I31: 3Q11 | J31: 4Q11 | K31: 1Q12 | L31: 2Q12 | M31: 3Q12 | N31: 4Q12 | O31: 1Q13 | P31: 2Q13 | Q31: 3Q13 | R31: 4Q13 | S31: 1Q14 | T31: 2Q14 | U31: 3Q14 | V31: 4Q14 | W31: 1Q15 | X31: 2Q15 | Y31: 3Q15 | Z31: 4Q15 | AA31: 1Q16 | AB31: 2Q16 | AC31: 3Q16 | AD31: 4Q16 | AE31: 1Q17 | AF31: 2Q17 | AG31: 3Q17 | AH31: 4Q17 | AI31: 1Q18 | AJ31: 2Q18 | AK31: 3Q18 | AL31: 4Q18 | AM31: 1Q19 | AN31: 2Q19 | AO31: 3Q19 | AP31: 4Q19 | AQ31: 1Q20 | AR31: 2Q20 | AS31: 3Q20 | AT31: 4Q20 | AU31: 1Q21 | AV31: 2Q21 | AW31: 3Q21 | AX31: 4Q21 | AY31: 1Q22 | AZ31: 2Q22 | BA31: 3Q22 | BB31: 4Q22 | BC31: 1Q23 | BD31: 2Q23 | BE31: 3Q23 | BF31: 4Q23 | BG31: 1Q24 | BH31: =BH7 -> 2Q24 | BI31: =BI7 -> 3Q24 | BJ31: =BJ7 -> 4Q24 | BK31: =BK7 -> 1Q25
A32: Alimentação | B32: Food | AM32: 0.12480456 | AN32: 0.12632926 | AO32: 0.020955039 | AP32: 0.099284893 | AQ32: -0.098791525 | AR32: -0.59840638 | AS32: -0.43161428 | AT32: -0.15086438 | AU32: -0.23290259 | AV32: 1.0811033 | AW32: 0.43017977 | AX32: 0.3614285 | AY32: 0.66367559 | AZ32: 0.41332756 | BA32: 0.092742632 | BB32: -0.011860477 | BC32: 0.02734923 | BD32: -0.0012136877 | BE32: -0.057682097 | BF32: -0.0035756408 | BG32: 0.013855258 | BH32: -0.059327578 | BI32: -0.015035354 | BJ32: 0.028570069 | BK32: -0.088293341
A33: Moda, Calçados, Artigos de Couro | B33: Apparel, Shoes, Leather Goods | AM33: 0.072761263 | AN33: 0.067046364 | AO33: 0.10463949 | AP33: 0.1253165 | AQ33: -0.1032099 | AR33: -0.80175823 | AS33: -0.50376968 | AT33: -0.17401185 | AU33: -0.35976682 | AV33: 4.1522496 | AW33: 0.66216452 | AX33: 0.42298883 | AY33: 1.1585527 | AZ33: 0.63400328 | BA33: 0.21300706 | BB33: 0.09996092 | BC33: 0.18460937 | BD33: 0.10365686 | BE33: 0.1372825 | BF33: 0.17870986 | BG33: 0.13519915 | BH33: -0.050722084 | BI33: 0.078516875 | BJ33: 0.10092824 | BK33: 0.07804013
A34: Artigos para o Lar, Livraria, Papelaria, Info. | B34: Housewares, Bookstores, Stationerty, Tech | AM34: -0.13882644 | AN34: -0.047494404 | AO34: -0.05997697 | AP34: -0.062798337 | AQ34: -0.24025066 | AR34: -0.70169662 | AS34: -0.33482166 | AT34: -0.12596539 | AU34: -0.30501488 | AV34: 1.4736107 | AW34: 0.15808197 | AX34: 0.085172362 | AY34: 0.42713616 | AZ34: 0.075798392 | BA34: -0.098920916 | BB34: -0.11193559 | BC34: -0.019258105 | BD34: -0.069995946 | BE34: -0.084884026 | BF34: -0.025711464 | BG34: -0.046159683 | BH34: -0.0040489645 | BI34: 0.10249843 | BJ34: 0.077593947 | BK34: 0.034273319
A35: Artigos Diversos, Saúde & Beleza, Joalherias | B35: Miscellaneous, Health & Beauty, Jewelry | AM35: -0.08534668 | AN35: 0.16760543 | AO35: -0.035892484 | AP35: -0.035487966 | AQ35: -0.14628726 | AR35: -0.76960348 | AS35: -0.49418646 | AT35: -0.21985448 | AU35: -0.37231787 | AV35: 2.1923739 | AW35: 0.29128177 | AX35: 0.16382821 | AY35: 0.73313237 | AZ35: 0.4677213 | BA35: 0.20908396 | BB35: 0.084671874 | BC35: 0.03101788 | BD35: -0.074923644 | BE35: -0.0034367843 | BF35: -0.03299891 | BG35: 0.047493371 | BH35: -0.03977966 | BI35: 0.067365622 | BJ35: 0.054794606 | BK35: 0.025535729
A36: Serviços, Entretenimento, Outros | B36: Services, Entertainement, Others | AM36: 2.5778449e-06 | AN36: 0.13004611 | AO36: 0.066540282 | AP36: 0.0079059564 | AQ36: -0.035563635 | AR36: -0.10244061 | AS36: -0.16925013 | AT36: -0.20756266 | AU36: -0.25889747 | AV36: 0.18708474 | AW36: 0.0050944935 | AX36: 0.30772379 | AY36: 0.29168225 | AZ36: 0.38636919 | BA36: 0.5308732 | BB36: 0.11101512 | BC36: 0.15252711 | BD36: 0.098493826 | BE36: 0.12284021 | BF36: 0.074171429 | BG36: 0.11572688 | BH36: 0.0021348977 | BI36: 0.032287946 | BJ36: 0.11811933 | BK36: 0.028897415
A37: Total | B37: Total | AM37: 0.0028108013 | AN37: 0.075359402 | AO37: 0.053150593 | AP37: 0.040930629 | AQ37: -0.10689994 | AR37: -0.58566631 | AS37: -0.39344695 | AT37: -0.1826256 | AU37: -0.3083804 | AV37: 1.1697823 | AW37: 0.2799581 | AX37: 0.31580484 | AY37: 0.64509503 | AZ37: 0.47931209 | BA37: 0.23874599 | BB37: 0.073148061 | BC37: 0.12234748 | BD37: 0.062175673 | BE37: 0.082205155 | BF37: 0.092962178 | BG37: 0.095556637 | BH37: -0.033647951 | BI37: 0.058700627 | BJ37: 0.09355707 | BK37: 0.041913007
A38: (1) Considerando âncoras como lojas com ABL igual ou superior a 1.000 m2 e demais lojas com ABL inferior a 1.000 m2 | B38: (1) Considering anchors such as stores with GLA equal to or greater than 1,000 sqm and other stores with GLA lower than 1,000 sqm.
A40: Vendas mesmas lojas (SSS) - Demais Lojas | B40: Same-Store Sales (SSS) - Other Stores | C40: 1Q10 | D40: 2Q10 | E40: 3Q10 | F40: 4Q10 | G40: 1Q11 | H40: 2Q11 | I40: 3Q11 | J40: 4Q11 | K40: 1Q12 | L40: 2Q12 | M40: 3Q12 | N40: 4Q12 | O40: 1Q13 | P40: 2Q13 | Q40: 3Q13 | R40: 4Q13 | S40: 1Q14 | T40: 2Q14 | U40: 3Q14 | V40: 4Q14 | W40: 1Q15 | X40: 2Q15 | Y40: 3Q15 | Z40: 4Q15 | AA40: 1Q16 | AB40: 2Q16 | AC40: 3Q16 | AD40: 4Q16 | AE40: 1Q17 | AF40: 2Q17 | AG40: 3Q17 | AH40: 4Q17 | AI40: 1Q18 | AJ40: 2Q18 | AK40: 3Q18 | AL40: 4Q18 | AM40: 1Q19 | AN40: 2Q19 | AO40: 3Q19 | AP40: 4Q19 | AQ40: 1Q20 | AR40: 2Q20 | AS40: 3Q20 | AT40: 4Q20 | AU40: 1Q21 | AV40: 2Q21 | AW40: 3Q21 | AX40: 4Q21 | AY40: 1Q22 | AZ40: 2Q22 | BA40: 3Q22 | BB40: 4Q22 | BC40: 1Q23 | BD40: 2Q23 | BE40: 3Q23 | BF40: 4Q23 | BG40: 1Q24 | BH40: =BH31 -> 2Q24 | BI40: =BI31 -> 3Q24 | BJ40: =BJ31 -> 4Q24 | BK40: =BK31 -> 1Q25
A41: Alimentação | B41: Food | AM41: 0.010056411 | AN41: 0.1211346 | AO41: 0.027603846 | AP41: 0.0315109 | AQ41: -0.16675304 | AR41: -0.77392334 | AS41: -0.57455486 | AT41: -0.27923098 | AU41: -0.37402762 | AV41: 2.1729595 | AW41: 0.29814491 | AX41: 0.43477124 | AY41: 0.89941172 | AZ41: 0.82748862 | BA41: 0.28083459 | BB41: 0.14012837 | BC41: 0.2159187 | BD41: 0.10027212 | BE41: 0.10836846 | BF41: 0.12345751 | BG41: 0.12557294 | BH41: 0.010050268 | BI41: 0.035289592 | BJ41: 0.067944827 | BK41: -0.012797686
A42: Moda, Calçados, Artigos de Couro | B42: Apparel, Shoes, Leather Goods | AM42: 0.042090107 | AN42: 0.066278588 | AO42: 0.016981054 | AP42: 0.042857006 | AQ42: -0.13876203 | AR42: -0.76117614 | AS42: -0.36111765 | AT42: -0.063258685 | AU42: -0.21739557 | AV42: 3.3906202 | AW42: 0.61866306 | AX42: 0.34781759 | AY42: 0.92680319 | AZ42: 0.55098955 | BA42: 0.19764308 | BB42: 0.057196828 | BC42: 0.11375587 | BD42: 0.039364559 | BE42: 0.041498239 | BF42: 0.089160832 | BG42: 0.042977167 | BH42: 0.029706633 | BI42: 0.087289373 | BJ42: 0.093176808 | BK42: 0.097322766
A43: Artigos para o Lar, Livraria, Papelaria, Info. | B43: Housewares, Bookstores, Stationerty, Tech | AM43: -0.00088327962 | AN43: -0.056796206 | AO43: -0.026044931 | AP43: 0.029681973 | AQ43: -0.16127528 | AR43: -0.69843622 | AS43: -0.26433308 | AT43: -0.084776067 | AU43: -0.26650852 | AV43: 2.0486635 | AW43: 0.15241663 | AX43: 0.0043582102 | AY43: 0.44470347 | AZ43: 0.23161017 | BA43: 0.11421693 | BB43: 0.1238874 | BC43: 0.13789798 | BD43: -0.0083658385 | BE43: -0.013029979 | BF43: 0.023554919 | BG43: -0.006960101 | BH43: 0.083390591 | BI43: 0.075282241 | BJ43: 0.096890975 | BK43: 0.076120108
A44: Artigos Diversos, Saúde & Beleza, Joalherias | B44: Miscellaneous, Health & Beauty, Jewelry | AM44: 0.084258446 | AN44: 0.1003487 | AO44: 0.067209924 | AP44: 0.12790565 | AQ44: -0.07949752 | AR44: -0.68645578 | AS44: -0.27610476 | AT44: -0.041104457 | AU44: -0.15049291 | AV44: 2.345567 | AW44: 0.4080814 | AX44: 0.17544698 | AY44: 0.50076861 | AZ44: 0.36725692 | BA44: 0.17150858 | BB44: 0.10595332 | BC44: 0.18089003 | BD44: 0.10574892 | BE44: 0.072001334 | BF44: 0.10628511 | BG44: 0.094006094 | BH44: 0.12779469 | BI44: 0.1602609 | BJ44: 0.1172528 | BK44: 0.082630782
A45: Serviços, Entretenimento, Outros | B45: Services, Entertainement, Others | AM45: -0.0137546 | AN45: 0.069507943 | AO45: 0.035536178 | AP45: 0.016106752 | AQ45: -0.14829348 | AR45: -0.6699851 | AS45: -0.53643013 | AT45: -0.35957372 | AU45: -0.40882994 | AV45: 1.1691599 | AW45: 0.068423725 | AX45: 0.27523791 | AY45: 0.54954826 | AZ45: 0.6387284 | BA45: -0.030430034 | BB45: 0.21441701 | BC45: 0.28467732 | BD45: 0.16796063 | BE45: 0.13830321 | BF45: 0.097426908 | BG45: 0.045687777 | BH45: 0.1107645 | BI45: 0.13014047 | BJ45: 0.079903712 | BK45: 0.03682301
A46: Total | B46: Total | AM46: 0.036633167 | AN46: 0.067746202 | AO46: 0.025938376 | AP46: 0.060028703 | AQ46: -0.13340127 | AR46: -0.73492599 | AS46: -0.37148532 | AT46: -0.1047058 | AU46: -0.24362331 | AV46: 2.6788344 | AW46: 0.42886174 | AX46: 0.26720949 | AY46: 0.72336687 | AZ46: 0.50594663 | BA46: 0.18638101 | BB46: 0.092811535 | BC46: 0.15699218 | BD46: 0.066048855 | BE46: 0.059186303 | BF46: 0.094064819 | BG46: 0.06749959 | BH46: 0.057627724 | BI46: 0.096040727 | BJ46: 0.095752508 | BK46: 0.068292702
A48: Vendas mesmas lojas (SSS) - Total | B48: Same-Store Sales (SSS) - Total | C48: 1Q10 | D48: 2Q10 | E48: 3Q10 | F48: 4Q10 | G48: 1Q11 | H48: 2Q11 | I48: 3Q11 | J48: 4Q11 | K48: 1Q12 | L48: 2Q12 | M48: 3Q12 | N48: 4Q12 | O48: 1Q13 | P48: 2Q13 | Q48: 3Q13 | R48: 4Q13 | S48: 1Q14 | T48: 2Q14 | U48: 3Q14 | V48: 4Q14 | W48: 1Q15 | X48: 2Q15 | Y48: 3Q15 | Z48: 4Q15 | AA48: 1Q16 | AB48: 2Q16 | AC48: 3Q16 | AD48: 4Q16 | AE48: 1Q17 | AF48: 2Q17 | AG48: 3Q17 | AH48: 4Q17 | AI48: 1Q18 | AJ48: 2Q18 | AK48: 3Q18 | AL48: 4Q18 | AM48: 1Q19 | AN48: 2Q19 | AO48: 3Q19 | AP48: 4Q19 | AQ48: 1Q20 | AR48: 2Q20 | AS48: 3Q20 | AT48: 4Q20 | AU48: 1Q21 | AV48: 2Q21 | AW48: 3Q21 | AX48: 4Q21 | AY48: 1Q22 | AZ48: 2Q22 | BA48: 3Q22 | BB48: 4Q22 | BC48: 1Q23 | BD48: 2Q23 | BE48: 3Q23 | BF48: 4Q23 | BG48: 1Q24 | BH48: 2Q24 | BI48: =BI40 -> 3Q24 | BJ48: =BJ40 -> 4Q24 | BK48: =BK40 -> 1Q25
A49: Alimentação | B49: Food | AM49: 0.015633489 | AN49: 0.12147671 | AO49: 0.027152108 | AP49: 0.035906257 | AQ49: -0.16219496 | AR49: -0.75328755 | AS49: -0.56407462 | AT49: -0.27157413 | AU49: -0.36428063 | AV49: 1.964399 | AW49: 0.30987224 | AX49: 0.4293688 | AY49: 0.87971995 | AZ49: 0.79151413 | BA49: 0.2610855 | BB49: 0.12425697 | BC49: 0.19642738 | BD49: 0.090998895 | BE49: 0.092844262 | BF49: 0.1123654 | BG49: 0.11571892 | BH49: 0.0041640639 | BI49: 0.030981472 | BJ49: 0.064585813 | BK49: -0.018997861
...

Sheet Portfólio | Portfolio
C4: IGUATEMI EMPRESA DE SHOPPING CENTERS S/A | G4: IGUATEMI EMPRESA DE SHOPPING CENTERS S/A | K4: IGUATEMI EMPRESA DE SHOPPING CENTERS S/A | O4: IGUATEMI EMPRESA DE SHOPPING CENTERS S/A | S4: IGUATEMI EMPRESA DE SHOPPING CENTERS S/A | W4: IGUATEMI EMPRESA DE SHOPPING CENTERS S/A | AA4: IGUATEMI EMPRESA DE SHOPPING CENTERS S/A | AE4: IGUATEMI EMPRESA DE SHOPPING CENTERS S/A | AI4: IGUATEMI EMPRESA DE SHOPPING CENTERS S/A | AM4: IGUATEMI EMPRESA DE SHOPPING CENTERS S/A | AQ4: IGUATEMI EMPRESA DE SHOPPING CENTERS S/A | AU4: IGUATEMI EMPRESA DE SHOPPING CENTERS S/A | AY4: IGUATEMI S.A. | BC4: IGUATEMI S.A. | BG4: IGUATEMI S.A.
A5: Desempenho Operacional | B5: Operatinal Performance (100%) | C5: ='Indicadores | Indicators'!C5 -> 1Q10 | D5: ='Indicadores | Indicators'!D5 -> 2Q10 | E5: ='Indicadores | Indicators'!E5 -> 3Q10 | F5: ='Indicadores | Indicators'!F5 -> 4Q10 | G5: ='Indicadores | Indicators'!G5 -> 1Q11 | H5: ='Indicadores | Indicators'!H5 -> 2Q11 | I5: ='Indicadores | Indicators'!I5 -> 3Q11 | J5: ='Indicadores | Indicators'!J5 -> 4Q11 | ... BI5: ='Indicadores | Indicators'!BI5 -> 3Q24 | BJ5: 4Q24 | BK5: 1Q25
A7: AMM+OV+TEMP (R$ mil) (1) | B7: Minimum Rental + Overage + Temporary Rent (R$ ‘000) (1) | C7: =C5 -> 1Q10 | D7: =D5 -> 2Q10 | E7: =E5 -> 3Q10 | F7: =F5 -> 4Q10 | G7: =G5 -> 1Q11 | H7: =H5 -> 2Q11 | I7: =I5 -> 3Q11 | J7: =J5 -> 4Q11 | ... BE7: =BE5 -> 3Q23 | BF7: =BF$5 -> 4Q23 | BG7: =BG$5 -> 1Q24 | BH7: =BH$5 -> 2Q24 | BI7: =BI$5 -> 3Q24 | BJ7: =BJ$5 -> 4Q24 | BK7: =BK$5 -> 1Q25
A8: Iguatemi São Paulo | B8: Iguatemi São Paulo | C8: 23087.838 | D8: 25156.796 | E8: 25023.156 | F8: 35650.239 | G8: 26113.244 | H8: 28447.158 | I8: 28317.589 | J8: 40289.579 | K8: 29588.192 | L8: 32008.808 | M8: 30575.838 | N8: 41135.042 | O8: 30653.26 | P8: 33654.018 | Q8: 33890.096 | R8: 45504.733 | S8: 34438.42 | T8: 36205.364 | U8: 36720.182 | V8: 50782.094 | W8: 37059.925 | X8: 38768.96 | Y8: 40368.389 | Z8: 52981.82 | AA8: 39889.391 | AB8: 44469.8 | AC8: 42429.84 | AD8: 56986.33 | AE8: 43241.985 | AF8: 45805.599 | AG8: 46036.474 | AH8: 62831.588 | AI8: 45095.725 | AJ8: 49063.646 | AK8: 48081.693 | AL8: 58500.446 | AM8: 47265.763 | AN8: 50577.503 | AO8: 51141.086 | AP8: 69090.275 | AQ8: 49577.067 | AR8: 49787.561 | AS8: 51101.231 | AT8: 76388.816 | AU8: 55497.317 | AV8: 62110.481 | AW8: 68221.935 | AX8: 96116.517 | AY8: 70983.109 | AZ8: 75156.926 | BA8: 77083.635 | BB8: 101561.35 | BC8: 76825.578 | BD8: 82323.117 | BE8: 80815.619 | BF8: 106984.32 | BG8: 79983.735 | BH8: 87120.59 | BI8: 84747.029 | BJ8: 115756.23 | BK8: 85032.072
A9: JK Iguatemi | B9: JK Iguatemi | C9: - | D9: - | E9: - | F9: - | G9: - | H9: - | I9: - | J9: - | K9: - | L9: 1071.9642 | M9: 13481.097 | N9: 18714.384 | O9: 13451.814 | P9: 15640.129 | Q9: 15441.233 | R9: 19564.63 | S9: 15077.888 | T9: 15387.203 | U9: 17133.26 | V9: 22154.1 | W9: 16351.064 | X9: 18400.442 | Y9: 17048.807 | Z9: 22326.16 | AA9: 16559.635 | AB9: 17748.8 | AC9: 17938.624 | AD9: 23859.265 | AE9: 16808.447 | AF9: 18345.977 | AG9: 18022.686 | AH9: 24493.382 | AI9: 16936.786 | AJ9: 19062.026 | AK9: 19611.46 | AL9: 26546.008 | AM9: 19518.432 | AN9: 22148.281 | AO9: 21810.255 | AP9: 28999.434 | AQ9: 20250.702 | AR9: 19065.267 | AS9: 20524.466 | AT9: 28490.986 | AU9: 20735.265 | AV9: 25088.002 | AW9: 30858.658 | AX9: 43090.236 | AY9: 32140.301 | AZ9: 36048.882 | BA9: 36417.077 | BB9: 45833.77 | BC9: 37457.552 | BD9: 39745.3 | BE9: 38473.595 | BF9: 50755.331 | BG9: 37643.191 | BH9: 43632.064 | BI9: 43470.875 | BJ9: 54308.308 | BK9: 40197.889
A10: Pátio Higienópolis (2) | B10: Pátio Higienópolis (2) | C10: - | D10: - | E10: - | F10: - | G10: - | H10: - | I10: - | J10: - | K10: - | L10: - | M10: - | N10: - | O10: - | P10: - | Q10: - | R10: - | S10: - | T10: - | U10: - | V10: - | W10: - | X10: - | Y10: 19033.777 | Z10: 25452.072 | AA10: 21403.222 | AB10: 22010.18 | AC10: 20884.848 | AD10: 27398.374 | AE10: 22534.25 | AF10: 23142.83 | AG10: 22976.691 | AH10: 31189.982 | AI10: 22763.637 | AJ10: 23601.595 | AK10: 23936.601 | AL10: 32035.135 | AM10: 24693.883 | AN10: 24993.072 | AO10: 25161.703 | AP10: 32922.438 | AQ10: 25314.67 | AR10: 24158.125 | AS10: 23293.575 | AT10: 31909.983 | AU10: 24975.847 | AV10: 25604.643 | AW10: 27503.828 | AX10: 38191.347 | AY10: 29711.441 | AZ10: 30097.299 | BA10: 31416.247 | BB10: 41430.473 | BC10: 32155.08 | BD10: 32658.03 | BE10: 33469.664 | BF10: 43462.349 | BG10: 34734.131 | BH10: 35671.168 | BI10: 35468.779 | BJ10: 46492.353 | BK10: 35548.202
A11: Market Place | B11: Market Place | C11: 4797.1672 | D11: 4885.6637 | E11: 5154.92 | F11: 7129.1178 | G11: 5272.7378 | H11: 5377.0799 | I11: 6637.7792 | J11: 8156.8431 | K11: 5903.8789 | L11: 6176.9051 | M11: 6674.6967 | N11: 8328.7486 | O11: 6053.6037 | P11: 6602.1349 | Q11: 6544.8146 | R11: 8297.6917 | S11: 6006.4668 | T11: 6673.8947 | U11: 6765.9277 | V11: 9101.7372 | W11: 6184.4077 | X11: 6415.7813 | Y11: 7563.4337 | Z11: 7969.672 | AA11: 6344.6001 | AB11: 6725.1278 | AC11: 7438.1188 | AD11: 8956.2312 | AE11: 6928.3423 | AF11: 7069.2101 | AG11: 6850.7042 | AH11: 9887.7209 | AI11: 6928.2923 | AJ11: 6921.7593 | AK11: 7096.8637 | AL11: 8722.4151 | AM11: 6406.329 | AN11: 6808.1724 | AO11: 7744.6632 | AP11: 9723.829 | AQ11: 6642.9468 | AR11: 6070.7981 | AS11: 6367.5994 | AT11: 7849.3569 | AU11: 6201.4042 | AV11: 6219.4079 | AW11: 6993.5487 | AX11: 8972.4134 | AY11: 7914.1707 | AZ11: 7663.4426 | BA11: 7997.5446 | BB11: 9747.1743 | BC11: 7775.9689 | BD11: 8480.0789 | BE11: 7522.0633 | BF11: 9336.0291 | BG11: 6837.9396 | BH11: 6733.2186 | BI11: 6399.3137 | BJ11: 7203.8309 | BK11: 5855.5839
A12: Iguatemi Alphaville | B12: Iguatemi Alphaville | C12: - | D12: - | E12: - | F12: - | G12: - | H12: 4271.9709 | I12: 6455.2891 | J12: 8495.7765 | K12: 6450.5755 | L12: 6784.5133 | M12: 6728.9265 | N12: 8332.4856 | O12: 6231.4196 | P12: 6556.2796 | Q12: 6544.9042 | R12: 8658.9049 | S12: 6416.517 | T12: 6887.6617 | U12: 6740.8512 | V12: 9167.7244 | W12: 6773.0065 | X12: 7281.2051 | Y12: 7251.2682 | Z12: 11001.549 | AA12: 6960.0324 | AB12: 7434.5124 | AC12: 7384.7096 | AD12: 11446.228 | AE12: 6996.5224 | AF12: 7490.5809 | AG12: 8247.3867 | AH12: 9374.9441 | AI12: 7312.9082 | AJ12: 7598.5459 | AK12: 8324.986 | AL12: 10963.051 | AM12: 7138.0178 | AN12: 7928.8393 | AO12: 8378.1144 | AP12: 11363.356 | AQ12: 8247.2042 | AR12: 7752.6994 | AS12: 7799.7695 | AT12: 10331.741 | AU12: 8127.3454 | AV12: 8472.2963 | AW12: 9387.4044 | AX12: 12677.168 | AY12: 9556.3227 | AZ12: 11014.659 | BA12: 11048.734 | BB12: 13018.344 | BC12: 10330.805 | BD12: 10686.411 | BE12: 11038.313 | BF12: 14396.073 | BG12: 10887.232 | BH12: 11077.283 | BI12: 11301.304 | BJ12: 15043.6 | BK12: 11201.384
A13: Iguatemi Campinas | B13: Iguatemi Campinas | C13: 11817.54 | D13: 12372.129 | E13: 12774.582 | F13: 17208.717 | G13: 12552.992 | H13: 13358.415 | I13: 13444.579 | J13: 18981.11 | K13: 13406.72 | L13: 14623.848 | M13: 15685.859 | N13: 20171.146 | O13: 15457.924 | P13: 16189.368 | Q13: 17040.541 | R13: 22185.228 | S13: 16907.674 | T13: 17929.387 | U13: 18114.349 | V13: 23711.383 | W13: 17969.031 | X13: 20942.616 | Y13: 22062.428 | Z13: 29909.745 | AA13: 22367.046 | AB13: 23140.511 | AC13: 24143.481 | AD13: 34887.06 | AE13: 23726.407 | AF13: 25198.802 | AG13: 25638.464 | AH13: 34068.821 | AI13: 25105.988 | AJ13: 26316.778 | AK13: 27355.877 | AL13: 35303.084 | AM13: 27210.834 | AN13: 28434.54 | AO13: 28737.256 | AP13: 37095.962 | AQ13: 27526.235 | AR13: 25018.966 | AS13: 24324.856 | AT13: 33701.314 | AU13: 25926.783 | AV13: 28009.022 | AW13: 30976.073 | AX13: 43482.982 | AY13: 33698.717 | AZ13: 36258.385 | BA13: 36402.115 | BB13: 47885.95 | BC13: 36563.309 | BD13: 37847.911 | BE13: 37495.363 | BF13: 48953.892 | BG13: 36527.536 | BH13: 38311.56 | BI13: 38206.546 | BJ13: 50948.113 | BK13: 37695.339
A14: Galleria | B14: Galleria | C14: 2495.7101 | D14: 2603.5662 | E14: 2651.2866 | F14: 4166.72 | G14: 2686.4503 | H14: 2927.2479 | I14: 3176.2502 | J14: 4113.8085 | K14: 3074.5974 | L14: 3279.7955 | M14: 3781.9052 | N14: 6081.5023 | O14: 4854.1102 | P14: 4794.0781 | Q14: 4966.2757 | R14: 6376.9317 | S14: 4917.5271 | T14: 5072.2727 | U14: 4991.1908 | V14: 7454.9937 | W14: 4919.6752 | X14: 5077.0903 | Y14: 5041.3167 | Z14: 6745.3426 | AA14: 5136.9179 | AB14: 5208.2419 | AC14: 5137.5524 | AD14: 6945.2335 | AE14: 5343.1975 | AF14: 5389.9156 | AG14: 4784.4306 | AH14: 7268.4847 | AI14: 5461.3944 | AJ14: 5405.5815 | AK14: 5579.8922 | AL14: 7996.6816 | AM14: 5272.0169 | AN14: 5227.417 | AO14: 5222.4801 | AP14: 6567.3397 | AQ14: 5662.0231 | AR14: 4998.7004 | AS14: 5158.1465 | AT14: 7156.705 | AU14: 5760.8203 | AV14: 6134.3014 | AW14: 6757.6539 | AX14: 9706.7433 | AY14: 7921.8995 | AZ14: 8515.826 | BA14: 8415.6514 | BB14: 10737.331 | BC14: 8811.6639 | BD14: 8999.223 | BE14: 8979.6992 | BF14: 10840.552 | BG14: 8384.2498 | BH14: 8229.042 | BI14: 8253.1761 | BJ14: 10225.6 | BK14: 8390.8686
A15: Iguatemi Esplanada (3) | B15: Iguatemi Esplanada (3) | C15: 5749.0915 | D15: 5940.6222 | E15: 6101.0929 | F15: 8051.8446 | G15: 6158.0597 | H15: 6511.4471 | I15: 6710.5091 | J15: 8998.8178 | K15: 7043.4479 | L15: 7186.005 | M15: 7395.9225 | N15: 9901.7919 | O15: 7822.2315 | P15: 7919.7265 | Q15: 8044.2518 | R15: 14733.865 | S15: 14347.964 | T15: 14066.966 | U15: 14032.677 | V15: 19674.778 | W15: 14361.612 | X15: 14590.283 | Y15: 14530.833 | Z15: 19309.107 | AA15: 14845.271 | AB15: 15065.598 | AC15: 15082.635 | AD15: 20381.722 | AE15: 15870.054 | AF15: 15838.371 | AG15: 16199.442 | AH15: 22560.409 | AI15: 16164.206 | AJ15: 16356.678 | AK15: 16272.654 | AL15: 22512.91 | AM15: 15899.931 | AN15: 16493.142 | AO15: 16335.629 | AP15: 21977.15 | AQ15: 16484.208 | AR15: 15458.09 | AS15: 14627.164 | AT15: 20065.603 | AU15: 16320.474 | AV15: 17479.331 | AW15: 18572.79 | AX15: 25898.743 | AY15: 20970.349 | AZ15: 21317.696 | BA15: 21280.175 | BB15: 26452.64 | BC15: 23194.18 | BD15: 22994.371 | BE15: 23233.9 | BF15: 29870.924 | BG15: 23401.528 | BH15: 24243.898 | BI15: 24062.076 | BJ15: 30833.614 | BK15: 24733.872
A16: Iguatemi São Carlos | B16: Iguatemi São Carlos | C16: 1246.5503 | D16: 1383.0492 | E16: 1357.9692 | F16: 2072.8303 | G16: 1444.946 | H16: 1602.7944 | I16: 1402.9121 | J16: 2212.1351 | K16: 1513.984 | L16: 1740.4452 | M16: 1703.69 | N16: 2344.573 | O16: 1783.2171 | P16: 1786.9834 | Q16: 1819.9702 | R16: 2810.0523 | S16: 1861.0468 | T16: 2000.9552 | U16: 2257.9801 | V16: 3060.1164 | W16: 2354.4091 | X16: 2416.7924 | Y16: 2469.2964 | Z16: 3462.3941 | AA16: 2472.2469 | AB16: 2716.5737 | AC16: 2595.6464 | AD16: 3734.9595 | AE16: 2680.5912 | AF16: 2706.4749 | AG16: 2741.1386 | AH16: 3801.4704 | AI16: 2759.891 | AJ16: 2826.7013 | AK16: 2831.5462 | AL16: 4457.1468 | AM16: 2990.0369 | AN16: 3154.8404 | AO16: 3192.4955 | AP16: 4099.8826 | AQ16: 3135.1433 | AR16: 2779.7412 | AS16: 2846.5017 | AT16: 3771.7374 | AU16: 3030.7215 | AV16: 3307.5015 | AW16: 3499.3462 | AX16: 4714.5851 | AY16: 4102.204 | AZ16: 4144.4329 | BA16: 3953.6052 | BB16: 4963.395 | BC16: 3972.5631 | BD16: 4143.7224 | BE16: 4196.8781 | BF16: 5376.5245 | BG16: 4168.2582 | BH16: 4360.5867 | BI16: 2928.048 | BJ16: 0 | BK16: 0
A17: Iguatemi Ribeirão Preto | B17: Iguatemi Ribeirão Preto | C17: - | D17: - | E17: - | F17: - | G17: - | H17: - | I17: - | J17: - | K17: - | L17: - | M17: - | N17: - | O17: - | P17: - | Q17: 82 | R17: 6167.0537 | S17: 4641.1082 | T17: 4721.0419 | U17: 4691.0577 | V17: 6325.2371 | W17: 5173.5595 | X17: 4884.7284 | Y17: 5087.996 | Z17: 6585.6671 | AA17: 5779.2063 | AB17: 5278.6786 | AC17: 5470.571 | AD17: 7004.9505 | AE17: 6108.517 | AF17: 5356.4921 | AG17: 5512.6921 | AH17: 6694.602 | AI17: 5672.4067 | AJ17: 5312.8967 | AK17: 5338.3468 | AL17: 7602.0454 | AM17: 6093.7081 | AN17: 6241.6727 | AO17: 6738.2014 | AP17: 8529.6462 | AQ17: 6796.1147 | AR17: 5254.366 | AS17: 5680.2379 | AT17: 7914.9785 | AU17: 6406.8688 | AV17: 6594.3007 | AW17: 7416.3742 | AX17: 10587.579 | AY17: 8993.8729 | AZ17: 9149.2109 | BA17: 9775.0129 | BB17: 11877.592 | BC17: 10047.53 | BD17: 10358.819 | BE17: 10365.043 | BF17: 12539.388 | BG17: 10274.112 | BH17: 10749.848 | BI17: 10639.704 | BJ17: 13570.979 | BK17: 10572.985
A18: Iguatemi Rio Preto | B18: Iguatemi Rio Preto | C18: - | D18: - | E18: - | F18: - | G18: - | H18: - | I18: - | J18: - | K18: - | L18: - | M18: - | N18: - | O18: - | P18: - | Q18: - | R18: - | S18: - | T18: 3658.0515 | U18: 5221.1871 | V18: 6521.9966 | W18: 5296.1331 | X18: 5082.211 | Y18: 5683.6888 | Z18: 7255.8264 | AA18: 5739.0503 | AB18: 6544.4548 | AC18: 6382.3587 | AD18: 8972.9647 | AE18: 6268.3335 | AF18: 6776.9464 | AG18: 6523.6007 | AH18: 8335.4225 | AI18: 7635.8404 | AJ18: 7745.3093 | AK18: 7824.5731 | AL18: 10081.051 | AM18: 7545.8633 | AN18: 7642.1259 | AO18: 8981.54 | AP18: 11145.022 | AQ18: 7480.7322 | AR18: 6901.5079 | AS18: 7260.2907 | AT18: 9271.534 | AU18: 7544.1101 | AV18: 9566.4562 | AW18: 9948.0827 | AX18: 13310.77 | AY18: 9944.6043 | AZ18: 11679.43 | BA18: 11270.023 | BB18: 14677.511 | BC18: 11684.978 | BD18: 11909.749 | BE18: 12018.995 | BF18: 15088.066 | BG18: 12032.336 | BH18: 12543.893 | BI18: 12203.676 | BJ18: 16143.237 | BK18: 11893.908
A19: Iguatemi Porto Alegre | B19: Iguatemi Porto Alegre | C19: 12581.151 | D19: 13567.646 | E19: 14031.803 | F19: 18104.117 | G19: 13476.842 | H19: 14427.12 | I19: 14908.691 | J19: 19218.154 | K19: 14864.123 | L19: 15967.891 | M19: 15727.998 | N19: 20214.595 | O19: 15992.098 | P19: 17221.353 | Q19: 16427.322 | R19: 21953.286 | S19: 16971.955 | T19: 17382.075 | U19: 17061.814 | V19: 23255.161 | W19: 17056.973 | X19: 17539.295 | Y19: 17521.286 | Z19: 24915.919 | AA19: 18722.69 | AB19: 21408.446 | AC19: 24753.91 | AD19: 31722.736 | AE19: 24058.971 | AF19: 25275.282 | AG19: 28193.742 | AH19: 34111.781 | AI19: 26265.787 | AJ19: 27946.875 | AK19: 27070.374 | AL19: 37908.89 | AM19: 28154.645 | AN19: 30850.956 | AO19: 30259.837 | AP19: 39765.43 | AQ19: 30627.671 | AR19: 27513.689 | AS19: 26920.261 | AT19: 35913.147 | AU19: 29325.299 | AV19: 32365.267 | AW19: 35652.091 | AX19: 49610.191 | AY19: 38478.781 | AZ19: 41861.52 | BA19: 42544.688 | BB19: 56212.776 | BC19: 44260.187 | BD19: 45531.053 | BE19: 45169.939 | BF19: 57606.414 | BG19: 43777.561 | BH19: 45208.818 | BI19: 45461.689 | BJ19: 59417.752 | BK19: 43523.126
A20: Praia de Belas | B20: Praia de Belas | C20: 5989.8834 | D20: 6438.6401 | E20: 6579.5574 | F20: 8789.0716 | G20: 6464.8887 | H20: 6973.0923 | I20: 6924.7837 | J20: 9268.7055 | K20: 6823.8305 | L20: 7403.7825 | M20: 7159.6295 | N20: 10081.058 | O20: 7265.2551 | P20: 7998.202 | Q20: 8412.6076 | R20: 11719.732 | S20: 9457.353 | T20: 10760.859 | U20: 10291.255 | V20: 13771.604 | W20: 10342.624 | X20: 11140.18 | Y20: 10641.253 | Z20: 14451.282 | AA20: 11166.627 | AB20: 11410.445 | AC20: 11173.595 | AD20: 14940.016 | AE20: 11835.448 | AF20: 12069.766 | AG20: 11831.304 | AH20: 15151.953 | AI20: 11985.866 | AJ20: 12070.882 | AK20: 12221.126 | AL20: 15726.464 | AM20: 12574.269 | AN20: 13026.202 | AO20: 12933.7 | AP20: 16915.777 | AQ20: 12970.82 | AR20: 11337.03 | AS20: 11139.363 | AT20: 14724.319 | AU20: 12210.495 | AV20: 13636.802 | AW20: 14020.878 | AX20: 18742.058 | AY20: 15936.206 | AZ20: 15014.663 | BA20: 15783.772 | BB20: 20516.921 | BC20: 15387.573 | BD20: 15436.523 | BE20: 15549.424 | BF20: 19360.333 | BG20: 15555.133 | BH20: 14871.059 | BI20: 16222.189 | BJ20: 19369.011 | BK20: 16297.368
A21: Iguatemi Florianópolis | B21: Iguatemi Florianópolis | C21: 4174.8834 | D21: 4728.7311 | E21: 4647.0211 | F21: 6139.5959 | G21: 5166.1478 | H21: 5448.0509 | I21: 5402.2324 | J21: 7050.6416 | K21: 5573.2364 | L21: 5667.4221 | M21: 5523.4807 | N21: 7446.2182 | O21: 5601.7092 | P21: 5964.5595 | Q21: 5625.9565 | R21: 7784.7272 | S21: 6053.0825 | T21: 6200.7063 | U21: 6279.8256 | V21: 8418.5674 | W21: 6018.31 | X21: 6146.7505 | Y21: 6060.8997 | Z21: 8445.4267 | AA21: 6578.8746 | AB21: 6292.5378 | AC21: 6316.5416 | AD21: 9079.6672 | AE21: 6648.9032 | AF21: 6638.0681 | AG21: 6500.0594 | AH21: 9356.4661 | AI21: 6664.1691 | AJ21: 6765.897 | AK21: 6690.1332 | AL21: 8633.1207 | AM21: 6437.4691 | AN21: 6330.362 | AO21: 6289.7622 | AP21: 0 | AQ21: 0 | AR21: 0 | AS21: 0 | AT21: 0 | AU21: 0 | AV21: 0 | AW21: 0 | AX21: 0 | AY21: 0 | AZ21: 0 | BA21: 0 | BB21: 0 | BC21: 0 | BD21: 0 | BE21: 0 | BF21: 0 | BG21: 0 | BH21: 0 | BI21: 0 | BJ21: 0 | BK21: 0
A22: Iguatemi Caxias | B22: Iguatemi Caxias | C22: - | D22: - | E22: - | F22: - | G22: - | H22: - | I22: - | J22: - | K22: 4084.4353 | L22: 4660.1344 | M22: 4788.2593 | N22: 6108.3954 | O22: 4727.8119 | P22: 5312.2168 | Q22: 5227.9755 | R22: 7113.6198 | S22: 5310.6897 | T22: 5945.3023 | U22: 5820.4981 | V22: 7843.2898 | W22: 5534.0843 | X22: 6503.6216 | Y22: 6986.5291 | Z22: 8731.1902 | AA22: 6057.1097 | AB22: 6678 | AC22: 6360.11 | AD22: 8175.8814 | AE22: 5994.4263 | AF22: 5885.3215 | AG22: 5796.8963 | AH22: 7748.0482 | AI22: 5359.0971 | AJ22: 5736.6411 | AK22: 5575.7425 | AL22: 7458.1955 | AM22: 5672.4936 | AN22: 5952.3163 | AO22: 0 | AP22: 0 | AQ22: 0 | AR22: 0 | AS22: 0 | AT22: 0 | AU22: 0 | AV22: 0 | AW22: 0 | AX22: 0 | AY22: 0 | AZ22: 0 | BA22: 0 | BB22: 0 | BC22: 0 | BD22: 0 | BE22: 0 | BF22: 0 | BG22: 0 | BH22: 0 | BI22: 0 | BJ22: 0 | BK22: 0
A23: Iguatemi Brasília | B23: Iguatemi Brasília | C23: 109.76 | D23: 5469.6669 | E23: 5733.1141 | F23: 8430.2769 | G23: 6403.0625 | H23: 7092.5302 | I23: 7196.1912 | J23: 9705.7323 | K23: 7335.9517 | L23: 7735.4718 | M23: 7671.6874 | N23: 10300.815 | O23: 7324.7366 | P23: 8168.3809 | Q23: 8279.4981 | R23: 10873.784 | S23: 7967.0798 | T23: 8571.1798 | U23: 8742.4905 | V23: 11374.538 | W23: 8858.7102 | X23: 9140.8707 | Y23: 9229.616 | Z23: 12219.749 | AA23: 9461.7079 | AB23: 9961.4334 | AC23: 9738.0139 | AD23: 12958.926 | AE23: 9913.6597 | AF23: 10124.593 | AG23: 10305.53 | AH23: 15078.846 | AI23: 9682.5138 | AJ23: 9708.3213 | AK23: 9813.8759 | AL23: 14142.835 | AM23: 9711.383 | AN23: 10390.806 | AO23: 9886.336 | AP23: 13004.108 | AQ23: 9800.7082 | AR23: 10103.442 | AS23: 9596.9671 | AT23: 12848.853 | AU23: 10209.528 | AV23: 12000.517 | AW23: 12460.104 | AX23: 17012.613 | AY23: 12926.852 | AZ23: 14281.009 | BA23: 14754.291 | BB23: 18489.516 | BC23: 14543.635 | BD23: 15456.077 | BE23: 15685.087 | BF23: 19677.814 | BG23: 15174.324 | BH23: 16204.159 | BI23: 16311.819 | BJ23: 21417.82 | BK23: 16185.288
A24: RioSul | B24: RioSul | BJ24: 41303.378 | BK24: 39101.508
A25: I Fashion Outlet Novo Hamburgo | B25: I Fashion Outlet Novo Hamburgo | C25: - | D25: - | E25: - | F25: - | G25: - | H25: - | I25: - | J25: - | K25: - | L25: - | M25: - | N25: - | O25: - | P25: - | Q25: - | R25: 1799.974 | S25: 2124.0203 | T25: 1908.1926 | U25: 2244.3737 | V25: 2983.2715 | W25: 2343.5365 | X25: 2610.9759 | Y25: 2502.1777 | Z25: 3626.4275 | AA25: 2587.263 | AB25: 2727.4815 | AC25: 2717.832 | AD25: 3758.6544 | AE25: 2683.993 | AF25: 2833.4026 | AG25: 2817.5349 | AH25: 4726.9339 | AI25: 2932.8387 | AJ25: 3005.4797 | AK25: 3149.8002 | AL25: 3688.2812 | AM25: 2677.6379 | AN25: 2999.3169 | AO25: 3012.0724 | AP25: 4089.409 | AQ25: 2700.1564 | AR25: 2321.3716 | AS25: 2561.822 | AT25: 4445.9778 | AU25: 2730.5823 | AV25: 3594.0545 | AW25: 3996.6542 | AX25: 5665.4193 | AY25: 3905.7454 | AZ25: 4802.4833 | BA25: 4556.5006 | BB25: 6103.5006 | BC25: 4437.9804 | BD25: 5235.0309 | BE25: 5310.506 | BF25: 6785.9058 | BG25: 4787.4113 | BH25: 4794.7943 | BI25: 5546.657 | BJ25: 7182.262 | BK25: 4783.2692
A26: I Fashion Outlet Santa Catarina | B26: I Fashion Outlet Santa Catarina | C26: - | D26: - | E26: - | F26: - | G26: - | H26: - | I26: - | J26: - | K26: - | L26: - | M26: - | N26: - | O26: - | P26: - | Q26: - | R26: - | S26: - | T26: - | U26: - | V26: - | W26: - | X26: - | Y26: - | Z26: - | AA26: - | AB26: - | AC26: - | AD26: - | AE26: - | AF26: - | AG26: - | AH26: - | AI26: - | AJ26: - | AK26: - | AL26: 107.15404 | AM26: 1061.6304 | AN26: 1519.2211 | AO26: 970.57337 | AP26: 1604.6379 | AQ26: 1082.1465 | AR26: 799.37699 | AS26: 1036.7847 | AT26: 1665.3587 | AU26: 1307.3732 | AV26: 1499.0702 | AW26: 1465.8851 | AX26: 2235.1589 | AY26: 1975.2277 | AZ26: 2019.1221 | BA26: 1792.6764 | BB26: 2457.5762 | BC26: 2315.2215 | BD26: 1925.0821 | BE26: 1997.1883 | BF26: 2614.0302 | BG26: 2157.0824 | BH26: 1994.4227 | BI26: 2523.9902 | BJ26: 3497.8536 | BK26: 3955.3924
A27: Power Center Iguatemi Campinas | B27: Power Center Iguatemi Campinas | C27: 352.75728 | D27: 473.56003 | E27: 928.68454 | F27: 520.53966 | G27: 664.87739 | H27: 615.74364 | I27: 642.49446 | J27: 664.78586 | K27: 777.95225 | L27: 682.69683 | M27: 781.59079 | N27: - | O27: 672.50557 | P27: 689.98957 | Q27: 773.76532 | R27: 878.23862 | S27: 799.91192 | T27: 749.80782 | U27: 808.89578 | V27: 835.62533 | W27: 835.84099 | X27: 823.65249 | Y27: 877.8187 | Z27: 934.51004 | AA27: 840.03635 | AB27: 712.93842 | AC27: 735.57408 | AD27: 899.6568 | AE27: 841.14693 | AF27: 788.77909 | AG27: 835.59338 | AH27: 987.45638 | AI27: 859 | AJ27: 769.05846 | AK27: 848.78463 | AL27: 1002.3319 | AM27: 884.09851 | AN27: 757.67889 | AO27: 759.94874 | AP27: 793.60727 | AQ27: 753.67491 | AR27: 708.77212 | AS27: 731.58842 | AT27: 823.94034 | AU27: 776.49103 | AV27: 706.1269 | AW27: 720.681 | AX27: 839.89107 | AY27: 985.50999 | AZ27: 1016.1559 | BA27: 1094.0267 | BB27: 1093.0175 | BC27: 1098.2005 | BD27: 1101.9931 | BE27: 1148.1568 | BF27: 1116.3156 | BG27: 1133.9665 | BH27: 1143.3752 | BI27: 1175.9298 | BJ27: 1197.5893 | BK27: 1188.044
A28: Market Place Torre (I & II) | B28: Market Place Tower (I & II) | C28: 5514.8325 | D28: 5551 | E28: 5631 | F28: 5757 | G28: 5849 | H28: 5943 | I28: 6095.1302 | J28: 6283 | K28: 6600 | L28: 6508 | M28: 6506 | N28: 6731 | O28: 6865 | P28: 6825 | Q28: 7031 | R28: 7803 | S28: 7508 | T28: 7321 | U28: 7735 | V28: 7013.1269 | W28: 7057 | X28: 7244 | Y28: 6335 | Z28: 6264 | AA28: 6230 | AB28: 5985 | AC28: 6154 | AD28: 6068.9353 | AE28: 6128.9082 | AF28: 6046 | AG28: 6094 | AH28: 5560.8536 | AI28: 5383.5255 | AJ28: 5349.7694 | AK28: 5445.7884 | AL28: 5682.3025 | AM28: 5080.3283 | AN28: 4151.6024 | AO28: 4402.7203 | AP28: 6288.13 | AQ28: 6064.5788 | AR28: 6726.0266 | AS28: 6329.9975 | AT28: 7269.5517 | AU28: 5945.2153 | AV28: 6585.4829 | AW28: 4239.9564 | AX28: 5272.8379 | AY28: 5639.6633 | AZ28: 5679.9537 | BA28: 5491.4809 | BB28: 5076.4842 | BC28: 5360.1489 | BD28: 5592.2466 | BE28: 5575.5685 | BF28: 5972.7993 | BG28: 6467.8193 | BH28: 6747 | BI28: 6567.944 | BJ28: 6575.5195 | BK28: 6174.52
A29: Torre Iguatemi Porto Alegre | B29: Torre Iguatemi Porto Alegre | C29: 0 | D29: 0 | E29: 0 | F29: 0 | G29: 0 | H29: 0 | I29: 0 | J29: 0 | K29: 0 | L29: 0 | M29: 0 | N29: 0 | O29: 0 | P29: 0 | Q29: 0 | R29: 0 | S29: 0 | T29: 0 | U29: 0 | V29: 0 | W29: 0 | X29: 0 | Y29: 0 | Z29: 0 | AA29: 0 | AB29: 0 | AC29: 0 | AD29: 0 | AE29: 0 | AF29: 0 | AG29: 0 | AH29: 0 | AI29: 1245.6491 | AJ29: 1485.2684 | AK29: 1543.2761 | AL29: 1605.6509 | AM29: 1771.7595 | AN29: 1890.6839 | AO29: 2026.156 | AP29: 2035.8032 | AQ29: 2219.3659 | AR29: 2316.0006 | AS29: 2378.9485 | AT29: 2423.0214 | AU29: 2419.7234 | AV29: 2429.9852 | AW29: 2384.5461 | AX29: 2537.2884 | AY29: 2632.2519 | AZ29: 2487.7022 | BA29: 2621.3932 | BB29: 2547.0238 | BC29: 2713.1762 | BD29: 2809.6054 | BE29: 2684.7984 | BF29: 2759.7621 | BG29: 2742.9824 | BH29: 2747.3403 | BI29: 2822.5535 | BJ29: 2866.5878 | BK29: 2896.6446
A30: Torre Sky Galleria | B30: Torre Sky Galleria | C30: - | D30: - | E30: - | F30: - | G30: - | H30: - | I30: - | J30: - | K30: - | L30: - | M30: - | N30: - | O30: - | P30: - | Q30: - | R30: - | S30: - | T30: - | U30: - | V30: - | W30: - | X30: - | Y30: - | Z30: - | AA30: - | AB30: - | AC30: - | AD30: - | AE30: - | AF30: - | AG30: - | AH30: - | AI30: - | AJ30: - | AK30: - | AL30: - | AM30: - | AN30: - | AO30: - | AP30: - | AQ30: - | AR30: - | AS30: - | AT30: - | AU30: - | AV30: - | AW30: - | AX30: - | AY30: - | AZ30: - | BA30: - | BB30: 2013.4205 | BC30: 2354.6046 | BD30: 3433.8937 | BE30: 2792.3226 | BF30: 3075.1989 | BG30: 3075.1989 | BH30: 3075.0663 | BI30: 3108.7211 | BJ30: 3177 | BK30: 3222.691
A31: Total | B31: Total | C31: =SUM(C8:C30) -> 77917.165 | D31: =SUM(D8:D30) -> 88571.071 | E31: =SUM(E8:E30) -> 90614.187 | F31: =SUM(F8:F30) -> 122020.07 | G31: =SUM(G8:G30) -> 92253.248 | H31: =SUM(H8:H30) -> 102995.65 | I31: =SUM(I8:I30) -> 107314.43 | J31: =SUM(J8:J30) -> 143439.09 | ... BK31: =SUM(BK8:BK30) -> 408449.95
A33: (1) Números apresentados não incluem o efeito da linearização. | B33: (1) Numbers do not include the linearization effect.
